BEGIN:VCALENDAR
PRODID:-//WikiCFP//shahidarao 1.0//EN
VERSION:2.0
CALSCALE:GREGORIAN
BEGIN:VEVENT
DTSTAMP:20260425T115708Z
DTSTART;VALUE=DATE:20130415
DTEND;VALUE=DATE:20130420
SUMMARY:CIDM 2013
DESCRIPTION:Special session on Process Mining at CIDM 2013
URL:http://www.wikicfp.com/cfp/servlet/event.showcfp?eventid=25605&copyow
 nerid=44451
UID:cfp311562-E@wikicfp.com
END:VEVENT
BEGIN:VEVENT
DTSTAMP:20260425T115708Z
DTSTART;VALUE=DATE:20121123
SUMMARY:CIDM 2013 Deadline
DESCRIPTION:Special session on Process Mining at CIDM 2013
URL:http://www.wikicfp.com/cfp/servlet/event.showcfp?eventid=25605&copyow
 nerid=44451
UID:cfp311562-D@wikicfp.com
END:VEVENT
BEGIN:VEVENT
DTSTAMP:20260425T115708Z
DTSTART;VALUE=DATE:20130105
SUMMARY:CIDM 2013 Notification Due
DESCRIPTION:Special session on Process Mining at CIDM 2013
URL:http://www.wikicfp.com/cfp/servlet/event.showcfp?eventid=25605&copyow
 nerid=44451
UID:cfp311562-N@wikicfp.com
END:VEVENT
BEGIN:VEVENT
DTSTAMP:20260425T115708Z
DTSTART;VALUE=DATE:20130205
SUMMARY:CIDM 2013 Final Version Due
DESCRIPTION:Special session on Process Mining at CIDM 2013
URL:http://www.wikicfp.com/cfp/servlet/event.showcfp?eventid=25605&copyow
 nerid=44451
UID:cfp311562-N@wikicfp.com
END:VEVENT
BEGIN:VEVENT
DTSTAMP:20260425T115708Z
DTSTART;VALUE=DATE:20130612
DTEND;VALUE=DATE:20130615
SUMMARY:WIMS 2013
DESCRIPTION:International Conference on Web Intelligence\, Mining and Sem
 antics
URL:http://www.wikicfp.com/cfp/servlet/event.showcfp?eventid=26429&copyow
 nerid=44451
UID:cfp311558-E@wikicfp.com
END:VEVENT
BEGIN:VEVENT
DTSTAMP:20260425T115708Z
DTSTART;VALUE=DATE:20130120
SUMMARY:WIMS 2013 Deadline
DESCRIPTION:International Conference on Web Intelligence\, Mining and Sem
 antics
URL:http://www.wikicfp.com/cfp/servlet/event.showcfp?eventid=26429&copyow
 nerid=44451
UID:cfp311558-D@wikicfp.com
END:VEVENT
BEGIN:VEVENT
DTSTAMP:20260425T115708Z
DTSTART;VALUE=DATE:20130318
SUMMARY:WIMS 2013 Final Version Due
DESCRIPTION:International Conference on Web Intelligence\, Mining and Sem
 antics
URL:http://www.wikicfp.com/cfp/servlet/event.showcfp?eventid=26429&copyow
 nerid=44451
UID:cfp311558-N@wikicfp.com
END:VEVENT
END:VCALENDAR
