BEGIN:VCALENDAR
PRODID:-//WikiCFP//TarikTV 1.0//EN
VERSION:2.0
CALSCALE:GREGORIAN
BEGIN:VEVENT
DTSTAMP:20260423T133734Z
DTSTART;VALUE=DATE:20130916
DTEND;VALUE=DATE:20130922
SUMMARY: NAP 2013
DESCRIPTION:International Conference âNanomaterials: Applications & Pro
 pertiesâ 2013â
URL:http://www.wikicfp.com/cfp/servlet/event.showcfp?eventid=26747&copyow
 nerid=44334
UID:cfp310359-E@wikicfp.com
END:VEVENT
BEGIN:VEVENT
DTSTAMP:20260423T133734Z
DTSTART;VALUE=DATE:20130520
SUMMARY: NAP 2013 Deadline
DESCRIPTION:International Conference âNanomaterials: Applications & Pro
 pertiesâ 2013â
URL:http://www.wikicfp.com/cfp/servlet/event.showcfp?eventid=26747&copyow
 nerid=44334
UID:cfp310359-D@wikicfp.com
END:VEVENT
BEGIN:VEVENT
DTSTAMP:20260423T133734Z
DTSTART;VALUE=DATE:20140921
DTEND;VALUE=DATE:20140928
SUMMARY:NAP 2014
DESCRIPTION:4-th International Conference Nanomaterials: Applications & P
 roperties' 2014
URL:http://www.wikicfp.com/cfp/servlet/event.showcfp?eventid=33664&copyow
 nerid=44334
UID:cfp397404-E@wikicfp.com
END:VEVENT
BEGIN:VEVENT
DTSTAMP:20260423T133734Z
DTSTART;VALUE=DATE:20140501
SUMMARY:NAP 2014 Deadline
DESCRIPTION:4-th International Conference Nanomaterials: Applications & P
 roperties' 2014
URL:http://www.wikicfp.com/cfp/servlet/event.showcfp?eventid=33664&copyow
 nerid=44334
UID:cfp397404-D@wikicfp.com
END:VEVENT
BEGIN:VEVENT
DTSTAMP:20260423T133734Z
DTSTART;VALUE=DATE:20140601
SUMMARY:NAP 2014 Final Version Due
DESCRIPTION:4-th International Conference Nanomaterials: Applications & P
 roperties' 2014
URL:http://www.wikicfp.com/cfp/servlet/event.showcfp?eventid=33664&copyow
 nerid=44334
UID:cfp397404-N@wikicfp.com
END:VEVENT
BEGIN:VEVENT
DTSTAMP:20260423T133734Z
DTSTART;VALUE=DATE:20150916
DTEND;VALUE=DATE:20150924
SUMMARY:NAP 2015
DESCRIPTION:5-th International Conference Nanomaterials: Applications & P
 ropertiesâ 2015
URL:http://www.wikicfp.com/cfp/servlet/event.showcfp?eventid=41919&copyow
 nerid=44334
UID:cfp488990-E@wikicfp.com
END:VEVENT
BEGIN:VEVENT
DTSTAMP:20260423T133734Z
DTSTART;VALUE=DATE:20150601
SUMMARY:NAP 2015 Deadline
DESCRIPTION:5-th International Conference Nanomaterials: Applications & P
 ropertiesâ 2015
URL:http://www.wikicfp.com/cfp/servlet/event.showcfp?eventid=41919&copyow
 nerid=44334
UID:cfp488990-D@wikicfp.com
END:VEVENT
BEGIN:VEVENT
DTSTAMP:20260423T133734Z
DTSTART;VALUE=DATE:20190915
DTEND;VALUE=DATE:20190921
SUMMARY:NAP 2019
DESCRIPTION:9th IEEE International Conference on Nanomaterials: Applicati
 ons & Properties
URL:http://www.wikicfp.com/cfp/servlet/event.showcfp?eventid=87215&copyow
 nerid=44334
UID:cfp776840-E@wikicfp.com
END:VEVENT
BEGIN:VEVENT
DTSTAMP:20260423T133734Z
DTSTART;VALUE=DATE:20190506
SUMMARY:NAP 2019 Deadline
DESCRIPTION:9th IEEE International Conference on Nanomaterials: Applicati
 ons & Properties
URL:http://www.wikicfp.com/cfp/servlet/event.showcfp?eventid=87215&copyow
 nerid=44334
UID:cfp776840-D@wikicfp.com
END:VEVENT
END:VCALENDAR
