BEGIN:VCALENDAR
PRODID:-//WikiCFP//Steve 1.0//EN
VERSION:2.0
CALSCALE:GREGORIAN
BEGIN:VEVENT
DTSTAMP:20260421T082829Z
DTSTART;VALUE=DATE:20130711
DTEND;VALUE=DATE:20130715
SUMMARY:ECE 2013
DESCRIPTION:The Inaugural European Conference on Education 2013
URL:http://www.wikicfp.com/cfp/servlet/event.showcfp?eventid=25902&copyow
 nerid=44052
UID:cfp308775-E@wikicfp.com
END:VEVENT
BEGIN:VEVENT
DTSTAMP:20260421T082829Z
DTSTART;VALUE=DATE:20130520
SUMMARY:ECE 2013 Deadline
DESCRIPTION:The Inaugural European Conference on Education 2013
URL:http://www.wikicfp.com/cfp/servlet/event.showcfp?eventid=25902&copyow
 nerid=44052
UID:cfp308775-D@wikicfp.com
END:VEVENT
BEGIN:VEVENT
DTSTAMP:20260421T082829Z
DTSTART;VALUE=DATE:20130901
SUMMARY:ECE 2013 Final Version Due
DESCRIPTION:The Inaugural European Conference on Education 2013
URL:http://www.wikicfp.com/cfp/servlet/event.showcfp?eventid=25902&copyow
 nerid=44052
UID:cfp308775-N@wikicfp.com
END:VEVENT
END:VCALENDAR
