BEGIN:VCALENDAR
PRODID:-//WikiCFP//althubaity 1.0//EN
VERSION:2.0
CALSCALE:GREGORIAN
BEGIN:VEVENT
DTSTAMP:20260422T205035Z
DTSTART;VALUE=DATE:20121130
SUMMARY:RIST 2013 Deadline
DESCRIPTION:Arabic Natural Language Processing: special issue of RIST Rev
 iew
URL:http://www.wikicfp.com/cfp/servlet/event.showcfp?eventid=26269&copyow
 nerid=43677
UID:cfp306581-D@wikicfp.com
END:VEVENT
BEGIN:VEVENT
DTSTAMP:20260422T205035Z
DTSTART;VALUE=DATE:20121231
SUMMARY:RIST 2013 Notification Due
DESCRIPTION:Arabic Natural Language Processing: special issue of RIST Rev
 iew
URL:http://www.wikicfp.com/cfp/servlet/event.showcfp?eventid=26269&copyow
 nerid=43677
UID:cfp306581-N@wikicfp.com
END:VEVENT
BEGIN:VEVENT
DTSTAMP:20260422T205035Z
DTSTART;VALUE=DATE:20130115
SUMMARY:RIST 2013 Final Version Due
DESCRIPTION:Arabic Natural Language Processing: special issue of RIST Rev
 iew
URL:http://www.wikicfp.com/cfp/servlet/event.showcfp?eventid=26269&copyow
 nerid=43677
UID:cfp306581-N@wikicfp.com
END:VEVENT
BEGIN:VEVENT
DTSTAMP:20260422T205035Z
DTSTART;VALUE=DATE:20130804
DTEND;VALUE=DATE:20130810
SUMMARY:ACL 2013
DESCRIPTION:The 51st Annual Meeting of the Association for Computational 
 Linguistics
URL:http://www.wikicfp.com/cfp/servlet/event.showcfp?eventid=25335&copyow
 nerid=43677
UID:cfp306580-E@wikicfp.com
END:VEVENT
BEGIN:VEVENT
DTSTAMP:20260422T205035Z
DTSTART;VALUE=DATE:20130220
SUMMARY:ACL 2013 Deadline
DESCRIPTION:The 51st Annual Meeting of the Association for Computational 
 Linguistics
URL:http://www.wikicfp.com/cfp/servlet/event.showcfp?eventid=25335&copyow
 nerid=43677
UID:cfp306580-D@wikicfp.com
END:VEVENT
BEGIN:VEVENT
DTSTAMP:20260422T205035Z
DTSTART;VALUE=DATE:20130407
SUMMARY:ACL 2013 Notification Due
DESCRIPTION:The 51st Annual Meeting of the Association for Computational 
 Linguistics
URL:http://www.wikicfp.com/cfp/servlet/event.showcfp?eventid=25335&copyow
 nerid=43677
UID:cfp306580-N@wikicfp.com
END:VEVENT
BEGIN:VEVENT
DTSTAMP:20260422T205035Z
DTSTART;VALUE=DATE:20130506
SUMMARY:ACL 2013 Final Version Due
DESCRIPTION:The 51st Annual Meeting of the Association for Computational 
 Linguistics
URL:http://www.wikicfp.com/cfp/servlet/event.showcfp?eventid=25335&copyow
 nerid=43677
UID:cfp306580-N@wikicfp.com
END:VEVENT
BEGIN:VEVENT
DTSTAMP:20260422T205035Z
DTSTART;VALUE=DATE:20140527
DTEND;VALUE=DATE:20140528
SUMMARY:OSACT 2014
DESCRIPTION:Workshop on Free/Open-Source Arabic Corpora and Corpora Proce
 ssing Tools
URL:http://www.wikicfp.com/cfp/servlet/event.showcfp?eventid=34672&copyow
 nerid=43677
UID:cfp409674-E@wikicfp.com
END:VEVENT
BEGIN:VEVENT
DTSTAMP:20260422T205035Z
DTSTART;VALUE=DATE:20140210
SUMMARY:OSACT 2014 Deadline
DESCRIPTION:Workshop on Free/Open-Source Arabic Corpora and Corpora Proce
 ssing Tools
URL:http://www.wikicfp.com/cfp/servlet/event.showcfp?eventid=34672&copyow
 nerid=43677
UID:cfp409674-D@wikicfp.com
END:VEVENT
BEGIN:VEVENT
DTSTAMP:20260422T205035Z
DTSTART;VALUE=DATE:20140310
SUMMARY:OSACT 2014 Notification Due
DESCRIPTION:Workshop on Free/Open-Source Arabic Corpora and Corpora Proce
 ssing Tools
URL:http://www.wikicfp.com/cfp/servlet/event.showcfp?eventid=34672&copyow
 nerid=43677
UID:cfp409674-N@wikicfp.com
END:VEVENT
BEGIN:VEVENT
DTSTAMP:20260422T205035Z
DTSTART;VALUE=DATE:20140321
SUMMARY:OSACT 2014 Final Version Due
DESCRIPTION:Workshop on Free/Open-Source Arabic Corpora and Corpora Proce
 ssing Tools
URL:http://www.wikicfp.com/cfp/servlet/event.showcfp?eventid=34672&copyow
 nerid=43677
UID:cfp409674-N@wikicfp.com
END:VEVENT
END:VCALENDAR
