BEGIN:VCALENDAR
PRODID:-//WikiCFP//espn 1.0//EN
VERSION:2.0
CALSCALE:GREGORIAN
BEGIN:VEVENT
DTSTAMP:20260421T020351Z
DTSTART;VALUE=DATE:20130602
DTEND;VALUE=DATE:20130607
SUMMARY:DAC 2013
DESCRIPTION:50th ACM/EDAC/IEEE Design Automation Conference (DAC)
URL:http://www.wikicfp.com/cfp/servlet/event.showcfp?eventid=20817&copyow
 nerid=43274
UID:cfp311233-E@wikicfp.com
END:VEVENT
BEGIN:VEVENT
DTSTAMP:20260421T020351Z
DTSTART;VALUE=DATE:20121127
SUMMARY:DAC 2013 Abstract Due
DESCRIPTION:50th ACM/EDAC/IEEE Design Automation Conference (DAC)
URL:http://www.wikicfp.com/cfp/servlet/event.showcfp?eventid=20817&copyow
 nerid=43274
UID:cfp311233-A@wikicfp.com
END:VEVENT
BEGIN:VEVENT
DTSTAMP:20260421T020351Z
DTSTART;VALUE=DATE:20121203
SUMMARY:DAC 2013 Deadline
DESCRIPTION:50th ACM/EDAC/IEEE Design Automation Conference (DAC)
URL:http://www.wikicfp.com/cfp/servlet/event.showcfp?eventid=20817&copyow
 nerid=43274
UID:cfp311233-D@wikicfp.com
END:VEVENT
BEGIN:VEVENT
DTSTAMP:20260421T020351Z
DTSTART;VALUE=DATE:20130502
DTEND;VALUE=DATE:20130505
SUMMARY:GLSVLSI 2013
DESCRIPTION:Great Lakes Symposium on VLSI 2013
URL:http://www.wikicfp.com/cfp/servlet/event.showcfp?eventid=25515&copyow
 nerid=43274
UID:cfp311234-E@wikicfp.com
END:VEVENT
BEGIN:VEVENT
DTSTAMP:20260421T020351Z
DTSTART;VALUE=DATE:20121215
SUMMARY:GLSVLSI 2013 Deadline
DESCRIPTION:Great Lakes Symposium on VLSI 2013
URL:http://www.wikicfp.com/cfp/servlet/event.showcfp?eventid=25515&copyow
 nerid=43274
UID:cfp311234-D@wikicfp.com
END:VEVENT
END:VCALENDAR
