BEGIN:VCALENDAR
PRODID:-//WikiCFP//sanoua20 1.0//EN
VERSION:2.0
CALSCALE:GREGORIAN
BEGIN:VEVENT
DTSTAMP:20260423T190839Z
DTSTART;VALUE=DATE:20130712
DTEND;VALUE=DATE:20130715
SUMMARY:ICCMEE 2013
DESCRIPTION:International Conference on Computer\, Mechanical and Electri
 cal Engineering
URL:http://www.wikicfp.com/cfp/servlet/event.showcfp?eventid=22872&copyow
 nerid=42381
UID:cfp296606-E@wikicfp.com
END:VEVENT
BEGIN:VEVENT
DTSTAMP:20260423T190839Z
DTSTART;VALUE=DATE:20130215
SUMMARY:ICCMEE 2013 Deadline
DESCRIPTION:International Conference on Computer\, Mechanical and Electri
 cal Engineering
URL:http://www.wikicfp.com/cfp/servlet/event.showcfp?eventid=22872&copyow
 nerid=42381
UID:cfp296606-D@wikicfp.com
END:VEVENT
BEGIN:VEVENT
DTSTAMP:20260423T190839Z
DTSTART;VALUE=DATE:20130315
SUMMARY:ICCMEE 2013 Notification Due
DESCRIPTION:International Conference on Computer\, Mechanical and Electri
 cal Engineering
URL:http://www.wikicfp.com/cfp/servlet/event.showcfp?eventid=22872&copyow
 nerid=42381
UID:cfp296606-N@wikicfp.com
END:VEVENT
BEGIN:VEVENT
DTSTAMP:20260423T190839Z
DTSTART;VALUE=DATE:20130401
SUMMARY:ICCMEE 2013 Final Version Due
DESCRIPTION:International Conference on Computer\, Mechanical and Electri
 cal Engineering
URL:http://www.wikicfp.com/cfp/servlet/event.showcfp?eventid=22872&copyow
 nerid=42381
UID:cfp296606-N@wikicfp.com
END:VEVENT
BEGIN:VEVENT
DTSTAMP:20260423T190839Z
DTSTART;VALUE=DATE:20130827
DTEND;VALUE=DATE:20130901
SUMMARY:AVSS 2013
DESCRIPTION:10th IEEE International Conference on Advanced Video and Sign
 al Based Surveillance
URL:http://www.wikicfp.com/cfp/servlet/event.showcfp?eventid=25568&copyow
 nerid=42381
UID:cfp296602-E@wikicfp.com
END:VEVENT
BEGIN:VEVENT
DTSTAMP:20260423T190839Z
DTSTART;VALUE=DATE:20130318
SUMMARY:AVSS 2013 Deadline
DESCRIPTION:10th IEEE International Conference on Advanced Video and Sign
 al Based Surveillance
URL:http://www.wikicfp.com/cfp/servlet/event.showcfp?eventid=25568&copyow
 nerid=42381
UID:cfp296602-D@wikicfp.com
END:VEVENT
BEGIN:VEVENT
DTSTAMP:20260423T190839Z
DTSTART;VALUE=DATE:20130520
SUMMARY:AVSS 2013 Notification Due
DESCRIPTION:10th IEEE International Conference on Advanced Video and Sign
 al Based Surveillance
URL:http://www.wikicfp.com/cfp/servlet/event.showcfp?eventid=25568&copyow
 nerid=42381
UID:cfp296602-N@wikicfp.com
END:VEVENT
BEGIN:VEVENT
DTSTAMP:20260423T190839Z
DTSTART;VALUE=DATE:20130617
SUMMARY:AVSS 2013 Final Version Due
DESCRIPTION:10th IEEE International Conference on Advanced Video and Sign
 al Based Surveillance
URL:http://www.wikicfp.com/cfp/servlet/event.showcfp?eventid=25568&copyow
 nerid=42381
UID:cfp296602-N@wikicfp.com
END:VEVENT
BEGIN:VEVENT
DTSTAMP:20260423T190839Z
DTSTART;VALUE=DATE:20140504
DTEND;VALUE=DATE:20140510
SUMMARY:ICASSP 2014
DESCRIPTION:IEEE International Conference on Acoustics\, Speech and Signa
 l Processing
URL:http://www.wikicfp.com/cfp/servlet/event.showcfp?eventid=14048&copyow
 nerid=42381
UID:cfp296600-E@wikicfp.com
END:VEVENT
BEGIN:VEVENT
DTSTAMP:20260423T190839Z
DTSTART;VALUE=DATE:20131104
SUMMARY:ICASSP 2014 Deadline
DESCRIPTION:IEEE International Conference on Acoustics\, Speech and Signa
 l Processing
URL:http://www.wikicfp.com/cfp/servlet/event.showcfp?eventid=14048&copyow
 nerid=42381
UID:cfp296600-D@wikicfp.com
END:VEVENT
BEGIN:VEVENT
DTSTAMP:20260423T190839Z
DTSTART;VALUE=DATE:20140127
SUMMARY:ICASSP 2014 Notification Due
DESCRIPTION:IEEE International Conference on Acoustics\, Speech and Signa
 l Processing
URL:http://www.wikicfp.com/cfp/servlet/event.showcfp?eventid=14048&copyow
 nerid=42381
UID:cfp296600-N@wikicfp.com
END:VEVENT
BEGIN:VEVENT
DTSTAMP:20260423T190839Z
DTSTART;VALUE=DATE:20140307
SUMMARY:ICASSP 2014 Final Version Due
DESCRIPTION:IEEE International Conference on Acoustics\, Speech and Signa
 l Processing
URL:http://www.wikicfp.com/cfp/servlet/event.showcfp?eventid=14048&copyow
 nerid=42381
UID:cfp296600-N@wikicfp.com
END:VEVENT
END:VCALENDAR
