BEGIN:VCALENDAR
PRODID:-//WikiCFP//FarouCFP 1.0//EN
VERSION:2.0
CALSCALE:GREGORIAN
BEGIN:VEVENT
DTSTAMP:20260419T172207Z
DTSTART;VALUE=DATE:20130422
DTEND;VALUE=DATE:20130427
SUMMARY:FG 2013
DESCRIPTION:The 10th IEEE International Conference on Automatic Face and 
 Gesture Recognition
URL:http://www.wikicfp.com/cfp/servlet/event.showcfp?eventid=20094&copyow
 nerid=42246
UID:cfp295949-E@wikicfp.com
END:VEVENT
BEGIN:VEVENT
DTSTAMP:20260419T172207Z
DTSTART;VALUE=DATE:20120921
SUMMARY:FG 2013 Deadline
DESCRIPTION:The 10th IEEE International Conference on Automatic Face and 
 Gesture Recognition
URL:http://www.wikicfp.com/cfp/servlet/event.showcfp?eventid=20094&copyow
 nerid=42246
UID:cfp295949-D@wikicfp.com
END:VEVENT
BEGIN:VEVENT
DTSTAMP:20260419T172207Z
DTSTART;VALUE=DATE:20121105
SUMMARY:FG 2013 Notification Due
DESCRIPTION:The 10th IEEE International Conference on Automatic Face and 
 Gesture Recognition
URL:http://www.wikicfp.com/cfp/servlet/event.showcfp?eventid=20094&copyow
 nerid=42246
UID:cfp295949-N@wikicfp.com
END:VEVENT
BEGIN:VEVENT
DTSTAMP:20260419T172207Z
DTSTART;VALUE=DATE:20130115
SUMMARY:FG 2013 Final Version Due
DESCRIPTION:The 10th IEEE International Conference on Automatic Face and 
 Gesture Recognition
URL:http://www.wikicfp.com/cfp/servlet/event.showcfp?eventid=20094&copyow
 nerid=42246
UID:cfp295949-N@wikicfp.com
END:VEVENT
BEGIN:VEVENT
DTSTAMP:20260419T172207Z
DTSTART;VALUE=DATE:20121129
DTEND;VALUE=DATE:20121201
SUMMARY:ICITSM 2012
DESCRIPTION:2nd International Conference  on Information Technology\, Sys
 tem & Management
URL:http://www.wikicfp.com/cfp/servlet/event.showcfp?eventid=24468&copyow
 nerid=42246
UID:cfp295952-E@wikicfp.com
END:VEVENT
BEGIN:VEVENT
DTSTAMP:20260419T172207Z
DTSTART;VALUE=DATE:20120930
SUMMARY:ICITSM 2012 Deadline
DESCRIPTION:2nd International Conference  on Information Technology\, Sys
 tem & Management
URL:http://www.wikicfp.com/cfp/servlet/event.showcfp?eventid=24468&copyow
 nerid=42246
UID:cfp295952-D@wikicfp.com
END:VEVENT
BEGIN:VEVENT
DTSTAMP:20260419T172207Z
DTSTART;VALUE=DATE:20121229
DTEND;VALUE=DATE:20121231
SUMMARY:ICCSIT 2012
DESCRIPTION:2012 5th International Conference on Computer Science and Inf
 ormation Technology
URL:http://www.wikicfp.com/cfp/servlet/event.showcfp?eventid=24446&copyow
 nerid=42246
UID:cfp295953-E@wikicfp.com
END:VEVENT
BEGIN:VEVENT
DTSTAMP:20260419T172207Z
DTSTART;VALUE=DATE:20121020
SUMMARY:ICCSIT 2012 Deadline
DESCRIPTION:2012 5th International Conference on Computer Science and Inf
 ormation Technology
URL:http://www.wikicfp.com/cfp/servlet/event.showcfp?eventid=24446&copyow
 nerid=42246
UID:cfp295953-D@wikicfp.com
END:VEVENT
BEGIN:VEVENT
DTSTAMP:20260419T172207Z
DTSTART;VALUE=DATE:20121110
SUMMARY:ICCSIT 2012 Notification Due
DESCRIPTION:2012 5th International Conference on Computer Science and Inf
 ormation Technology
URL:http://www.wikicfp.com/cfp/servlet/event.showcfp?eventid=24446&copyow
 nerid=42246
UID:cfp295953-N@wikicfp.com
END:VEVENT
BEGIN:VEVENT
DTSTAMP:20260419T172207Z
DTSTART;VALUE=DATE:20121125
SUMMARY:ICCSIT 2012 Final Version Due
DESCRIPTION:2012 5th International Conference on Computer Science and Inf
 ormation Technology
URL:http://www.wikicfp.com/cfp/servlet/event.showcfp?eventid=24446&copyow
 nerid=42246
UID:cfp295953-N@wikicfp.com
END:VEVENT
BEGIN:VEVENT
DTSTAMP:20260419T172207Z
DTSTART;VALUE=DATE:20130623
DTEND;VALUE=DATE:20130629
SUMMARY:CVPR 2013
DESCRIPTION:26th IEEE Conference on Computer Vision and Pattern Recogniti
 on
URL:http://www.wikicfp.com/cfp/servlet/event.showcfp?eventid=22376&copyow
 nerid=42246
UID:cfp295950-E@wikicfp.com
END:VEVENT
BEGIN:VEVENT
DTSTAMP:20260419T172207Z
DTSTART;VALUE=DATE:20121115
SUMMARY:CVPR 2013 Deadline
DESCRIPTION:26th IEEE Conference on Computer Vision and Pattern Recogniti
 on
URL:http://www.wikicfp.com/cfp/servlet/event.showcfp?eventid=22376&copyow
 nerid=42246
UID:cfp295950-D@wikicfp.com
END:VEVENT
BEGIN:VEVENT
DTSTAMP:20260419T172207Z
DTSTART;VALUE=DATE:20130224
SUMMARY:CVPR 2013 Notification Due
DESCRIPTION:26th IEEE Conference on Computer Vision and Pattern Recogniti
 on
URL:http://www.wikicfp.com/cfp/servlet/event.showcfp?eventid=22376&copyow
 nerid=42246
UID:cfp295950-N@wikicfp.com
END:VEVENT
END:VCALENDAR
