BEGIN:VCALENDAR
PRODID:-//WikiCFP//pluisgr 1.0//EN
VERSION:2.0
CALSCALE:GREGORIAN
BEGIN:VEVENT
DTSTAMP:20260423T065716Z
DTSTART;VALUE=DATE:20121201
DTEND;VALUE=DATE:20121204
SUMMARY:IPCCC 2012
DESCRIPTION:The 31st IEEE International Performance\, Computing\, And Com
 munication Conference 2012
URL:http://www.wikicfp.com/cfp/servlet/event.showcfp?eventid=23948&copyow
 nerid=42223
UID:cfp295855-E@wikicfp.com
END:VEVENT
BEGIN:VEVENT
DTSTAMP:20260423T065716Z
DTSTART;VALUE=DATE:20120824
SUMMARY:IPCCC 2012 Deadline
DESCRIPTION:The 31st IEEE International Performance\, Computing\, And Com
 munication Conference 2012
URL:http://www.wikicfp.com/cfp/servlet/event.showcfp?eventid=23948&copyow
 nerid=42223
UID:cfp295855-D@wikicfp.com
END:VEVENT
BEGIN:VEVENT
DTSTAMP:20260423T065716Z
DTSTART;VALUE=DATE:20120930
SUMMARY:IPCCC 2012 Notification Due
DESCRIPTION:The 31st IEEE International Performance\, Computing\, And Com
 munication Conference 2012
URL:http://www.wikicfp.com/cfp/servlet/event.showcfp?eventid=23948&copyow
 nerid=42223
UID:cfp295855-N@wikicfp.com
END:VEVENT
BEGIN:VEVENT
DTSTAMP:20260423T065716Z
DTSTART;VALUE=DATE:20121022
SUMMARY:IPCCC 2012 Final Version Due
DESCRIPTION:The 31st IEEE International Performance\, Computing\, And Com
 munication Conference 2012
URL:http://www.wikicfp.com/cfp/servlet/event.showcfp?eventid=23948&copyow
 nerid=42223
UID:cfp295855-N@wikicfp.com
END:VEVENT
BEGIN:VEVENT
DTSTAMP:20260423T065716Z
DTSTART;VALUE=DATE:20130325
DTEND;VALUE=DATE:20130329
SUMMARY:AINA 2013
DESCRIPTION:IEEE International Conference On Advanced Information Network
 ing And Applications
URL:http://www.wikicfp.com/cfp/servlet/event.showcfp?eventid=23727&copyow
 nerid=42223
UID:cfp295856-E@wikicfp.com
END:VEVENT
BEGIN:VEVENT
DTSTAMP:20260423T065716Z
DTSTART;VALUE=DATE:20120915
SUMMARY:AINA 2013 Deadline
DESCRIPTION:IEEE International Conference On Advanced Information Network
 ing And Applications
URL:http://www.wikicfp.com/cfp/servlet/event.showcfp?eventid=23727&copyow
 nerid=42223
UID:cfp295856-D@wikicfp.com
END:VEVENT
BEGIN:VEVENT
DTSTAMP:20260423T065716Z
DTSTART;VALUE=DATE:20121201
SUMMARY:AINA 2013 Notification Due
DESCRIPTION:IEEE International Conference On Advanced Information Network
 ing And Applications
URL:http://www.wikicfp.com/cfp/servlet/event.showcfp?eventid=23727&copyow
 nerid=42223
UID:cfp295856-N@wikicfp.com
END:VEVENT
BEGIN:VEVENT
DTSTAMP:20260423T065716Z
DTSTART;VALUE=DATE:20130106
SUMMARY:AINA 2013 Final Version Due
DESCRIPTION:IEEE International Conference On Advanced Information Network
 ing And Applications
URL:http://www.wikicfp.com/cfp/servlet/event.showcfp?eventid=23727&copyow
 nerid=42223
UID:cfp295856-N@wikicfp.com
END:VEVENT
END:VCALENDAR
