BEGIN:VCALENDAR
PRODID:-//WikiCFP//wedalu 1.0//EN
VERSION:2.0
CALSCALE:GREGORIAN
BEGIN:VEVENT
DTSTAMP:20260419T192544Z
DTSTART;VALUE=DATE:20120521
DTEND;VALUE=DATE:20120528
SUMMARY:LREC 2012
DESCRIPTION:8th ELRA Conference on Language Resources and Evaluation
URL:http://www.wikicfp.com/cfp/servlet/event.showcfp?eventid=18460&copyow
 nerid=41352
UID:cfp290098-E@wikicfp.com
END:VEVENT
BEGIN:VEVENT
DTSTAMP:20260419T192544Z
DTSTART;VALUE=DATE:20111015
SUMMARY:LREC 2012 Deadline
DESCRIPTION:8th ELRA Conference on Language Resources and Evaluation
URL:http://www.wikicfp.com/cfp/servlet/event.showcfp?eventid=18460&copyow
 nerid=41352
UID:cfp290098-D@wikicfp.com
END:VEVENT
BEGIN:VEVENT
DTSTAMP:20260419T192544Z
DTSTART;VALUE=DATE:20120708
DTEND;VALUE=DATE:20120715
SUMMARY:ACL 2012
DESCRIPTION:The 50th Annual Meeting of the Association for Computational 
 Linguistics
URL:http://www.wikicfp.com/cfp/servlet/event.showcfp?eventid=16337&copyow
 nerid=41352
UID:cfp290099-E@wikicfp.com
END:VEVENT
BEGIN:VEVENT
DTSTAMP:20260419T192544Z
DTSTART;VALUE=DATE:20120115
SUMMARY:ACL 2012 Deadline
DESCRIPTION:The 50th Annual Meeting of the Association for Computational 
 Linguistics
URL:http://www.wikicfp.com/cfp/servlet/event.showcfp?eventid=16337&copyow
 nerid=41352
UID:cfp290099-D@wikicfp.com
END:VEVENT
BEGIN:VEVENT
DTSTAMP:20260419T192544Z
DTSTART;VALUE=DATE:20120311
SUMMARY:ACL 2012 Notification Due
DESCRIPTION:The 50th Annual Meeting of the Association for Computational 
 Linguistics
URL:http://www.wikicfp.com/cfp/servlet/event.showcfp?eventid=16337&copyow
 nerid=41352
UID:cfp290099-N@wikicfp.com
END:VEVENT
BEGIN:VEVENT
DTSTAMP:20260419T192544Z
DTSTART;VALUE=DATE:20120812
DTEND;VALUE=DATE:20120817
SUMMARY:SIGIR 2012
DESCRIPTION:The 35th International ACM SIGIR Conference on Research and D
 evelopment in Information Retrieval 
URL:http://www.wikicfp.com/cfp/servlet/event.showcfp?eventid=18172&copyow
 nerid=41352
UID:cfp290101-E@wikicfp.com
END:VEVENT
BEGIN:VEVENT
DTSTAMP:20260419T192544Z
DTSTART;VALUE=DATE:20120206
SUMMARY:SIGIR 2012 Abstract Due
DESCRIPTION:The 35th International ACM SIGIR Conference on Research and D
 evelopment in Information Retrieval 
URL:http://www.wikicfp.com/cfp/servlet/event.showcfp?eventid=18172&copyow
 nerid=41352
UID:cfp290101-A@wikicfp.com
END:VEVENT
BEGIN:VEVENT
DTSTAMP:20260419T192544Z
DTSTART;VALUE=DATE:20120213
SUMMARY:SIGIR 2012 Deadline
DESCRIPTION:The 35th International ACM SIGIR Conference on Research and D
 evelopment in Information Retrieval 
URL:http://www.wikicfp.com/cfp/servlet/event.showcfp?eventid=18172&copyow
 nerid=41352
UID:cfp290101-D@wikicfp.com
END:VEVENT
BEGIN:VEVENT
DTSTAMP:20260419T192544Z
DTSTART;VALUE=DATE:20120430
SUMMARY:SIGIR 2012 Notification Due
DESCRIPTION:The 35th International ACM SIGIR Conference on Research and D
 evelopment in Information Retrieval 
URL:http://www.wikicfp.com/cfp/servlet/event.showcfp?eventid=18172&copyow
 nerid=41352
UID:cfp290101-N@wikicfp.com
END:VEVENT
BEGIN:VEVENT
DTSTAMP:20260419T192544Z
DTSTART;VALUE=DATE:20121004
DTEND;VALUE=DATE:20121006
SUMMARY:HLT 2012
DESCRIPTION:5th International Conference on Human Language Technologies -
  The Baltic Perspective
URL:http://www.wikicfp.com/cfp/servlet/event.showcfp?eventid=22413&copyow
 nerid=41352
UID:cfp290096-E@wikicfp.com
END:VEVENT
BEGIN:VEVENT
DTSTAMP:20260419T192544Z
DTSTART;VALUE=DATE:20120420
SUMMARY:HLT 2012 Deadline
DESCRIPTION:5th International Conference on Human Language Technologies -
  The Baltic Perspective
URL:http://www.wikicfp.com/cfp/servlet/event.showcfp?eventid=22413&copyow
 nerid=41352
UID:cfp290096-D@wikicfp.com
END:VEVENT
BEGIN:VEVENT
DTSTAMP:20260419T192544Z
DTSTART;VALUE=DATE:20120515
SUMMARY:HLT 2012 Notification Due
DESCRIPTION:5th International Conference on Human Language Technologies -
  The Baltic Perspective
URL:http://www.wikicfp.com/cfp/servlet/event.showcfp?eventid=22413&copyow
 nerid=41352
UID:cfp290096-N@wikicfp.com
END:VEVENT
BEGIN:VEVENT
DTSTAMP:20260419T192544Z
DTSTART;VALUE=DATE:20120629
SUMMARY:HLT 2012 Final Version Due
DESCRIPTION:5th International Conference on Human Language Technologies -
  The Baltic Perspective
URL:http://www.wikicfp.com/cfp/servlet/event.showcfp?eventid=22413&copyow
 nerid=41352
UID:cfp290096-N@wikicfp.com
END:VEVENT
BEGIN:VEVENT
DTSTAMP:20260419T192544Z
DTSTART;VALUE=DATE:20120920
DTEND;VALUE=DATE:20120925
SUMMARY:NLP-KE 2012
DESCRIPTION:The 8th International Conference on Natural Language Processi
 ng and Knowledge Engineering
URL:http://www.wikicfp.com/cfp/servlet/event.showcfp?eventid=20691&copyow
 nerid=41352
UID:cfp290100-E@wikicfp.com
END:VEVENT
BEGIN:VEVENT
DTSTAMP:20260419T192544Z
DTSTART;VALUE=DATE:20120515
SUMMARY:NLP-KE 2012 Deadline
DESCRIPTION:The 8th International Conference on Natural Language Processi
 ng and Knowledge Engineering
URL:http://www.wikicfp.com/cfp/servlet/event.showcfp?eventid=20691&copyow
 nerid=41352
UID:cfp290100-D@wikicfp.com
END:VEVENT
BEGIN:VEVENT
DTSTAMP:20260419T192544Z
DTSTART;VALUE=DATE:20120615
SUMMARY:NLP-KE 2012 Notification Due
DESCRIPTION:The 8th International Conference on Natural Language Processi
 ng and Knowledge Engineering
URL:http://www.wikicfp.com/cfp/servlet/event.showcfp?eventid=20691&copyow
 nerid=41352
UID:cfp290100-N@wikicfp.com
END:VEVENT
BEGIN:VEVENT
DTSTAMP:20260419T192544Z
DTSTART;VALUE=DATE:20120720
SUMMARY:NLP-KE 2012 Final Version Due
DESCRIPTION:The 8th International Conference on Natural Language Processi
 ng and Knowledge Engineering
URL:http://www.wikicfp.com/cfp/servlet/event.showcfp?eventid=20691&copyow
 nerid=41352
UID:cfp290100-N@wikicfp.com
END:VEVENT
BEGIN:VEVENT
DTSTAMP:20260419T192544Z
DTSTART;VALUE=DATE:20121208
DTEND;VALUE=DATE:20121216
SUMMARY:Coling 2012
DESCRIPTION:24th International Conference on Computational Linguistics
URL:http://www.wikicfp.com/cfp/servlet/event.showcfp?eventid=18183&copyow
 nerid=41352
UID:cfp290097-E@wikicfp.com
END:VEVENT
BEGIN:VEVENT
DTSTAMP:20260419T192544Z
DTSTART;VALUE=DATE:20120831
SUMMARY:Coling 2012 Deadline
DESCRIPTION:24th International Conference on Computational Linguistics
URL:http://www.wikicfp.com/cfp/servlet/event.showcfp?eventid=18183&copyow
 nerid=41352
UID:cfp290097-D@wikicfp.com
END:VEVENT
BEGIN:VEVENT
DTSTAMP:20260419T192544Z
DTSTART;VALUE=DATE:20121015
SUMMARY:Coling 2012 Notification Due
DESCRIPTION:24th International Conference on Computational Linguistics
URL:http://www.wikicfp.com/cfp/servlet/event.showcfp?eventid=18183&copyow
 nerid=41352
UID:cfp290097-N@wikicfp.com
END:VEVENT
BEGIN:VEVENT
DTSTAMP:20260419T192544Z
DTSTART;VALUE=DATE:20121101
SUMMARY:Coling 2012 Final Version Due
DESCRIPTION:24th International Conference on Computational Linguistics
URL:http://www.wikicfp.com/cfp/servlet/event.showcfp?eventid=18183&copyow
 nerid=41352
UID:cfp290097-N@wikicfp.com
END:VEVENT
END:VCALENDAR
