BEGIN:VCALENDAR
PRODID:-//WikiCFP//tju1 1.0//EN
VERSION:2.0
CALSCALE:GREGORIAN
BEGIN:VEVENT
DTSTAMP:20260420T174711Z
DTSTART;VALUE=DATE:20130106
DTEND;VALUE=DATE:20130109
SUMMARY:SODA 2013
DESCRIPTION:ACM-SIAM Symposium on Discrete Algorithms
URL:http://www.wikicfp.com/cfp/servlet/event.showcfp?eventid=23327&copyow
 nerid=40149
UID:cfp282863-E@wikicfp.com
END:VEVENT
BEGIN:VEVENT
DTSTAMP:20260420T174711Z
DTSTART;VALUE=DATE:20120626
SUMMARY:SODA 2013 Abstract Due
DESCRIPTION:ACM-SIAM Symposium on Discrete Algorithms
URL:http://www.wikicfp.com/cfp/servlet/event.showcfp?eventid=23327&copyow
 nerid=40149
UID:cfp282863-A@wikicfp.com
END:VEVENT
BEGIN:VEVENT
DTSTAMP:20260420T174711Z
DTSTART;VALUE=DATE:20120703
SUMMARY:SODA 2013 Deadline
DESCRIPTION:ACM-SIAM Symposium on Discrete Algorithms
URL:http://www.wikicfp.com/cfp/servlet/event.showcfp?eventid=23327&copyow
 nerid=40149
UID:cfp282863-D@wikicfp.com
END:VEVENT
END:VCALENDAR
