BEGIN:VCALENDAR
PRODID:-//WikiCFP//dejavu0923 1.0//EN
VERSION:2.0
CALSCALE:GREGORIAN
BEGIN:VEVENT
DTSTAMP:20260425T135806Z
DTSTART;VALUE=DATE:20121205
DTEND;VALUE=DATE:20121208
SUMMARY:SocInfo 2012
DESCRIPTION:The Fourth International Conference on Social Informatics
URL:http://www.wikicfp.com/cfp/servlet/event.showcfp?eventid=23259&copyow
 nerid=40122
UID:cfp282753-E@wikicfp.com
END:VEVENT
BEGIN:VEVENT
DTSTAMP:20260425T135806Z
DTSTART;VALUE=DATE:20120714
SUMMARY:SocInfo 2012 Deadline
DESCRIPTION:The Fourth International Conference on Social Informatics
URL:http://www.wikicfp.com/cfp/servlet/event.showcfp?eventid=23259&copyow
 nerid=40122
UID:cfp282753-D@wikicfp.com
END:VEVENT
BEGIN:VEVENT
DTSTAMP:20260425T135806Z
DTSTART;VALUE=DATE:20120831
SUMMARY:SocInfo 2012 Notification Due
DESCRIPTION:The Fourth International Conference on Social Informatics
URL:http://www.wikicfp.com/cfp/servlet/event.showcfp?eventid=23259&copyow
 nerid=40122
UID:cfp282753-N@wikicfp.com
END:VEVENT
BEGIN:VEVENT
DTSTAMP:20260425T135806Z
DTSTART;VALUE=DATE:20120914
SUMMARY:SocInfo 2012 Final Version Due
DESCRIPTION:The Fourth International Conference on Social Informatics
URL:http://www.wikicfp.com/cfp/servlet/event.showcfp?eventid=23259&copyow
 nerid=40122
UID:cfp282753-N@wikicfp.com
END:VEVENT
BEGIN:VEVENT
DTSTAMP:20260425T135806Z
DTSTART;VALUE=DATE:20121217
DTEND;VALUE=DATE:20121220
SUMMARY:AIRS 2012
DESCRIPTION:AIRS 2012 Call for Papers - The Eighth Asia Information Retri
 eval Societies Conference
URL:http://www.wikicfp.com/cfp/servlet/event.showcfp?eventid=22699&copyow
 nerid=40122
UID:cfp282749-E@wikicfp.com
END:VEVENT
BEGIN:VEVENT
DTSTAMP:20260425T135806Z
DTSTART;VALUE=DATE:20120722
SUMMARY:AIRS 2012 Deadline
DESCRIPTION:AIRS 2012 Call for Papers - The Eighth Asia Information Retri
 eval Societies Conference
URL:http://www.wikicfp.com/cfp/servlet/event.showcfp?eventid=22699&copyow
 nerid=40122
UID:cfp282749-D@wikicfp.com
END:VEVENT
BEGIN:VEVENT
DTSTAMP:20260425T135806Z
DTSTART;VALUE=DATE:20120831
SUMMARY:AIRS 2012 Notification Due
DESCRIPTION:AIRS 2012 Call for Papers - The Eighth Asia Information Retri
 eval Societies Conference
URL:http://www.wikicfp.com/cfp/servlet/event.showcfp?eventid=22699&copyow
 nerid=40122
UID:cfp282749-N@wikicfp.com
END:VEVENT
BEGIN:VEVENT
DTSTAMP:20260425T135806Z
DTSTART;VALUE=DATE:20120930
SUMMARY:AIRS 2012 Final Version Due
DESCRIPTION:AIRS 2012 Call for Papers - The Eighth Asia Information Retri
 eval Societies Conference
URL:http://www.wikicfp.com/cfp/servlet/event.showcfp?eventid=22699&copyow
 nerid=40122
UID:cfp282749-N@wikicfp.com
END:VEVENT
BEGIN:VEVENT
DTSTAMP:20260425T135806Z
DTSTART;VALUE=DATE:20121121
DTEND;VALUE=DATE:20121124
SUMMARY:ICT-KE 2012
DESCRIPTION:The 10th International Conference on IEEE ICT and Knowledge E
 ngineering 2012
URL:http://www.wikicfp.com/cfp/servlet/event.showcfp?eventid=23632&copyow
 nerid=40122
UID:cfp282750-E@wikicfp.com
END:VEVENT
BEGIN:VEVENT
DTSTAMP:20260425T135806Z
DTSTART;VALUE=DATE:20120815
SUMMARY:ICT-KE 2012 Deadline
DESCRIPTION:The 10th International Conference on IEEE ICT and Knowledge E
 ngineering 2012
URL:http://www.wikicfp.com/cfp/servlet/event.showcfp?eventid=23632&copyow
 nerid=40122
UID:cfp282750-D@wikicfp.com
END:VEVENT
BEGIN:VEVENT
DTSTAMP:20260425T135806Z
DTSTART;VALUE=DATE:20120915
SUMMARY:ICT-KE 2012 Notification Due
DESCRIPTION:The 10th International Conference on IEEE ICT and Knowledge E
 ngineering 2012
URL:http://www.wikicfp.com/cfp/servlet/event.showcfp?eventid=23632&copyow
 nerid=40122
UID:cfp282750-N@wikicfp.com
END:VEVENT
BEGIN:VEVENT
DTSTAMP:20260425T135806Z
DTSTART;VALUE=DATE:20120922
SUMMARY:ICT-KE 2012 Final Version Due
DESCRIPTION:The 10th International Conference on IEEE ICT and Knowledge E
 ngineering 2012
URL:http://www.wikicfp.com/cfp/servlet/event.showcfp?eventid=23632&copyow
 nerid=40122
UID:cfp282750-N@wikicfp.com
END:VEVENT
BEGIN:VEVENT
DTSTAMP:20260425T135806Z
DTSTART;VALUE=DATE:20121202
DTEND;VALUE=DATE:20121205
SUMMARY:JIST 2012
DESCRIPTION:Joint International Semantic Technology Conference
URL:http://www.wikicfp.com/cfp/servlet/event.showcfp?eventid=20827&copyow
 nerid=40122
UID:cfp282752-E@wikicfp.com
END:VEVENT
BEGIN:VEVENT
DTSTAMP:20260425T135806Z
DTSTART;VALUE=DATE:20120910
SUMMARY:JIST 2012 Deadline
DESCRIPTION:Joint International Semantic Technology Conference
URL:http://www.wikicfp.com/cfp/servlet/event.showcfp?eventid=20827&copyow
 nerid=40122
UID:cfp282752-D@wikicfp.com
END:VEVENT
BEGIN:VEVENT
DTSTAMP:20260425T135806Z
DTSTART;VALUE=DATE:20121221
DTEND;VALUE=DATE:20121223
SUMMARY:ICIMT 2012
DESCRIPTION:2012 4th International Conference on Information and Multimed
 ia Technology 
URL:http://www.wikicfp.com/cfp/servlet/event.showcfp?eventid=24262&copyow
 nerid=40122
UID:cfp282751-E@wikicfp.com
END:VEVENT
BEGIN:VEVENT
DTSTAMP:20260425T135806Z
DTSTART;VALUE=DATE:20121020
SUMMARY:ICIMT 2012 Deadline
DESCRIPTION:2012 4th International Conference on Information and Multimed
 ia Technology 
URL:http://www.wikicfp.com/cfp/servlet/event.showcfp?eventid=24262&copyow
 nerid=40122
UID:cfp282751-D@wikicfp.com
END:VEVENT
BEGIN:VEVENT
DTSTAMP:20260425T135806Z
DTSTART;VALUE=DATE:20121105
SUMMARY:ICIMT 2012 Notification Due
DESCRIPTION:2012 4th International Conference on Information and Multimed
 ia Technology 
URL:http://www.wikicfp.com/cfp/servlet/event.showcfp?eventid=24262&copyow
 nerid=40122
UID:cfp282751-N@wikicfp.com
END:VEVENT
BEGIN:VEVENT
DTSTAMP:20260425T135806Z
DTSTART;VALUE=DATE:20121120
SUMMARY:ICIMT 2012 Final Version Due
DESCRIPTION:2012 4th International Conference on Information and Multimed
 ia Technology 
URL:http://www.wikicfp.com/cfp/servlet/event.showcfp?eventid=24262&copyow
 nerid=40122
UID:cfp282751-N@wikicfp.com
END:VEVENT
END:VCALENDAR
