BEGIN:VCALENDAR
PRODID:-//WikiCFP//davidzhulijun 1.0//EN
VERSION:2.0
CALSCALE:GREGORIAN
BEGIN:VEVENT
DTSTAMP:20260423T121805Z
DTSTART;VALUE=DATE:20140831
DTEND;VALUE=DATE:20140901
SUMMARY:WGP 2014
DESCRIPTION:Workshop on Generic Programming
URL:http://www.wikicfp.com/cfp/servlet/event.showcfp?eventid=36616&copyow
 nerid=39865
UID:cfp445756-E@wikicfp.com
END:VEVENT
BEGIN:VEVENT
DTSTAMP:20260423T121805Z
DTSTART;VALUE=DATE:20140511
SUMMARY:WGP 2014 Deadline
DESCRIPTION:Workshop on Generic Programming
URL:http://www.wikicfp.com/cfp/servlet/event.showcfp?eventid=36616&copyow
 nerid=39865
UID:cfp445756-D@wikicfp.com
END:VEVENT
BEGIN:VEVENT
DTSTAMP:20260423T121805Z
DTSTART;VALUE=DATE:20140606
SUMMARY:WGP 2014 Notification Due
DESCRIPTION:Workshop on Generic Programming
URL:http://www.wikicfp.com/cfp/servlet/event.showcfp?eventid=36616&copyow
 nerid=39865
UID:cfp445756-N@wikicfp.com
END:VEVENT
BEGIN:VEVENT
DTSTAMP:20260423T121805Z
DTSTART;VALUE=DATE:20140618
SUMMARY:WGP 2014 Final Version Due
DESCRIPTION:Workshop on Generic Programming
URL:http://www.wikicfp.com/cfp/servlet/event.showcfp?eventid=36616&copyow
 nerid=39865
UID:cfp445756-N@wikicfp.com
END:VEVENT
BEGIN:VEVENT
DTSTAMP:20260423T121805Z
DTSTART;VALUE=DATE:20140908
DTEND;VALUE=DATE:20140911
SUMMARY:PPDP 2014
DESCRIPTION:International Symposium on Principles and Practice of Declara
 tive Programming
URL:http://www.wikicfp.com/cfp/servlet/event.showcfp?eventid=37737&copyow
 nerid=39865
UID:cfp445759-E@wikicfp.com
END:VEVENT
BEGIN:VEVENT
DTSTAMP:20260423T121805Z
DTSTART;VALUE=DATE:20140512
SUMMARY:PPDP 2014 Abstract Due
DESCRIPTION:International Symposium on Principles and Practice of Declara
 tive Programming
URL:http://www.wikicfp.com/cfp/servlet/event.showcfp?eventid=37737&copyow
 nerid=39865
UID:cfp445759-A@wikicfp.com
END:VEVENT
BEGIN:VEVENT
DTSTAMP:20260423T121805Z
DTSTART;VALUE=DATE:20140515
SUMMARY:PPDP 2014 Deadline
DESCRIPTION:International Symposium on Principles and Practice of Declara
 tive Programming
URL:http://www.wikicfp.com/cfp/servlet/event.showcfp?eventid=37737&copyow
 nerid=39865
UID:cfp445759-D@wikicfp.com
END:VEVENT
BEGIN:VEVENT
DTSTAMP:20260423T121805Z
DTSTART;VALUE=DATE:20140630
SUMMARY:PPDP 2014 Notification Due
DESCRIPTION:International Symposium on Principles and Practice of Declara
 tive Programming
URL:http://www.wikicfp.com/cfp/servlet/event.showcfp?eventid=37737&copyow
 nerid=39865
UID:cfp445759-N@wikicfp.com
END:VEVENT
BEGIN:VEVENT
DTSTAMP:20260423T121805Z
DTSTART;VALUE=DATE:20140915
DTEND;VALUE=DATE:20140917
SUMMARY:GPCE 2014
DESCRIPTION:Generative Programming: Concepts and Experiences
URL:http://www.wikicfp.com/cfp/servlet/event.showcfp?eventid=33558&copyow
 nerid=39865
UID:cfp445757-E@wikicfp.com
END:VEVENT
BEGIN:VEVENT
DTSTAMP:20260423T121805Z
DTSTART;VALUE=DATE:20140530
SUMMARY:GPCE 2014 Deadline
DESCRIPTION:Generative Programming: Concepts and Experiences
URL:http://www.wikicfp.com/cfp/servlet/event.showcfp?eventid=33558&copyow
 nerid=39865
UID:cfp445757-D@wikicfp.com
END:VEVENT
BEGIN:VEVENT
DTSTAMP:20260423T121805Z
DTSTART;VALUE=DATE:20141021
DTEND;VALUE=DATE:20141022
SUMMARY:DLS 2014
DESCRIPTION:Dynamic Languages Symposium 2014
URL:http://www.wikicfp.com/cfp/servlet/event.showcfp?eventid=35862&copyow
 nerid=39865
UID:cfp445758-E@wikicfp.com
END:VEVENT
BEGIN:VEVENT
DTSTAMP:20260423T121805Z
DTSTART;VALUE=DATE:20140608
SUMMARY:DLS 2014 Deadline
DESCRIPTION:Dynamic Languages Symposium 2014
URL:http://www.wikicfp.com/cfp/servlet/event.showcfp?eventid=35862&copyow
 nerid=39865
UID:cfp445758-D@wikicfp.com
END:VEVENT
BEGIN:VEVENT
DTSTAMP:20260423T121805Z
DTSTART;VALUE=DATE:20140714
SUMMARY:DLS 2014 Notification Due
DESCRIPTION:Dynamic Languages Symposium 2014
URL:http://www.wikicfp.com/cfp/servlet/event.showcfp?eventid=35862&copyow
 nerid=39865
UID:cfp445758-N@wikicfp.com
END:VEVENT
BEGIN:VEVENT
DTSTAMP:20260423T121805Z
DTSTART;VALUE=DATE:20140815
SUMMARY:DLS 2014 Final Version Due
DESCRIPTION:Dynamic Languages Symposium 2014
URL:http://www.wikicfp.com/cfp/servlet/event.showcfp?eventid=35862&copyow
 nerid=39865
UID:cfp445758-N@wikicfp.com
END:VEVENT
BEGIN:VEVENT
DTSTAMP:20260423T121805Z
DTSTART;VALUE=DATE:20141103
DTEND;VALUE=DATE:20141106
SUMMARY:CASCON 2014
DESCRIPTION:24th Annual International Conference on Computer Science and 
 Software Engineering
URL:http://www.wikicfp.com/cfp/servlet/event.showcfp?eventid=35983&copyow
 nerid=39865
UID:cfp446877-E@wikicfp.com
END:VEVENT
BEGIN:VEVENT
DTSTAMP:20260423T121805Z
DTSTART;VALUE=DATE:20140620
SUMMARY:CASCON 2014 Deadline
DESCRIPTION:24th Annual International Conference on Computer Science and 
 Software Engineering
URL:http://www.wikicfp.com/cfp/servlet/event.showcfp?eventid=35983&copyow
 nerid=39865
UID:cfp446877-D@wikicfp.com
END:VEVENT
BEGIN:VEVENT
DTSTAMP:20260423T121805Z
DTSTART;VALUE=DATE:20140906
DTEND;VALUE=DATE:20140907
SUMMARY:HIW 2014
DESCRIPTION: Haskell Implementors' Workshop 2014
URL:http://www.wikicfp.com/cfp/servlet/event.showcfp?eventid=38442&copyow
 nerid=39865
UID:cfp460683-E@wikicfp.com
END:VEVENT
BEGIN:VEVENT
DTSTAMP:20260423T121805Z
DTSTART;VALUE=DATE:20140714
SUMMARY:HIW 2014 Deadline
DESCRIPTION: Haskell Implementors' Workshop 2014
URL:http://www.wikicfp.com/cfp/servlet/event.showcfp?eventid=38442&copyow
 nerid=39865
UID:cfp460683-D@wikicfp.com
END:VEVENT
BEGIN:VEVENT
DTSTAMP:20260423T121805Z
DTSTART;VALUE=DATE:20140721
SUMMARY:HIW 2014 Notification Due
DESCRIPTION: Haskell Implementors' Workshop 2014
URL:http://www.wikicfp.com/cfp/servlet/event.showcfp?eventid=38442&copyow
 nerid=39865
UID:cfp460683-N@wikicfp.com
END:VEVENT
BEGIN:VEVENT
DTSTAMP:20260423T121805Z
DTSTART;VALUE=DATE:20140906
SUMMARY:HIW 2014 Final Version Due
DESCRIPTION: Haskell Implementors' Workshop 2014
URL:http://www.wikicfp.com/cfp/servlet/event.showcfp?eventid=38442&copyow
 nerid=39865
UID:cfp460683-N@wikicfp.com
END:VEVENT
BEGIN:VEVENT
DTSTAMP:20260423T121805Z
DTSTART;VALUE=DATE:20150516
DTEND;VALUE=DATE:20150525
SUMMARY:ICSE 2015
DESCRIPTION:37th International Conference on Software Engineering
URL:http://www.wikicfp.com/cfp/servlet/event.showcfp?eventid=37010&copyow
 nerid=39865
UID:cfp460684-E@wikicfp.com
END:VEVENT
BEGIN:VEVENT
DTSTAMP:20260423T121805Z
DTSTART;VALUE=DATE:20140905
SUMMARY:ICSE 2015 Deadline
DESCRIPTION:37th International Conference on Software Engineering
URL:http://www.wikicfp.com/cfp/servlet/event.showcfp?eventid=37010&copyow
 nerid=39865
UID:cfp460684-D@wikicfp.com
END:VEVENT
BEGIN:VEVENT
DTSTAMP:20260423T121805Z
DTSTART;VALUE=DATE:20141220
SUMMARY:ICSE 2015 Notification Due
DESCRIPTION:37th International Conference on Software Engineering
URL:http://www.wikicfp.com/cfp/servlet/event.showcfp?eventid=37010&copyow
 nerid=39865
UID:cfp460684-N@wikicfp.com
END:VEVENT
BEGIN:VEVENT
DTSTAMP:20260423T121805Z
DTSTART;VALUE=DATE:20150213
SUMMARY:ICSE 2015 Final Version Due
DESCRIPTION:37th International Conference on Software Engineering
URL:http://www.wikicfp.com/cfp/servlet/event.showcfp?eventid=37010&copyow
 nerid=39865
UID:cfp460684-N@wikicfp.com
END:VEVENT
BEGIN:VEVENT
DTSTAMP:20260423T121805Z
DTSTART;VALUE=DATE:20141227
SUMMARY:IJFCST 2014 Deadline
DESCRIPTION:International Journal in Foundations of Computer Science & Te
 chnology
URL:http://www.wikicfp.com/cfp/servlet/event.showcfp?eventid=34704&copyow
 nerid=39865
UID:cfp460687-D@wikicfp.com
END:VEVENT
BEGIN:VEVENT
DTSTAMP:20260423T121805Z
DTSTART;VALUE=DATE:20150127
SUMMARY:IJFCST 2014 Notification Due
DESCRIPTION:International Journal in Foundations of Computer Science & Te
 chnology
URL:http://www.wikicfp.com/cfp/servlet/event.showcfp?eventid=34704&copyow
 nerid=39865
UID:cfp460687-N@wikicfp.com
END:VEVENT
BEGIN:VEVENT
DTSTAMP:20260423T121805Z
DTSTART;VALUE=DATE:20150131
SUMMARY:IJFCST 2014 Final Version Due
DESCRIPTION:International Journal in Foundations of Computer Science & Te
 chnology
URL:http://www.wikicfp.com/cfp/servlet/event.showcfp?eventid=34704&copyow
 nerid=39865
UID:cfp460687-N@wikicfp.com
END:VEVENT
BEGIN:VEVENT
DTSTAMP:20260423T121805Z
DTSTART;VALUE=DATE:20150518
DTEND;VALUE=DATE:20150520
SUMMARY:ICPC 2015
DESCRIPTION:23rd International Conference on Program Comprehension
URL:http://www.wikicfp.com/cfp/servlet/event.showcfp?eventid=37280&copyow
 nerid=39865
UID:cfp460685-E@wikicfp.com
END:VEVENT
BEGIN:VEVENT
DTSTAMP:20260423T121805Z
DTSTART;VALUE=DATE:20150126
SUMMARY:ICPC 2015 Deadline
DESCRIPTION:23rd International Conference on Program Comprehension
URL:http://www.wikicfp.com/cfp/servlet/event.showcfp?eventid=37280&copyow
 nerid=39865
UID:cfp460685-D@wikicfp.com
END:VEVENT
BEGIN:VEVENT
DTSTAMP:20260423T121805Z
DTSTART;VALUE=DATE:20150309
SUMMARY:ICPC 2015 Notification Due
DESCRIPTION:23rd International Conference on Program Comprehension
URL:http://www.wikicfp.com/cfp/servlet/event.showcfp?eventid=37280&copyow
 nerid=39865
UID:cfp460685-N@wikicfp.com
END:VEVENT
BEGIN:VEVENT
DTSTAMP:20260423T121805Z
DTSTART;VALUE=DATE:20150330
SUMMARY:ICPC 2015 Final Version Due
DESCRIPTION:23rd International Conference on Program Comprehension
URL:http://www.wikicfp.com/cfp/servlet/event.showcfp?eventid=37280&copyow
 nerid=39865
UID:cfp460685-N@wikicfp.com
END:VEVENT
BEGIN:VEVENT
DTSTAMP:20260423T121805Z
DTSTART;VALUE=DATE:20150831
DTEND;VALUE=DATE:20150905
SUMMARY:ESEC/FSE 2015
DESCRIPTION:10th Joint Meeting of the European Software Engineering Confe
 rence and ACM SIGSOFT Symposium on the Foundations of Software Engineeri
 ng
URL:http://www.wikicfp.com/cfp/servlet/event.showcfp?eventid=38929&copyow
 nerid=39865
UID:cfp460686-E@wikicfp.com
END:VEVENT
BEGIN:VEVENT
DTSTAMP:20260423T121805Z
DTSTART;VALUE=DATE:20150316
SUMMARY:ESEC/FSE 2015 Deadline
DESCRIPTION:10th Joint Meeting of the European Software Engineering Confe
 rence and ACM SIGSOFT Symposium on the Foundations of Software Engineeri
 ng
URL:http://www.wikicfp.com/cfp/servlet/event.showcfp?eventid=38929&copyow
 nerid=39865
UID:cfp460686-D@wikicfp.com
END:VEVENT
END:VCALENDAR
