BEGIN:VCALENDAR
PRODID:-//WikiCFP//jgrizou 1.0//EN
VERSION:2.0
CALSCALE:GREGORIAN
BEGIN:VEVENT
DTSTAMP:20260421T110921Z
DTSTART;VALUE=DATE:20130818
DTEND;VALUE=DATE:20130823
SUMMARY:ICDL 2013
DESCRIPTION:The third joint IEEE international conference on development 
 and learning and on epigenetic robotics
URL:http://www.wikicfp.com/cfp/servlet/event.showcfp?eventid=27376&copyow
 nerid=39848
UID:cfp375559-E@wikicfp.com
END:VEVENT
BEGIN:VEVENT
DTSTAMP:20260421T110921Z
DTSTART;VALUE=DATE:20130331
SUMMARY:ICDL 2013 Deadline
DESCRIPTION:The third joint IEEE international conference on development 
 and learning and on epigenetic robotics
URL:http://www.wikicfp.com/cfp/servlet/event.showcfp?eventid=27376&copyow
 nerid=39848
UID:cfp375559-D@wikicfp.com
END:VEVENT
BEGIN:VEVENT
DTSTAMP:20260421T110921Z
DTSTART;VALUE=DATE:20130425
SUMMARY:ICDL 2013 Notification Due
DESCRIPTION:The third joint IEEE international conference on development 
 and learning and on epigenetic robotics
URL:http://www.wikicfp.com/cfp/servlet/event.showcfp?eventid=27376&copyow
 nerid=39848
UID:cfp375559-N@wikicfp.com
END:VEVENT
BEGIN:VEVENT
DTSTAMP:20260421T110921Z
DTSTART;VALUE=DATE:20130531
SUMMARY:ICDL 2013 Final Version Due
DESCRIPTION:The third joint IEEE international conference on development 
 and learning and on epigenetic robotics
URL:http://www.wikicfp.com/cfp/servlet/event.showcfp?eventid=27376&copyow
 nerid=39848
UID:cfp375559-N@wikicfp.com
END:VEVENT
BEGIN:VEVENT
DTSTAMP:20260421T110921Z
DTSTART;VALUE=DATE:20131205
DTEND;VALUE=DATE:20131211
SUMMARY:NIPS 2013
DESCRIPTION:Neural Information Processing Systems Conference
URL:http://www.wikicfp.com/cfp/servlet/event.showcfp?eventid=21361&copyow
 nerid=39848
UID:cfp375560-E@wikicfp.com
END:VEVENT
BEGIN:VEVENT
DTSTAMP:20260421T110921Z
DTSTART;VALUE=DATE:20130531
SUMMARY:NIPS 2013 Deadline
DESCRIPTION:Neural Information Processing Systems Conference
URL:http://www.wikicfp.com/cfp/servlet/event.showcfp?eventid=21361&copyow
 nerid=39848
UID:cfp375560-D@wikicfp.com
END:VEVENT
END:VCALENDAR
