BEGIN:VCALENDAR
PRODID:-//WikiCFP//hani481 1.0//EN
VERSION:2.0
CALSCALE:GREGORIAN
BEGIN:VEVENT
DTSTAMP:20260420T023310Z
DTSTART;VALUE=DATE:20120923
DTEND;VALUE=DATE:20120927
SUMMARY:MLSP 2012
DESCRIPTION:IEEE International Workshop on Machine Learning for Signal Pr
 ocessing
URL:http://www.wikicfp.com/cfp/servlet/event.showcfp?eventid=20888&copyow
 nerid=39806
UID:cfp280581-E@wikicfp.com
END:VEVENT
BEGIN:VEVENT
DTSTAMP:20260420T023310Z
DTSTART;VALUE=DATE:20120507
SUMMARY:MLSP 2012 Deadline
DESCRIPTION:IEEE International Workshop on Machine Learning for Signal Pr
 ocessing
URL:http://www.wikicfp.com/cfp/servlet/event.showcfp?eventid=20888&copyow
 nerid=39806
UID:cfp280581-D@wikicfp.com
END:VEVENT
BEGIN:VEVENT
DTSTAMP:20260420T023310Z
DTSTART;VALUE=DATE:20120625
SUMMARY:MLSP 2012 Notification Due
DESCRIPTION:IEEE International Workshop on Machine Learning for Signal Pr
 ocessing
URL:http://www.wikicfp.com/cfp/servlet/event.showcfp?eventid=20888&copyow
 nerid=39806
UID:cfp280581-N@wikicfp.com
END:VEVENT
BEGIN:VEVENT
DTSTAMP:20260420T023310Z
DTSTART;VALUE=DATE:20120815
SUMMARY:MLSP 2012 Final Version Due
DESCRIPTION:IEEE International Workshop on Machine Learning for Signal Pr
 ocessing
URL:http://www.wikicfp.com/cfp/servlet/event.showcfp?eventid=20888&copyow
 nerid=39806
UID:cfp280581-N@wikicfp.com
END:VEVENT
BEGIN:VEVENT
DTSTAMP:20260420T023310Z
DTSTART;VALUE=DATE:20130112
DTEND;VALUE=DATE:20130114
SUMMARY:ICCAE 2013
DESCRIPTION:2013 5th International Conference on Computer and Automation 
 Engineering
URL:http://www.wikicfp.com/cfp/servlet/event.showcfp?eventid=24518&copyow
 nerid=39806
UID:cfp306712-E@wikicfp.com
END:VEVENT
BEGIN:VEVENT
DTSTAMP:20260420T023310Z
DTSTART;VALUE=DATE:20121115
SUMMARY:ICCAE 2013 Deadline
DESCRIPTION:2013 5th International Conference on Computer and Automation 
 Engineering
URL:http://www.wikicfp.com/cfp/servlet/event.showcfp?eventid=24518&copyow
 nerid=39806
UID:cfp306712-D@wikicfp.com
END:VEVENT
BEGIN:VEVENT
DTSTAMP:20260420T023310Z
DTSTART;VALUE=DATE:20121205
SUMMARY:ICCAE 2013 Notification Due
DESCRIPTION:2013 5th International Conference on Computer and Automation 
 Engineering
URL:http://www.wikicfp.com/cfp/servlet/event.showcfp?eventid=24518&copyow
 nerid=39806
UID:cfp306712-N@wikicfp.com
END:VEVENT
BEGIN:VEVENT
DTSTAMP:20260420T023310Z
DTSTART;VALUE=DATE:20121220
SUMMARY:ICCAE 2013 Final Version Due
DESCRIPTION:2013 5th International Conference on Computer and Automation 
 Engineering
URL:http://www.wikicfp.com/cfp/servlet/event.showcfp?eventid=24518&copyow
 nerid=39806
UID:cfp306712-N@wikicfp.com
END:VEVENT
BEGIN:VEVENT
DTSTAMP:20260420T023310Z
DTSTART;VALUE=DATE:20131006
DTEND;VALUE=DATE:20131010
SUMMARY:ITSC 2013
DESCRIPTION:16th International IEEE Conference on Intelligent Transportat
 ion Systems
URL:http://www.wikicfp.com/cfp/servlet/event.showcfp?eventid=21341&copyow
 nerid=39806
UID:cfp281464-E@wikicfp.com
END:VEVENT
BEGIN:VEVENT
DTSTAMP:20260420T023310Z
DTSTART;VALUE=DATE:20130315
SUMMARY:ITSC 2013 Deadline
DESCRIPTION:16th International IEEE Conference on Intelligent Transportat
 ion Systems
URL:http://www.wikicfp.com/cfp/servlet/event.showcfp?eventid=21341&copyow
 nerid=39806
UID:cfp281464-D@wikicfp.com
END:VEVENT
BEGIN:VEVENT
DTSTAMP:20260420T023310Z
DTSTART;VALUE=DATE:20130601
SUMMARY:ITSC 2013 Notification Due
DESCRIPTION:16th International IEEE Conference on Intelligent Transportat
 ion Systems
URL:http://www.wikicfp.com/cfp/servlet/event.showcfp?eventid=21341&copyow
 nerid=39806
UID:cfp281464-N@wikicfp.com
END:VEVENT
BEGIN:VEVENT
DTSTAMP:20260420T023310Z
DTSTART;VALUE=DATE:20130701
SUMMARY:ITSC 2013 Final Version Due
DESCRIPTION:16th International IEEE Conference on Intelligent Transportat
 ion Systems
URL:http://www.wikicfp.com/cfp/servlet/event.showcfp?eventid=21341&copyow
 nerid=39806
UID:cfp281464-N@wikicfp.com
END:VEVENT
END:VCALENDAR
