BEGIN:VCALENDAR
PRODID:-//WikiCFP//Lars_Glavind 1.0//EN
VERSION:2.0
CALSCALE:GREGORIAN
BEGIN:VEVENT
DTSTAMP:20260421T065334Z
DTSTART;VALUE=DATE:20111028
DTEND;VALUE=DATE:20111101
SUMMARY:SENSORS 2011
DESCRIPTION:The 10th Annual IEEE Conference on Sensors
URL:http://www.wikicfp.com/cfp/servlet/event.showcfp?eventid=11237&copyow
 nerid=39363
UID:cfp277221-E@wikicfp.com
END:VEVENT
BEGIN:VEVENT
DTSTAMP:20260421T065334Z
DTSTART;VALUE=DATE:20110506
SUMMARY:SENSORS 2011 Deadline
DESCRIPTION:The 10th Annual IEEE Conference on Sensors
URL:http://www.wikicfp.com/cfp/servlet/event.showcfp?eventid=11237&copyow
 nerid=39363
UID:cfp277221-D@wikicfp.com
END:VEVENT
BEGIN:VEVENT
DTSTAMP:20260421T065334Z
DTSTART;VALUE=DATE:20110630
SUMMARY:SENSORS 2011 Notification Due
DESCRIPTION:The 10th Annual IEEE Conference on Sensors
URL:http://www.wikicfp.com/cfp/servlet/event.showcfp?eventid=11237&copyow
 nerid=39363
UID:cfp277221-N@wikicfp.com
END:VEVENT
BEGIN:VEVENT
DTSTAMP:20260421T065334Z
DTSTART;VALUE=DATE:20110730
SUMMARY:SENSORS 2011 Final Version Due
DESCRIPTION:The 10th Annual IEEE Conference on Sensors
URL:http://www.wikicfp.com/cfp/servlet/event.showcfp?eventid=11237&copyow
 nerid=39363
UID:cfp277221-N@wikicfp.com
END:VEVENT
BEGIN:VEVENT
DTSTAMP:20260421T065334Z
DTSTART;VALUE=DATE:20120131
DTEND;VALUE=DATE:20120204
SUMMARY:APOS 2012
DESCRIPTION:The 3rd Asia-Pacific Optical Sensors Conference 2012
URL:http://www.wikicfp.com/cfp/servlet/event.showcfp?eventid=20169&copyow
 nerid=39363
UID:cfp277215-E@wikicfp.com
END:VEVENT
BEGIN:VEVENT
DTSTAMP:20260421T065334Z
DTSTART;VALUE=DATE:20120112
SUMMARY:APOS 2012 Deadline
DESCRIPTION:The 3rd Asia-Pacific Optical Sensors Conference 2012
URL:http://www.wikicfp.com/cfp/servlet/event.showcfp?eventid=20169&copyow
 nerid=39363
UID:cfp277215-D@wikicfp.com
END:VEVENT
BEGIN:VEVENT
DTSTAMP:20260421T065334Z
DTSTART;VALUE=DATE:20120617
DTEND;VALUE=DATE:20120622
SUMMARY:SOF 2012
DESCRIPTION:Specialty Optical Fibers & Applications
URL:http://www.wikicfp.com/cfp/servlet/event.showcfp?eventid=20187&copyow
 nerid=39363
UID:cfp277216-E@wikicfp.com
END:VEVENT
BEGIN:VEVENT
DTSTAMP:20260421T065334Z
DTSTART;VALUE=DATE:20120214
SUMMARY:SOF 2012 Deadline
DESCRIPTION:Specialty Optical Fibers & Applications
URL:http://www.wikicfp.com/cfp/servlet/event.showcfp?eventid=20187&copyow
 nerid=39363
UID:cfp277216-D@wikicfp.com
END:VEVENT
BEGIN:VEVENT
DTSTAMP:20260421T065334Z
DTSTART;VALUE=DATE:20121015
DTEND;VALUE=DATE:20121020
SUMMARY:OFS 2012
DESCRIPTION:22nd Optical Fiber Sensors Conference
URL:http://www.wikicfp.com/cfp/servlet/event.showcfp?eventid=22794&copyow
 nerid=39363
UID:cfp277214-E@wikicfp.com
END:VEVENT
BEGIN:VEVENT
DTSTAMP:20260421T065334Z
DTSTART;VALUE=DATE:20120405
SUMMARY:OFS 2012 Deadline
DESCRIPTION:22nd Optical Fiber Sensors Conference
URL:http://www.wikicfp.com/cfp/servlet/event.showcfp?eventid=22794&copyow
 nerid=39363
UID:cfp277214-D@wikicfp.com
END:VEVENT
BEGIN:VEVENT
DTSTAMP:20260421T065334Z
DTSTART;VALUE=DATE:20120531
SUMMARY:OFS 2012 Notification Due
DESCRIPTION:22nd Optical Fiber Sensors Conference
URL:http://www.wikicfp.com/cfp/servlet/event.showcfp?eventid=22794&copyow
 nerid=39363
UID:cfp277214-N@wikicfp.com
END:VEVENT
BEGIN:VEVENT
DTSTAMP:20260421T065334Z
DTSTART;VALUE=DATE:20121028
DTEND;VALUE=DATE:20121101
SUMMARY:SENSORS 2012
DESCRIPTION:IEEE Sensors
URL:http://www.wikicfp.com/cfp/servlet/event.showcfp?eventid=15113&copyow
 nerid=39363
UID:cfp277220-E@wikicfp.com
END:VEVENT
BEGIN:VEVENT
DTSTAMP:20260421T065334Z
DTSTART;VALUE=DATE:20120504
SUMMARY:SENSORS 2012 Deadline
DESCRIPTION:IEEE Sensors
URL:http://www.wikicfp.com/cfp/servlet/event.showcfp?eventid=15113&copyow
 nerid=39363
UID:cfp277220-D@wikicfp.com
END:VEVENT
BEGIN:VEVENT
DTSTAMP:20260421T065334Z
DTSTART;VALUE=DATE:20121015
DTEND;VALUE=DATE:20121019
SUMMARY:OaM  2012
DESCRIPTION:Optics and Measurement 2012
URL:http://www.wikicfp.com/cfp/servlet/event.showcfp?eventid=22603&copyow
 nerid=39363
UID:cfp277217-E@wikicfp.com
END:VEVENT
BEGIN:VEVENT
DTSTAMP:20260421T065334Z
DTSTART;VALUE=DATE:20120710
SUMMARY:OaM  2012 Abstract Due
DESCRIPTION:Optics and Measurement 2012
URL:http://www.wikicfp.com/cfp/servlet/event.showcfp?eventid=22603&copyow
 nerid=39363
UID:cfp277217-A@wikicfp.com
END:VEVENT
BEGIN:VEVENT
DTSTAMP:20260421T065334Z
DTSTART;VALUE=DATE:20120830
SUMMARY:OaM  2012 Deadline
DESCRIPTION:Optics and Measurement 2012
URL:http://www.wikicfp.com/cfp/servlet/event.showcfp?eventid=22603&copyow
 nerid=39363
UID:cfp277217-D@wikicfp.com
END:VEVENT
BEGIN:VEVENT
DTSTAMP:20260421T065334Z
DTSTART;VALUE=DATE:20120717
SUMMARY:OaM  2012 Notification Due
DESCRIPTION:Optics and Measurement 2012
URL:http://www.wikicfp.com/cfp/servlet/event.showcfp?eventid=22603&copyow
 nerid=39363
UID:cfp277217-N@wikicfp.com
END:VEVENT
BEGIN:VEVENT
DTSTAMP:20260421T065334Z
DTSTART;VALUE=DATE:20120830
SUMMARY:OaM  2012 Final Version Due
DESCRIPTION:Optics and Measurement 2012
URL:http://www.wikicfp.com/cfp/servlet/event.showcfp?eventid=22603&copyow
 nerid=39363
UID:cfp277217-N@wikicfp.com
END:VEVENT
BEGIN:VEVENT
DTSTAMP:20260421T065334Z
DTSTART;VALUE=DATE:20120930
SUMMARY:MDPI AG - Sensors 2012 Deadline
DESCRIPTION:Special Issue: State-of-the-Art Sensors Technology in Italy 2
 012 - Sensors (ISSN 1424-8220)
URL:http://www.wikicfp.com/cfp/servlet/event.showcfp?eventid=21980&copyow
 nerid=39363
UID:cfp277218-D@wikicfp.com
END:VEVENT
BEGIN:VEVENT
DTSTAMP:20260421T065334Z
DTSTART;VALUE=DATE:20130410
DTEND;VALUE=DATE:20130413
SUMMARY:ICNSC 2013
DESCRIPTION:IEEE 10th International Conference on Networking\, Sensing an
 d Control
URL:http://www.wikicfp.com/cfp/servlet/event.showcfp?eventid=22408&copyow
 nerid=39363
UID:cfp277219-E@wikicfp.com
END:VEVENT
BEGIN:VEVENT
DTSTAMP:20260421T065334Z
DTSTART;VALUE=DATE:20120930
SUMMARY:ICNSC 2013 Deadline
DESCRIPTION:IEEE 10th International Conference on Networking\, Sensing an
 d Control
URL:http://www.wikicfp.com/cfp/servlet/event.showcfp?eventid=22408&copyow
 nerid=39363
UID:cfp277219-D@wikicfp.com
END:VEVENT
BEGIN:VEVENT
DTSTAMP:20260421T065334Z
DTSTART;VALUE=DATE:20121215
SUMMARY:ICNSC 2013 Notification Due
DESCRIPTION:IEEE 10th International Conference on Networking\, Sensing an
 d Control
URL:http://www.wikicfp.com/cfp/servlet/event.showcfp?eventid=22408&copyow
 nerid=39363
UID:cfp277219-N@wikicfp.com
END:VEVENT
BEGIN:VEVENT
DTSTAMP:20260421T065334Z
DTSTART;VALUE=DATE:20130115
SUMMARY:ICNSC 2013 Final Version Due
DESCRIPTION:IEEE 10th International Conference on Networking\, Sensing an
 d Control
URL:http://www.wikicfp.com/cfp/servlet/event.showcfp?eventid=22408&copyow
 nerid=39363
UID:cfp277219-N@wikicfp.com
END:VEVENT
END:VCALENDAR
