BEGIN:VCALENDAR
PRODID:-//WikiCFP//nana 1.0//EN
VERSION:2.0
CALSCALE:GREGORIAN
BEGIN:VEVENT
DTSTAMP:20260420T150314Z
DTSTART;VALUE=DATE:20120903
DTEND;VALUE=DATE:20120906
SUMMARY:CSSim 2012
DESCRIPTION:CSSim 2012 : 3rd International Conference on Computer Modelli
 ng and Simulation
URL:http://www.wikicfp.com/cfp/servlet/event.showcfp?eventid=23671&copyow
 nerid=39336
UID:cfp277037-E@wikicfp.com
END:VEVENT
BEGIN:VEVENT
DTSTAMP:20260420T150314Z
DTSTART;VALUE=DATE:20120608
SUMMARY:CSSim 2012 Deadline
DESCRIPTION:CSSim 2012 : 3rd International Conference on Computer Modelli
 ng and Simulation
URL:http://www.wikicfp.com/cfp/servlet/event.showcfp?eventid=23671&copyow
 nerid=39336
UID:cfp277037-D@wikicfp.com
END:VEVENT
BEGIN:VEVENT
DTSTAMP:20260420T150314Z
DTSTART;VALUE=DATE:20120630
SUMMARY:CSSim 2012 Notification Due
DESCRIPTION:CSSim 2012 : 3rd International Conference on Computer Modelli
 ng and Simulation
URL:http://www.wikicfp.com/cfp/servlet/event.showcfp?eventid=23671&copyow
 nerid=39336
UID:cfp277037-N@wikicfp.com
END:VEVENT
BEGIN:VEVENT
DTSTAMP:20260420T150314Z
DTSTART;VALUE=DATE:20120718
SUMMARY:CSSim 2012 Final Version Due
DESCRIPTION:CSSim 2012 : 3rd International Conference on Computer Modelli
 ng and Simulation
URL:http://www.wikicfp.com/cfp/servlet/event.showcfp?eventid=23671&copyow
 nerid=39336
UID:cfp277037-N@wikicfp.com
END:VEVENT
BEGIN:VEVENT
DTSTAMP:20260420T150314Z
DTSTART;VALUE=DATE:20120906
DTEND;VALUE=DATE:20120908
SUMMARY:WS-FM 2012
DESCRIPTION:9th International Workshop on Web Services and Formal Methods
 
URL:http://www.wikicfp.com/cfp/servlet/event.showcfp?eventid=22000&copyow
 nerid=39336
UID:cfp277029-E@wikicfp.com
END:VEVENT
BEGIN:VEVENT
DTSTAMP:20260420T150314Z
DTSTART;VALUE=DATE:20120602
SUMMARY:WS-FM 2012 Abstract Due
DESCRIPTION:9th International Workshop on Web Services and Formal Methods
 
URL:http://www.wikicfp.com/cfp/servlet/event.showcfp?eventid=22000&copyow
 nerid=39336
UID:cfp277029-A@wikicfp.com
END:VEVENT
BEGIN:VEVENT
DTSTAMP:20260420T150314Z
DTSTART;VALUE=DATE:20120609
SUMMARY:WS-FM 2012 Deadline
DESCRIPTION:9th International Workshop on Web Services and Formal Methods
 
URL:http://www.wikicfp.com/cfp/servlet/event.showcfp?eventid=22000&copyow
 nerid=39336
UID:cfp277029-D@wikicfp.com
END:VEVENT
BEGIN:VEVENT
DTSTAMP:20260420T150314Z
DTSTART;VALUE=DATE:20120721
SUMMARY:WS-FM 2012 Notification Due
DESCRIPTION:9th International Workshop on Web Services and Formal Methods
 
URL:http://www.wikicfp.com/cfp/servlet/event.showcfp?eventid=22000&copyow
 nerid=39336
UID:cfp277029-N@wikicfp.com
END:VEVENT
BEGIN:VEVENT
DTSTAMP:20260420T150314Z
DTSTART;VALUE=DATE:20120804
SUMMARY:WS-FM 2012 Final Version Due
DESCRIPTION:9th International Workshop on Web Services and Formal Methods
 
URL:http://www.wikicfp.com/cfp/servlet/event.showcfp?eventid=22000&copyow
 nerid=39336
UID:cfp277029-N@wikicfp.com
END:VEVENT
BEGIN:VEVENT
DTSTAMP:20260420T150314Z
DTSTART;VALUE=DATE:20121217
DTEND;VALUE=DATE:20121220
SUMMARY:ICPADS 2012
DESCRIPTION:IEEE 18th International Conference on Parallel and Distribute
 d Systems
URL:http://www.wikicfp.com/cfp/servlet/event.showcfp?eventid=22579&copyow
 nerid=39336
UID:cfp277035-E@wikicfp.com
END:VEVENT
BEGIN:VEVENT
DTSTAMP:20260420T150314Z
DTSTART;VALUE=DATE:20120615
SUMMARY:ICPADS 2012 Deadline
DESCRIPTION:IEEE 18th International Conference on Parallel and Distribute
 d Systems
URL:http://www.wikicfp.com/cfp/servlet/event.showcfp?eventid=22579&copyow
 nerid=39336
UID:cfp277035-D@wikicfp.com
END:VEVENT
BEGIN:VEVENT
DTSTAMP:20260420T150314Z
DTSTART;VALUE=DATE:20120901
SUMMARY:ICPADS 2012 Notification Due
DESCRIPTION:IEEE 18th International Conference on Parallel and Distribute
 d Systems
URL:http://www.wikicfp.com/cfp/servlet/event.showcfp?eventid=22579&copyow
 nerid=39336
UID:cfp277035-N@wikicfp.com
END:VEVENT
BEGIN:VEVENT
DTSTAMP:20260420T150314Z
DTSTART;VALUE=DATE:20121001
SUMMARY:ICPADS 2012 Final Version Due
DESCRIPTION:IEEE 18th International Conference on Parallel and Distribute
 d Systems
URL:http://www.wikicfp.com/cfp/servlet/event.showcfp?eventid=22579&copyow
 nerid=39336
UID:cfp277035-N@wikicfp.com
END:VEVENT
BEGIN:VEVENT
DTSTAMP:20260420T150314Z
DTSTART;VALUE=DATE:20121213
DTEND;VALUE=DATE:20121216
SUMMARY:CPP 2012
DESCRIPTION:The Second International Conference on Certified Programs and
  Proofs
URL:http://www.wikicfp.com/cfp/servlet/event.showcfp?eventid=22751&copyow
 nerid=39336
UID:cfp277030-E@wikicfp.com
END:VEVENT
BEGIN:VEVENT
DTSTAMP:20260420T150314Z
DTSTART;VALUE=DATE:20120608
SUMMARY:CPP 2012 Abstract Due
DESCRIPTION:The Second International Conference on Certified Programs and
  Proofs
URL:http://www.wikicfp.com/cfp/servlet/event.showcfp?eventid=22751&copyow
 nerid=39336
UID:cfp277030-A@wikicfp.com
END:VEVENT
BEGIN:VEVENT
DTSTAMP:20260420T150314Z
DTSTART;VALUE=DATE:20120615
SUMMARY:CPP 2012 Deadline
DESCRIPTION:The Second International Conference on Certified Programs and
  Proofs
URL:http://www.wikicfp.com/cfp/servlet/event.showcfp?eventid=22751&copyow
 nerid=39336
UID:cfp277030-D@wikicfp.com
END:VEVENT
BEGIN:VEVENT
DTSTAMP:20260420T150314Z
DTSTART;VALUE=DATE:20120827
SUMMARY:CPP 2012 Notification Due
DESCRIPTION:The Second International Conference on Certified Programs and
  Proofs
URL:http://www.wikicfp.com/cfp/servlet/event.showcfp?eventid=22751&copyow
 nerid=39336
UID:cfp277030-N@wikicfp.com
END:VEVENT
BEGIN:VEVENT
DTSTAMP:20260420T150314Z
DTSTART;VALUE=DATE:20120917
SUMMARY:CPP 2012 Final Version Due
DESCRIPTION:The Second International Conference on Certified Programs and
  Proofs
URL:http://www.wikicfp.com/cfp/servlet/event.showcfp?eventid=22751&copyow
 nerid=39336
UID:cfp277030-N@wikicfp.com
END:VEVENT
BEGIN:VEVENT
DTSTAMP:20260420T150314Z
DTSTART;VALUE=DATE:20120917
DTEND;VALUE=DATE:20120918
SUMMARY:PASM 2012
DESCRIPTION:Sixth International Workshop on Practical Applications of Sto
 chastic Modelling
URL:http://www.wikicfp.com/cfp/servlet/event.showcfp?eventid=21529&copyow
 nerid=39336
UID:cfp277028-E@wikicfp.com
END:VEVENT
BEGIN:VEVENT
DTSTAMP:20260420T150314Z
DTSTART;VALUE=DATE:20120701
SUMMARY:PASM 2012 Deadline
DESCRIPTION:Sixth International Workshop on Practical Applications of Sto
 chastic Modelling
URL:http://www.wikicfp.com/cfp/servlet/event.showcfp?eventid=21529&copyow
 nerid=39336
UID:cfp277028-D@wikicfp.com
END:VEVENT
BEGIN:VEVENT
DTSTAMP:20260420T150314Z
DTSTART;VALUE=DATE:20120814
SUMMARY:PASM 2012 Notification Due
DESCRIPTION:Sixth International Workshop on Practical Applications of Sto
 chastic Modelling
URL:http://www.wikicfp.com/cfp/servlet/event.showcfp?eventid=21529&copyow
 nerid=39336
UID:cfp277028-N@wikicfp.com
END:VEVENT
BEGIN:VEVENT
DTSTAMP:20260420T150314Z
DTSTART;VALUE=DATE:20120903
SUMMARY:PASM 2012 Final Version Due
DESCRIPTION:Sixth International Workshop on Practical Applications of Sto
 chastic Modelling
URL:http://www.wikicfp.com/cfp/servlet/event.showcfp?eventid=21529&copyow
 nerid=39336
UID:cfp277028-N@wikicfp.com
END:VEVENT
BEGIN:VEVENT
DTSTAMP:20260420T150314Z
DTSTART;VALUE=DATE:20121012
DTEND;VALUE=DATE:20121014
SUMMARY:SEW 2012
DESCRIPTION:35th IEEE Software Engineering Workshop
URL:http://www.wikicfp.com/cfp/servlet/event.showcfp?eventid=23037&copyow
 nerid=39336
UID:cfp277032-E@wikicfp.com
END:VEVENT
BEGIN:VEVENT
DTSTAMP:20260420T150314Z
DTSTART;VALUE=DATE:20120701
SUMMARY:SEW 2012 Deadline
DESCRIPTION:35th IEEE Software Engineering Workshop
URL:http://www.wikicfp.com/cfp/servlet/event.showcfp?eventid=23037&copyow
 nerid=39336
UID:cfp277032-D@wikicfp.com
END:VEVENT
BEGIN:VEVENT
DTSTAMP:20260420T150314Z
DTSTART;VALUE=DATE:20120817
SUMMARY:SEW 2012 Notification Due
DESCRIPTION:35th IEEE Software Engineering Workshop
URL:http://www.wikicfp.com/cfp/servlet/event.showcfp?eventid=23037&copyow
 nerid=39336
UID:cfp277032-N@wikicfp.com
END:VEVENT
BEGIN:VEVENT
DTSTAMP:20260420T150314Z
DTSTART;VALUE=DATE:20121212
SUMMARY:SEW 2012 Final Version Due
DESCRIPTION:35th IEEE Software Engineering Workshop
URL:http://www.wikicfp.com/cfp/servlet/event.showcfp?eventid=23037&copyow
 nerid=39336
UID:cfp277032-N@wikicfp.com
END:VEVENT
BEGIN:VEVENT
DTSTAMP:20260420T150314Z
DTSTART;VALUE=DATE:20121109
DTEND;VALUE=DATE:20121111
SUMMARY:HLDVT 2012
DESCRIPTION:IEEE International High-Level Design\, Validation and Test Wo
 rkshop
URL:http://www.wikicfp.com/cfp/servlet/event.showcfp?eventid=23888&copyow
 nerid=39336
UID:cfp277034-E@wikicfp.com
END:VEVENT
BEGIN:VEVENT
DTSTAMP:20260420T150314Z
DTSTART;VALUE=DATE:20120629
SUMMARY:HLDVT 2012 Abstract Due
DESCRIPTION:IEEE International High-Level Design\, Validation and Test Wo
 rkshop
URL:http://www.wikicfp.com/cfp/servlet/event.showcfp?eventid=23888&copyow
 nerid=39336
UID:cfp277034-A@wikicfp.com
END:VEVENT
BEGIN:VEVENT
DTSTAMP:20260420T150314Z
DTSTART;VALUE=DATE:20120706
SUMMARY:HLDVT 2012 Deadline
DESCRIPTION:IEEE International High-Level Design\, Validation and Test Wo
 rkshop
URL:http://www.wikicfp.com/cfp/servlet/event.showcfp?eventid=23888&copyow
 nerid=39336
UID:cfp277034-D@wikicfp.com
END:VEVENT
BEGIN:VEVENT
DTSTAMP:20260420T150314Z
DTSTART;VALUE=DATE:20120810
SUMMARY:HLDVT 2012 Notification Due
DESCRIPTION:IEEE International High-Level Design\, Validation and Test Wo
 rkshop
URL:http://www.wikicfp.com/cfp/servlet/event.showcfp?eventid=23888&copyow
 nerid=39336
UID:cfp277034-N@wikicfp.com
END:VEVENT
BEGIN:VEVENT
DTSTAMP:20260420T150314Z
DTSTART;VALUE=DATE:20120909
SUMMARY:HLDVT 2012 Final Version Due
DESCRIPTION:IEEE International High-Level Design\, Validation and Test Wo
 rkshop
URL:http://www.wikicfp.com/cfp/servlet/event.showcfp?eventid=23888&copyow
 nerid=39336
UID:cfp277034-N@wikicfp.com
END:VEVENT
BEGIN:VEVENT
DTSTAMP:20260420T150314Z
DTSTART;VALUE=DATE:20120718
SUMMARY:IEICE FA 2012 Deadline
DESCRIPTION:Special Section on Formal Approach\, IEICE Trans
URL:http://www.wikicfp.com/cfp/servlet/event.showcfp?eventid=22946&copyow
 nerid=39336
UID:cfp277031-D@wikicfp.com
END:VEVENT
BEGIN:VEVENT
DTSTAMP:20260420T150314Z
DTSTART;VALUE=DATE:20121222
SUMMARY:IEICE FA 2012 Notification Due
DESCRIPTION:Special Section on Formal Approach\, IEICE Trans
URL:http://www.wikicfp.com/cfp/servlet/event.showcfp?eventid=22946&copyow
 nerid=39336
UID:cfp277031-N@wikicfp.com
END:VEVENT
BEGIN:VEVENT
DTSTAMP:20260420T150314Z
DTSTART;VALUE=DATE:20121005
DTEND;VALUE=DATE:20121008
SUMMARY:ICSCE  2012
DESCRIPTION:2012 International Conference on Software and Computer Engine
 ering
URL:http://www.wikicfp.com/cfp/servlet/event.showcfp?eventid=21470&copyow
 nerid=39336
UID:cfp277038-E@wikicfp.com
END:VEVENT
BEGIN:VEVENT
DTSTAMP:20260420T150314Z
DTSTART;VALUE=DATE:20120725
SUMMARY:ICSCE  2012 Deadline
DESCRIPTION:2012 International Conference on Software and Computer Engine
 ering
URL:http://www.wikicfp.com/cfp/servlet/event.showcfp?eventid=21470&copyow
 nerid=39336
UID:cfp277038-D@wikicfp.com
END:VEVENT
BEGIN:VEVENT
DTSTAMP:20260420T150314Z
DTSTART;VALUE=DATE:20120815
SUMMARY:ICSCE  2012 Notification Due
DESCRIPTION:2012 International Conference on Software and Computer Engine
 ering
URL:http://www.wikicfp.com/cfp/servlet/event.showcfp?eventid=21470&copyow
 nerid=39336
UID:cfp277038-N@wikicfp.com
END:VEVENT
BEGIN:VEVENT
DTSTAMP:20260420T150314Z
DTSTART;VALUE=DATE:20120830
SUMMARY:ICSCE  2012 Final Version Due
DESCRIPTION:2012 International Conference on Software and Computer Engine
 ering
URL:http://www.wikicfp.com/cfp/servlet/event.showcfp?eventid=21470&copyow
 nerid=39336
UID:cfp277038-N@wikicfp.com
END:VEVENT
BEGIN:VEVENT
DTSTAMP:20260420T150314Z
DTSTART;VALUE=DATE:20121112
DTEND;VALUE=DATE:20121113
SUMMARY:FTSCS 2012
DESCRIPTION:First International Workshop on Formal Techniques for Safety-
 Critical Systems
URL:http://www.wikicfp.com/cfp/servlet/event.showcfp?eventid=23308&copyow
 nerid=39336
UID:cfp277033-E@wikicfp.com
END:VEVENT
BEGIN:VEVENT
DTSTAMP:20260420T150314Z
DTSTART;VALUE=DATE:20120908
SUMMARY:FTSCS 2012 Deadline
DESCRIPTION:First International Workshop on Formal Techniques for Safety-
 Critical Systems
URL:http://www.wikicfp.com/cfp/servlet/event.showcfp?eventid=23308&copyow
 nerid=39336
UID:cfp277033-D@wikicfp.com
END:VEVENT
BEGIN:VEVENT
DTSTAMP:20260420T150314Z
DTSTART;VALUE=DATE:20121001
SUMMARY:FTSCS 2012 Notification Due
DESCRIPTION:First International Workshop on Formal Techniques for Safety-
 Critical Systems
URL:http://www.wikicfp.com/cfp/servlet/event.showcfp?eventid=23308&copyow
 nerid=39336
UID:cfp277033-N@wikicfp.com
END:VEVENT
BEGIN:VEVENT
DTSTAMP:20260420T150314Z
DTSTART;VALUE=DATE:20121227
DTEND;VALUE=DATE:20121230
SUMMARY:EAS 2012
DESCRIPTION:International Conference on Engineering and Applied Science
URL:http://www.wikicfp.com/cfp/servlet/event.showcfp?eventid=21397&copyow
 nerid=39336
UID:cfp277036-E@wikicfp.com
END:VEVENT
BEGIN:VEVENT
DTSTAMP:20260420T150314Z
DTSTART;VALUE=DATE:20120930
SUMMARY:EAS 2012 Deadline
DESCRIPTION:International Conference on Engineering and Applied Science
URL:http://www.wikicfp.com/cfp/servlet/event.showcfp?eventid=21397&copyow
 nerid=39336
UID:cfp277036-D@wikicfp.com
END:VEVENT
BEGIN:VEVENT
DTSTAMP:20260420T150314Z
DTSTART;VALUE=DATE:20121015
SUMMARY:EAS 2012 Notification Due
DESCRIPTION:International Conference on Engineering and Applied Science
URL:http://www.wikicfp.com/cfp/servlet/event.showcfp?eventid=21397&copyow
 nerid=39336
UID:cfp277036-N@wikicfp.com
END:VEVENT
END:VCALENDAR
