BEGIN:VCALENDAR
PRODID:-//WikiCFP//nsenol 1.0//EN
VERSION:2.0
CALSCALE:GREGORIAN
BEGIN:VEVENT
DTSTAMP:20260421T000405Z
DTSTART;VALUE=DATE:20120927
DTEND;VALUE=DATE:20121001
SUMMARY:Psychedemia 2012
DESCRIPTION:Psychedemia: Integrating Psychedelics in Academia
URL:http://www.wikicfp.com/cfp/servlet/event.showcfp?eventid=23838&copyow
 nerid=39152
UID:cfp274551-E@wikicfp.com
END:VEVENT
BEGIN:VEVENT
DTSTAMP:20260421T000405Z
DTSTART;VALUE=DATE:20120730
SUMMARY:Psychedemia 2012 Abstract Due
DESCRIPTION:Psychedemia: Integrating Psychedelics in Academia
URL:http://www.wikicfp.com/cfp/servlet/event.showcfp?eventid=23838&copyow
 nerid=39152
UID:cfp274551-A@wikicfp.com
END:VEVENT
BEGIN:VEVENT
DTSTAMP:20260421T000405Z
DTSTART;VALUE=DATE:20120927
SUMMARY:Psychedemia 2012 Deadline
DESCRIPTION:Psychedemia: Integrating Psychedelics in Academia
URL:http://www.wikicfp.com/cfp/servlet/event.showcfp?eventid=23838&copyow
 nerid=39152
UID:cfp274551-D@wikicfp.com
END:VEVENT
BEGIN:VEVENT
DTSTAMP:20260421T000405Z
DTSTART;VALUE=DATE:20120815
SUMMARY:Psychedemia 2012 Notification Due
DESCRIPTION:Psychedemia: Integrating Psychedelics in Academia
URL:http://www.wikicfp.com/cfp/servlet/event.showcfp?eventid=23838&copyow
 nerid=39152
UID:cfp274551-N@wikicfp.com
END:VEVENT
BEGIN:VEVENT
DTSTAMP:20260421T000405Z
DTSTART;VALUE=DATE:20120927
SUMMARY:Psychedemia 2012 Final Version Due
DESCRIPTION:Psychedemia: Integrating Psychedelics in Academia
URL:http://www.wikicfp.com/cfp/servlet/event.showcfp?eventid=23838&copyow
 nerid=39152
UID:cfp274551-N@wikicfp.com
END:VEVENT
END:VCALENDAR
