BEGIN:VCALENDAR
PRODID:-//WikiCFP//eboshi 1.0//EN
VERSION:2.0
CALSCALE:GREGORIAN
BEGIN:VEVENT
DTSTAMP:20260420T161830Z
DTSTART;VALUE=DATE:20120818
DTEND;VALUE=DATE:20120820
SUMMARY:ICCRC 2012
DESCRIPTION:2012 International Conference on Control\, Robotics and Cyber
 netics
URL:http://www.wikicfp.com/cfp/servlet/event.showcfp?eventid=23105&copyow
 nerid=38670
UID:cfp273292-E@wikicfp.com
END:VEVENT
BEGIN:VEVENT
DTSTAMP:20260420T161830Z
DTSTART;VALUE=DATE:20120630
SUMMARY:ICCRC 2012 Deadline
DESCRIPTION:2012 International Conference on Control\, Robotics and Cyber
 netics
URL:http://www.wikicfp.com/cfp/servlet/event.showcfp?eventid=23105&copyow
 nerid=38670
UID:cfp273292-D@wikicfp.com
END:VEVENT
BEGIN:VEVENT
DTSTAMP:20260420T161830Z
DTSTART;VALUE=DATE:20120715
SUMMARY:ICCRC 2012 Notification Due
DESCRIPTION:2012 International Conference on Control\, Robotics and Cyber
 netics
URL:http://www.wikicfp.com/cfp/servlet/event.showcfp?eventid=23105&copyow
 nerid=38670
UID:cfp273292-N@wikicfp.com
END:VEVENT
BEGIN:VEVENT
DTSTAMP:20260420T161830Z
DTSTART;VALUE=DATE:20120725
SUMMARY:ICCRC 2012 Final Version Due
DESCRIPTION:2012 International Conference on Control\, Robotics and Cyber
 netics
URL:http://www.wikicfp.com/cfp/servlet/event.showcfp?eventid=23105&copyow
 nerid=38670
UID:cfp273292-N@wikicfp.com
END:VEVENT
BEGIN:VEVENT
DTSTAMP:20260420T161830Z
DTSTART;VALUE=DATE:20121106
DTEND;VALUE=DATE:20121107
SUMMARY:BuildSys 2012
DESCRIPTION:4th ACM Workshop on Embedded Sensing Systems for Energy-Effic
 iency in Buildings
URL:http://www.wikicfp.com/cfp/servlet/event.showcfp?eventid=23521&copyow
 nerid=38670
UID:cfp273291-E@wikicfp.com
END:VEVENT
BEGIN:VEVENT
DTSTAMP:20260420T161830Z
DTSTART;VALUE=DATE:20120730
SUMMARY:BuildSys 2012 Deadline
DESCRIPTION:4th ACM Workshop on Embedded Sensing Systems for Energy-Effic
 iency in Buildings
URL:http://www.wikicfp.com/cfp/servlet/event.showcfp?eventid=23521&copyow
 nerid=38670
UID:cfp273291-D@wikicfp.com
END:VEVENT
BEGIN:VEVENT
DTSTAMP:20260420T161830Z
DTSTART;VALUE=DATE:20120914
SUMMARY:BuildSys 2012 Notification Due
DESCRIPTION:4th ACM Workshop on Embedded Sensing Systems for Energy-Effic
 iency in Buildings
URL:http://www.wikicfp.com/cfp/servlet/event.showcfp?eventid=23521&copyow
 nerid=38670
UID:cfp273291-N@wikicfp.com
END:VEVENT
BEGIN:VEVENT
DTSTAMP:20260420T161830Z
DTSTART;VALUE=DATE:20121001
SUMMARY:BuildSys 2012 Final Version Due
DESCRIPTION:4th ACM Workshop on Embedded Sensing Systems for Energy-Effic
 iency in Buildings
URL:http://www.wikicfp.com/cfp/servlet/event.showcfp?eventid=23521&copyow
 nerid=38670
UID:cfp273291-N@wikicfp.com
END:VEVENT
END:VCALENDAR
