BEGIN:VCALENDAR
PRODID:-//WikiCFP//alinna 1.0//EN
VERSION:2.0
CALSCALE:GREGORIAN
BEGIN:VEVENT
DTSTAMP:20260419T130634Z
DTSTART;VALUE=DATE:20120723
DTEND;VALUE=DATE:20120725
SUMMARY:ICSMR 2012
DESCRIPTION:2012 2nd International Conference on Strategy Management and 
 Research
URL:http://www.wikicfp.com/cfp/servlet/event.showcfp?eventid=21594&copyow
 nerid=37653
UID:cfp267117-E@wikicfp.com
END:VEVENT
BEGIN:VEVENT
DTSTAMP:20260419T130634Z
DTSTART;VALUE=DATE:20120515
SUMMARY:ICSMR 2012 Deadline
DESCRIPTION:2012 2nd International Conference on Strategy Management and 
 Research
URL:http://www.wikicfp.com/cfp/servlet/event.showcfp?eventid=21594&copyow
 nerid=37653
UID:cfp267117-D@wikicfp.com
END:VEVENT
BEGIN:VEVENT
DTSTAMP:20260419T130634Z
DTSTART;VALUE=DATE:20120605
SUMMARY:ICSMR 2012 Notification Due
DESCRIPTION:2012 2nd International Conference on Strategy Management and 
 Research
URL:http://www.wikicfp.com/cfp/servlet/event.showcfp?eventid=21594&copyow
 nerid=37653
UID:cfp267117-N@wikicfp.com
END:VEVENT
BEGIN:VEVENT
DTSTAMP:20260419T130634Z
DTSTART;VALUE=DATE:20120620
SUMMARY:ICSMR 2012 Final Version Due
DESCRIPTION:2012 2nd International Conference on Strategy Management and 
 Research
URL:http://www.wikicfp.com/cfp/servlet/event.showcfp?eventid=21594&copyow
 nerid=37653
UID:cfp267117-N@wikicfp.com
END:VEVENT
BEGIN:VEVENT
DTSTAMP:20260419T130634Z
DTSTART;VALUE=DATE:20120804
DTEND;VALUE=DATE:20120806
SUMMARY:ICIMS  2012
DESCRIPTION:2012 3rd International Conference on Innovation\, Management 
 and Service
URL:http://www.wikicfp.com/cfp/servlet/event.showcfp?eventid=22304&copyow
 nerid=37653
UID:cfp267118-E@wikicfp.com
END:VEVENT
BEGIN:VEVENT
DTSTAMP:20260419T130634Z
DTSTART;VALUE=DATE:20120515
SUMMARY:ICIMS  2012 Deadline
DESCRIPTION:2012 3rd International Conference on Innovation\, Management 
 and Service
URL:http://www.wikicfp.com/cfp/servlet/event.showcfp?eventid=22304&copyow
 nerid=37653
UID:cfp267118-D@wikicfp.com
END:VEVENT
BEGIN:VEVENT
DTSTAMP:20260419T130634Z
DTSTART;VALUE=DATE:20120530
SUMMARY:ICIMS  2012 Notification Due
DESCRIPTION:2012 3rd International Conference on Innovation\, Management 
 and Service
URL:http://www.wikicfp.com/cfp/servlet/event.showcfp?eventid=22304&copyow
 nerid=37653
UID:cfp267118-N@wikicfp.com
END:VEVENT
BEGIN:VEVENT
DTSTAMP:20260419T130634Z
DTSTART;VALUE=DATE:20120615
SUMMARY:ICIMS  2012 Final Version Due
DESCRIPTION:2012 3rd International Conference on Innovation\, Management 
 and Service
URL:http://www.wikicfp.com/cfp/servlet/event.showcfp?eventid=22304&copyow
 nerid=37653
UID:cfp267118-N@wikicfp.com
END:VEVENT
BEGIN:VEVENT
DTSTAMP:20260419T130634Z
DTSTART;VALUE=DATE:20120727
DTEND;VALUE=DATE:20120731
SUMMARY:ASMOR 2012
DESCRIPTION:2012 Annual Symposium on Management and Operations Research
URL:http://www.wikicfp.com/cfp/servlet/event.showcfp?eventid=23066&copyow
 nerid=37653
UID:cfp267119-E@wikicfp.com
END:VEVENT
BEGIN:VEVENT
DTSTAMP:20260419T130634Z
DTSTART;VALUE=DATE:20120531
SUMMARY:ASMOR 2012 Deadline
DESCRIPTION:2012 Annual Symposium on Management and Operations Research
URL:http://www.wikicfp.com/cfp/servlet/event.showcfp?eventid=23066&copyow
 nerid=37653
UID:cfp267119-D@wikicfp.com
END:VEVENT
BEGIN:VEVENT
DTSTAMP:20260419T130634Z
DTSTART;VALUE=DATE:20120602
DTEND;VALUE=DATE:20120603
SUMMARY:ICMBI 2012
DESCRIPTION:2012 International Conference on Management\, Business and In
 formation
URL:http://www.wikicfp.com/cfp/servlet/event.showcfp?eventid=15225&copyow
 nerid=37653
UID:cfp267120-E@wikicfp.com
END:VEVENT
BEGIN:VEVENT
DTSTAMP:20260419T130634Z
DTSTART;VALUE=DATE:20120601
SUMMARY:ICMBI 2012 Deadline
DESCRIPTION:2012 International Conference on Management\, Business and In
 formation
URL:http://www.wikicfp.com/cfp/servlet/event.showcfp?eventid=15225&copyow
 nerid=37653
UID:cfp267120-D@wikicfp.com
END:VEVENT
BEGIN:VEVENT
DTSTAMP:20260419T130634Z
DTSTART;VALUE=DATE:20120601
SUMMARY:ICMBI 2012 Notification Due
DESCRIPTION:2012 International Conference on Management\, Business and In
 formation
URL:http://www.wikicfp.com/cfp/servlet/event.showcfp?eventid=15225&copyow
 nerid=37653
UID:cfp267120-N@wikicfp.com
END:VEVENT
BEGIN:VEVENT
DTSTAMP:20260419T130634Z
DTSTART;VALUE=DATE:20120601
SUMMARY:ICMBI 2012 Final Version Due
DESCRIPTION:2012 International Conference on Management\, Business and In
 formation
URL:http://www.wikicfp.com/cfp/servlet/event.showcfp?eventid=15225&copyow
 nerid=37653
UID:cfp267120-N@wikicfp.com
END:VEVENT
BEGIN:VEVENT
DTSTAMP:20260419T130634Z
DTSTART;VALUE=DATE:20121004
DTEND;VALUE=DATE:20121007
SUMMARY:International and Contemporary Business 2012
DESCRIPTION:19th Annual Conference on International Business and Contempo
 rary Issues in Business 
URL:http://www.wikicfp.com/cfp/servlet/event.showcfp?eventid=22689&copyow
 nerid=37653
UID:cfp267127-E@wikicfp.com
END:VEVENT
BEGIN:VEVENT
DTSTAMP:20260419T130634Z
DTSTART;VALUE=DATE:20120630
SUMMARY:International and Contemporary Business 2012 Deadline
DESCRIPTION:19th Annual Conference on International Business and Contempo
 rary Issues in Business 
URL:http://www.wikicfp.com/cfp/servlet/event.showcfp?eventid=22689&copyow
 nerid=37653
UID:cfp267127-D@wikicfp.com
END:VEVENT
BEGIN:VEVENT
DTSTAMP:20260419T130634Z
DTSTART;VALUE=DATE:20120928
DTEND;VALUE=DATE:20120930
SUMMARY:ICBER 2012
DESCRIPTION:2012 2nd International Conference on Business and Economics R
 esearch 
URL:http://www.wikicfp.com/cfp/servlet/event.showcfp?eventid=22702&copyow
 nerid=37653
UID:cfp267125-E@wikicfp.com
END:VEVENT
BEGIN:VEVENT
DTSTAMP:20260419T130634Z
DTSTART;VALUE=DATE:20120720
SUMMARY:ICBER 2012 Deadline
DESCRIPTION:2012 2nd International Conference on Business and Economics R
 esearch 
URL:http://www.wikicfp.com/cfp/servlet/event.showcfp?eventid=22702&copyow
 nerid=37653
UID:cfp267125-D@wikicfp.com
END:VEVENT
BEGIN:VEVENT
DTSTAMP:20260419T130634Z
DTSTART;VALUE=DATE:20120810
SUMMARY:ICBER 2012 Notification Due
DESCRIPTION:2012 2nd International Conference on Business and Economics R
 esearch 
URL:http://www.wikicfp.com/cfp/servlet/event.showcfp?eventid=22702&copyow
 nerid=37653
UID:cfp267125-N@wikicfp.com
END:VEVENT
BEGIN:VEVENT
DTSTAMP:20260419T130634Z
DTSTART;VALUE=DATE:20120825
SUMMARY:ICBER 2012 Final Version Due
DESCRIPTION:2012 2nd International Conference on Business and Economics R
 esearch 
URL:http://www.wikicfp.com/cfp/servlet/event.showcfp?eventid=22702&copyow
 nerid=37653
UID:cfp267125-N@wikicfp.com
END:VEVENT
BEGIN:VEVENT
DTSTAMP:20260419T130634Z
DTSTART;VALUE=DATE:20121027
DTEND;VALUE=DATE:20121029
SUMMARY:ICEME 2012
DESCRIPTION:2012 3rd International Conference on E-business\, Management 
 and Economics
URL:http://www.wikicfp.com/cfp/servlet/event.showcfp?eventid=22986&copyow
 nerid=37653
UID:cfp267128-E@wikicfp.com
END:VEVENT
BEGIN:VEVENT
DTSTAMP:20260419T130634Z
DTSTART;VALUE=DATE:20120820
SUMMARY:ICEME 2012 Deadline
DESCRIPTION:2012 3rd International Conference on E-business\, Management 
 and Economics
URL:http://www.wikicfp.com/cfp/servlet/event.showcfp?eventid=22986&copyow
 nerid=37653
UID:cfp267128-D@wikicfp.com
END:VEVENT
BEGIN:VEVENT
DTSTAMP:20260419T130634Z
DTSTART;VALUE=DATE:20120905
SUMMARY:ICEME 2012 Notification Due
DESCRIPTION:2012 3rd International Conference on E-business\, Management 
 and Economics
URL:http://www.wikicfp.com/cfp/servlet/event.showcfp?eventid=22986&copyow
 nerid=37653
UID:cfp267128-N@wikicfp.com
END:VEVENT
BEGIN:VEVENT
DTSTAMP:20260419T130634Z
DTSTART;VALUE=DATE:20120920
SUMMARY:ICEME 2012 Final Version Due
DESCRIPTION:2012 3rd International Conference on E-business\, Management 
 and Economics
URL:http://www.wikicfp.com/cfp/servlet/event.showcfp?eventid=22986&copyow
 nerid=37653
UID:cfp267128-N@wikicfp.com
END:VEVENT
BEGIN:VEVENT
DTSTAMP:20260419T130634Z
DTSTART;VALUE=DATE:20121027
DTEND;VALUE=DATE:20121029
SUMMARY:CBETM 2012
DESCRIPTION:2012 3rd International Conference on Business\, Economics and
  Tourism Management 
URL:http://www.wikicfp.com/cfp/servlet/event.showcfp?eventid=22989&copyow
 nerid=37653
UID:cfp267121-E@wikicfp.com
END:VEVENT
BEGIN:VEVENT
DTSTAMP:20260419T130634Z
DTSTART;VALUE=DATE:20120820
SUMMARY:CBETM 2012 Deadline
DESCRIPTION:2012 3rd International Conference on Business\, Economics and
  Tourism Management 
URL:http://www.wikicfp.com/cfp/servlet/event.showcfp?eventid=22989&copyow
 nerid=37653
UID:cfp267121-D@wikicfp.com
END:VEVENT
BEGIN:VEVENT
DTSTAMP:20260419T130634Z
DTSTART;VALUE=DATE:20120905
SUMMARY:CBETM 2012 Notification Due
DESCRIPTION:2012 3rd International Conference on Business\, Economics and
  Tourism Management 
URL:http://www.wikicfp.com/cfp/servlet/event.showcfp?eventid=22989&copyow
 nerid=37653
UID:cfp267121-N@wikicfp.com
END:VEVENT
BEGIN:VEVENT
DTSTAMP:20260419T130634Z
DTSTART;VALUE=DATE:20120920
SUMMARY:CBETM 2012 Final Version Due
DESCRIPTION:2012 3rd International Conference on Business\, Economics and
  Tourism Management 
URL:http://www.wikicfp.com/cfp/servlet/event.showcfp?eventid=22989&copyow
 nerid=37653
UID:cfp267121-N@wikicfp.com
END:VEVENT
BEGIN:VEVENT
DTSTAMP:20260419T130634Z
DTSTART;VALUE=DATE:20131208
DTEND;VALUE=DATE:20131210
SUMMARY:ICEBM 2013
DESCRIPTION:2013 4th International Conference on Economics\, Business and
  Management
URL:http://www.wikicfp.com/cfp/servlet/event.showcfp?eventid=31424&copyow
 nerid=37653
UID:cfp374437-E@wikicfp.com
END:VEVENT
BEGIN:VEVENT
DTSTAMP:20260419T130634Z
DTSTART;VALUE=DATE:20131001
SUMMARY:ICEBM 2013 Deadline
DESCRIPTION:2013 4th International Conference on Economics\, Business and
  Management
URL:http://www.wikicfp.com/cfp/servlet/event.showcfp?eventid=31424&copyow
 nerid=37653
UID:cfp374437-D@wikicfp.com
END:VEVENT
BEGIN:VEVENT
DTSTAMP:20260419T130634Z
DTSTART;VALUE=DATE:20131020
SUMMARY:ICEBM 2013 Notification Due
DESCRIPTION:2013 4th International Conference on Economics\, Business and
  Management
URL:http://www.wikicfp.com/cfp/servlet/event.showcfp?eventid=31424&copyow
 nerid=37653
UID:cfp374437-N@wikicfp.com
END:VEVENT
BEGIN:VEVENT
DTSTAMP:20260419T130634Z
DTSTART;VALUE=DATE:20131105
SUMMARY:ICEBM 2013 Final Version Due
DESCRIPTION:2013 4th International Conference on Economics\, Business and
  Management
URL:http://www.wikicfp.com/cfp/servlet/event.showcfp?eventid=31424&copyow
 nerid=37653
UID:cfp374437-N@wikicfp.com
END:VEVENT
END:VCALENDAR
