BEGIN:VCALENDAR
PRODID:-//WikiCFP//dutt_060587 1.0//EN
VERSION:2.0
CALSCALE:GREGORIAN
BEGIN:VEVENT
DTSTAMP:20260423T015248Z
DTSTART;VALUE=DATE:20121222
DTEND;VALUE=DATE:20121224
SUMMARY:ICEEE 2012
DESCRIPTION:2012 International Conference on e-Education\, Entertainment 
 and e-Management 
URL:http://www.wikicfp.com/cfp/servlet/event.showcfp?eventid=22923&copyow
 nerid=37457
UID:cfp262370-E@wikicfp.com
END:VEVENT
BEGIN:VEVENT
DTSTAMP:20260423T015248Z
DTSTART;VALUE=DATE:20121222
DTEND;VALUE=DATE:20121224
SUMMARY:EESI 2012
DESCRIPTION:2012 International Congress On Earth & Environmental Science 
 and Informatics
URL:http://www.wikicfp.com/cfp/servlet/event.showcfp?eventid=22924&copyow
 nerid=37457
UID:cfp262371-E@wikicfp.com
END:VEVENT
BEGIN:VEVENT
DTSTAMP:20260423T015248Z
DTSTART;VALUE=DATE:20120817
DTEND;VALUE=DATE:20120220
SUMMARY:NETS 2012
DESCRIPTION:International Conference on Internet Studies
URL:http://www.wikicfp.com/cfp/servlet/event.showcfp?eventid=22929&copyow
 nerid=37457
UID:cfp262374-E@wikicfp.com
END:VEVENT
BEGIN:VEVENT
DTSTAMP:20260423T015248Z
DTSTART;VALUE=DATE:20120415
SUMMARY:NETS 2012 Deadline
DESCRIPTION:International Conference on Internet Studies
URL:http://www.wikicfp.com/cfp/servlet/event.showcfp?eventid=22929&copyow
 nerid=37457
UID:cfp262374-D@wikicfp.com
END:VEVENT
BEGIN:VEVENT
DTSTAMP:20260423T015248Z
DTSTART;VALUE=DATE:20120510
SUMMARY:NETS 2012 Notification Due
DESCRIPTION:International Conference on Internet Studies
URL:http://www.wikicfp.com/cfp/servlet/event.showcfp?eventid=22929&copyow
 nerid=37457
UID:cfp262374-N@wikicfp.com
END:VEVENT
BEGIN:VEVENT
DTSTAMP:20260423T015248Z
DTSTART;VALUE=DATE:20120615
SUMMARY:NETS 2012 Final Version Due
DESCRIPTION:International Conference on Internet Studies
URL:http://www.wikicfp.com/cfp/servlet/event.showcfp?eventid=22929&copyow
 nerid=37457
UID:cfp262374-N@wikicfp.com
END:VEVENT
BEGIN:VEVENT
DTSTAMP:20260423T015248Z
DTSTART;VALUE=DATE:20120613
DTEND;VALUE=DATE:20120614
SUMMARY:Golden Age 2012
DESCRIPTION:The Golden Age - Nostalgia in Word and Image
URL:http://www.wikicfp.com/cfp/servlet/event.showcfp?eventid=22913&copyow
 nerid=37457
UID:cfp262360-E@wikicfp.com
END:VEVENT
BEGIN:VEVENT
DTSTAMP:20260423T015248Z
DTSTART;VALUE=DATE:20120420
SUMMARY:Golden Age 2012 Deadline
DESCRIPTION:The Golden Age - Nostalgia in Word and Image
URL:http://www.wikicfp.com/cfp/servlet/event.showcfp?eventid=22913&copyow
 nerid=37457
UID:cfp262360-D@wikicfp.com
END:VEVENT
BEGIN:VEVENT
DTSTAMP:20260423T015248Z
DTSTART;VALUE=DATE:20120919
DTEND;VALUE=DATE:20120922
SUMMARY:EIDWT 2012
DESCRIPTION:Third International Conference on Emerging Intelligent Data a
 nd Web Technologies
URL:http://www.wikicfp.com/cfp/servlet/event.showcfp?eventid=22916&copyow
 nerid=37457
UID:cfp262363-E@wikicfp.com
END:VEVENT
BEGIN:VEVENT
DTSTAMP:20260423T015248Z
DTSTART;VALUE=DATE:20120425
SUMMARY:EIDWT 2012 Deadline
DESCRIPTION:Third International Conference on Emerging Intelligent Data a
 nd Web Technologies
URL:http://www.wikicfp.com/cfp/servlet/event.showcfp?eventid=22916&copyow
 nerid=37457
UID:cfp262363-D@wikicfp.com
END:VEVENT
BEGIN:VEVENT
DTSTAMP:20260423T015248Z
DTSTART;VALUE=DATE:20120817
DTEND;VALUE=DATE:20120820
SUMMARY:ICMS 2012
DESCRIPTION:International Conference on Marketing Studies
URL:http://www.wikicfp.com/cfp/servlet/event.showcfp?eventid=22930&copyow
 nerid=37457
UID:cfp262375-E@wikicfp.com
END:VEVENT
BEGIN:VEVENT
DTSTAMP:20260423T015248Z
DTSTART;VALUE=DATE:20120425
SUMMARY:ICMS 2012 Deadline
DESCRIPTION:International Conference on Marketing Studies
URL:http://www.wikicfp.com/cfp/servlet/event.showcfp?eventid=22930&copyow
 nerid=37457
UID:cfp262375-D@wikicfp.com
END:VEVENT
BEGIN:VEVENT
DTSTAMP:20260423T015248Z
DTSTART;VALUE=DATE:20120520
SUMMARY:ICMS 2012 Notification Due
DESCRIPTION:International Conference on Marketing Studies
URL:http://www.wikicfp.com/cfp/servlet/event.showcfp?eventid=22930&copyow
 nerid=37457
UID:cfp262375-N@wikicfp.com
END:VEVENT
BEGIN:VEVENT
DTSTAMP:20260423T015248Z
DTSTART;VALUE=DATE:20120625
SUMMARY:ICMS 2012 Final Version Due
DESCRIPTION:International Conference on Marketing Studies
URL:http://www.wikicfp.com/cfp/servlet/event.showcfp?eventid=22930&copyow
 nerid=37457
UID:cfp262375-N@wikicfp.com
END:VEVENT
BEGIN:VEVENT
DTSTAMP:20260423T015248Z
DTSTART;VALUE=DATE:20120812
DTEND;VALUE=DATE:20120813
SUMMARY:HI-KDD 2012
DESCRIPTION:ACM SIGKDD Workshop on Health Informatics 
URL:http://www.wikicfp.com/cfp/servlet/event.showcfp?eventid=22920&copyow
 nerid=37457
UID:cfp262367-E@wikicfp.com
END:VEVENT
BEGIN:VEVENT
DTSTAMP:20260423T015248Z
DTSTART;VALUE=DATE:20120508
SUMMARY:HI-KDD 2012 Deadline
DESCRIPTION:ACM SIGKDD Workshop on Health Informatics 
URL:http://www.wikicfp.com/cfp/servlet/event.showcfp?eventid=22920&copyow
 nerid=37457
UID:cfp262367-D@wikicfp.com
END:VEVENT
BEGIN:VEVENT
DTSTAMP:20260423T015248Z
DTSTART;VALUE=DATE:20120608
SUMMARY:HI-KDD 2012 Notification Due
DESCRIPTION:ACM SIGKDD Workshop on Health Informatics 
URL:http://www.wikicfp.com/cfp/servlet/event.showcfp?eventid=22920&copyow
 nerid=37457
UID:cfp262367-N@wikicfp.com
END:VEVENT
BEGIN:VEVENT
DTSTAMP:20260423T015248Z
DTSTART;VALUE=DATE:20120613
SUMMARY:HI-KDD 2012 Final Version Due
DESCRIPTION:ACM SIGKDD Workshop on Health Informatics 
URL:http://www.wikicfp.com/cfp/servlet/event.showcfp?eventid=22920&copyow
 nerid=37457
UID:cfp262367-N@wikicfp.com
END:VEVENT
BEGIN:VEVENT
DTSTAMP:20260423T015248Z
DTSTART;VALUE=DATE:20120630
DTEND;VALUE=DATE:20120701
SUMMARY:Inferning 2012
DESCRIPTION:ICML 2012 Workshop on Inferning: Interactions between Inferen
 ce and Learning
URL:http://www.wikicfp.com/cfp/servlet/event.showcfp?eventid=22932&copyow
 nerid=37457
UID:cfp262376-E@wikicfp.com
END:VEVENT
BEGIN:VEVENT
DTSTAMP:20260423T015248Z
DTSTART;VALUE=DATE:20120513
SUMMARY:Inferning 2012 Deadline
DESCRIPTION:ICML 2012 Workshop on Inferning: Interactions between Inferen
 ce and Learning
URL:http://www.wikicfp.com/cfp/servlet/event.showcfp?eventid=22932&copyow
 nerid=37457
UID:cfp262376-D@wikicfp.com
END:VEVENT
BEGIN:VEVENT
DTSTAMP:20260423T015248Z
DTSTART;VALUE=DATE:20120521
SUMMARY:Inferning 2012 Notification Due
DESCRIPTION:ICML 2012 Workshop on Inferning: Interactions between Inferen
 ce and Learning
URL:http://www.wikicfp.com/cfp/servlet/event.showcfp?eventid=22932&copyow
 nerid=37457
UID:cfp262376-N@wikicfp.com
END:VEVENT
BEGIN:VEVENT
DTSTAMP:20260423T015248Z
DTSTART;VALUE=DATE:20120615
SUMMARY:Inferning 2012 Final Version Due
DESCRIPTION:ICML 2012 Workshop on Inferning: Interactions between Inferen
 ce and Learning
URL:http://www.wikicfp.com/cfp/servlet/event.showcfp?eventid=22932&copyow
 nerid=37457
UID:cfp262376-N@wikicfp.com
END:VEVENT
BEGIN:VEVENT
DTSTAMP:20260423T015248Z
DTSTART;VALUE=DATE:20120917
DTEND;VALUE=DATE:20120918
SUMMARY:UC4DS 2012
DESCRIPTION:The 2012 User-Centric Information Systems for Decision Suppor
 t Workshop
URL:http://www.wikicfp.com/cfp/servlet/event.showcfp?eventid=22914&copyow
 nerid=37457
UID:cfp262361-E@wikicfp.com
END:VEVENT
BEGIN:VEVENT
DTSTAMP:20260423T015248Z
DTSTART;VALUE=DATE:20120515
SUMMARY:UC4DS 2012 Deadline
DESCRIPTION:The 2012 User-Centric Information Systems for Decision Suppor
 t Workshop
URL:http://www.wikicfp.com/cfp/servlet/event.showcfp?eventid=22914&copyow
 nerid=37457
UID:cfp262361-D@wikicfp.com
END:VEVENT
BEGIN:VEVENT
DTSTAMP:20260423T015248Z
DTSTART;VALUE=DATE:20120827
DTEND;VALUE=DATE:20120901
SUMMARY:EASLLC 2012
DESCRIPTION:East-Asian School on Logic\, Language\, and Computation
URL:http://www.wikicfp.com/cfp/servlet/event.showcfp?eventid=22928&copyow
 nerid=37457
UID:cfp262373-E@wikicfp.com
END:VEVENT
BEGIN:VEVENT
DTSTAMP:20260423T015248Z
DTSTART;VALUE=DATE:20120515
SUMMARY:EASLLC 2012 Deadline
DESCRIPTION:East-Asian School on Logic\, Language\, and Computation
URL:http://www.wikicfp.com/cfp/servlet/event.showcfp?eventid=22928&copyow
 nerid=37457
UID:cfp262373-D@wikicfp.com
END:VEVENT
BEGIN:VEVENT
DTSTAMP:20260423T015248Z
DTSTART;VALUE=DATE:20120610
SUMMARY:EASLLC 2012 Notification Due
DESCRIPTION:East-Asian School on Logic\, Language\, and Computation
URL:http://www.wikicfp.com/cfp/servlet/event.showcfp?eventid=22928&copyow
 nerid=37457
UID:cfp262373-N@wikicfp.com
END:VEVENT
BEGIN:VEVENT
DTSTAMP:20260423T015248Z
DTSTART;VALUE=DATE:20121011
DTEND;VALUE=DATE:20121013
SUMMARY:SNDS 2012
DESCRIPTION:International Conference on Security in Computer Networks and
  Distributed Systems
URL:http://www.wikicfp.com/cfp/servlet/event.showcfp?eventid=22917&copyow
 nerid=37457
UID:cfp262364-E@wikicfp.com
END:VEVENT
BEGIN:VEVENT
DTSTAMP:20260423T015248Z
DTSTART;VALUE=DATE:20120527
SUMMARY:SNDS 2012 Deadline
DESCRIPTION:International Conference on Security in Computer Networks and
  Distributed Systems
URL:http://www.wikicfp.com/cfp/servlet/event.showcfp?eventid=22917&copyow
 nerid=37457
UID:cfp262364-D@wikicfp.com
END:VEVENT
BEGIN:VEVENT
DTSTAMP:20260423T015248Z
DTSTART;VALUE=DATE:20120615
DTEND;VALUE=DATE:20120719
SUMMARY:WEA Sustainability Conference  2012
DESCRIPTION:World Economic Association Sustainability Conference 2012
URL:http://www.wikicfp.com/cfp/servlet/event.showcfp?eventid=22926&copyow
 nerid=37457
UID:cfp262372-E@wikicfp.com
END:VEVENT
BEGIN:VEVENT
DTSTAMP:20260423T015248Z
DTSTART;VALUE=DATE:20120528
SUMMARY:WEA Sustainability Conference  2012 Deadline
DESCRIPTION:World Economic Association Sustainability Conference 2012
URL:http://www.wikicfp.com/cfp/servlet/event.showcfp?eventid=22926&copyow
 nerid=37457
UID:cfp262372-D@wikicfp.com
END:VEVENT
BEGIN:VEVENT
DTSTAMP:20260423T015248Z
DTSTART;VALUE=DATE:20120531
SUMMARY:AP J Psychol Med 2012 Deadline
DESCRIPTION:Andhra Pradesh Journal of Psychological Medicine
URL:http://www.wikicfp.com/cfp/servlet/event.showcfp?eventid=22909&copyow
 nerid=37457
UID:cfp262357-D@wikicfp.com
END:VEVENT
BEGIN:VEVENT
DTSTAMP:20260423T015248Z
DTSTART;VALUE=DATE:20120827
DTEND;VALUE=DATE:20120829
SUMMARY:ICCEMS 2012
DESCRIPTION:International Confernece on Computer Engineering and Mathemat
 ical Sciences
URL:http://www.wikicfp.com/cfp/servlet/event.showcfp?eventid=22921&copyow
 nerid=37457
UID:cfp262368-E@wikicfp.com
END:VEVENT
BEGIN:VEVENT
DTSTAMP:20260423T015248Z
DTSTART;VALUE=DATE:20120630
SUMMARY:ICCEMS 2012 Abstract Due
DESCRIPTION:International Confernece on Computer Engineering and Mathemat
 ical Sciences
URL:http://www.wikicfp.com/cfp/servlet/event.showcfp?eventid=22921&copyow
 nerid=37457
UID:cfp262368-A@wikicfp.com
END:VEVENT
BEGIN:VEVENT
DTSTAMP:20260423T015248Z
DTSTART;VALUE=DATE:20120601
SUMMARY:ICCEMS 2012 Deadline
DESCRIPTION:International Confernece on Computer Engineering and Mathemat
 ical Sciences
URL:http://www.wikicfp.com/cfp/servlet/event.showcfp?eventid=22921&copyow
 nerid=37457
UID:cfp262368-D@wikicfp.com
END:VEVENT
BEGIN:VEVENT
DTSTAMP:20260423T015248Z
DTSTART;VALUE=DATE:20120731
SUMMARY:ICCEMS 2012 Final Version Due
DESCRIPTION:International Confernece on Computer Engineering and Mathemat
 ical Sciences
URL:http://www.wikicfp.com/cfp/servlet/event.showcfp?eventid=22921&copyow
 nerid=37457
UID:cfp262368-N@wikicfp.com
END:VEVENT
BEGIN:VEVENT
DTSTAMP:20260423T015248Z
DTSTART;VALUE=DATE:20120407
DTEND;VALUE=DATE:20120604
SUMMARY:PEC_14CFP_ 2012
DESCRIPTION:Problems of Education in the 21st Century. 14_CFP
URL:http://www.wikicfp.com/cfp/servlet/event.showcfp?eventid=22918&copyow
 nerid=37457
UID:cfp262365-E@wikicfp.com
END:VEVENT
BEGIN:VEVENT
DTSTAMP:20260423T015248Z
DTSTART;VALUE=DATE:20120506
SUMMARY:PEC_14CFP_ 2012 Abstract Due
DESCRIPTION:Problems of Education in the 21st Century. 14_CFP
URL:http://www.wikicfp.com/cfp/servlet/event.showcfp?eventid=22918&copyow
 nerid=37457
UID:cfp262365-A@wikicfp.com
END:VEVENT
BEGIN:VEVENT
DTSTAMP:20260423T015248Z
DTSTART;VALUE=DATE:20120603
SUMMARY:PEC_14CFP_ 2012 Deadline
DESCRIPTION:Problems of Education in the 21st Century. 14_CFP
URL:http://www.wikicfp.com/cfp/servlet/event.showcfp?eventid=22918&copyow
 nerid=37457
UID:cfp262365-D@wikicfp.com
END:VEVENT
BEGIN:VEVENT
DTSTAMP:20260423T015248Z
DTSTART;VALUE=DATE:20120509
SUMMARY:PEC_14CFP_ 2012 Notification Due
DESCRIPTION:Problems of Education in the 21st Century. 14_CFP
URL:http://www.wikicfp.com/cfp/servlet/event.showcfp?eventid=22918&copyow
 nerid=37457
UID:cfp262365-N@wikicfp.com
END:VEVENT
BEGIN:VEVENT
DTSTAMP:20260423T015248Z
DTSTART;VALUE=DATE:20120603
SUMMARY:PEC_14CFP_ 2012 Final Version Due
DESCRIPTION:Problems of Education in the 21st Century. 14_CFP
URL:http://www.wikicfp.com/cfp/servlet/event.showcfp?eventid=22918&copyow
 nerid=37457
UID:cfp262365-N@wikicfp.com
END:VEVENT
BEGIN:VEVENT
DTSTAMP:20260423T015248Z
DTSTART;VALUE=DATE:20120430
SUMMARY:Conflicting Mythologies 2012 Abstract Due
DESCRIPTION:Conflicting Mythologies: Culture\, Tradition and Modernity in
  Indian Writing in English.  
URL:http://www.wikicfp.com/cfp/servlet/event.showcfp?eventid=22919&copyow
 nerid=37457
UID:cfp262366-A@wikicfp.com
END:VEVENT
BEGIN:VEVENT
DTSTAMP:20260423T015248Z
DTSTART;VALUE=DATE:20120630
SUMMARY:Conflicting Mythologies 2012 Deadline
DESCRIPTION:Conflicting Mythologies: Culture\, Tradition and Modernity in
  Indian Writing in English.  
URL:http://www.wikicfp.com/cfp/servlet/event.showcfp?eventid=22919&copyow
 nerid=37457
UID:cfp262366-D@wikicfp.com
END:VEVENT
BEGIN:VEVENT
DTSTAMP:20260423T015248Z
DTSTART;VALUE=DATE:20121215
DTEND;VALUE=DATE:20121218
SUMMARY:FSTTCS 2012
DESCRIPTION:IARCS Annual Conference on  Foundations of Software Technolog
 y and Theoretical Computer Science
URL:http://www.wikicfp.com/cfp/servlet/event.showcfp?eventid=22922&copyow
 nerid=37457
UID:cfp262369-E@wikicfp.com
END:VEVENT
BEGIN:VEVENT
DTSTAMP:20260423T015248Z
DTSTART;VALUE=DATE:20120713
SUMMARY:FSTTCS 2012 Deadline
DESCRIPTION:IARCS Annual Conference on  Foundations of Software Technolog
 y and Theoretical Computer Science
URL:http://www.wikicfp.com/cfp/servlet/event.showcfp?eventid=22922&copyow
 nerid=37457
UID:cfp262369-D@wikicfp.com
END:VEVENT
BEGIN:VEVENT
DTSTAMP:20260423T015248Z
DTSTART;VALUE=DATE:20120912
SUMMARY:FSTTCS 2012 Notification Due
DESCRIPTION:IARCS Annual Conference on  Foundations of Software Technolog
 y and Theoretical Computer Science
URL:http://www.wikicfp.com/cfp/servlet/event.showcfp?eventid=22922&copyow
 nerid=37457
UID:cfp262369-N@wikicfp.com
END:VEVENT
BEGIN:VEVENT
DTSTAMP:20260423T015248Z
DTSTART;VALUE=DATE:20121010
SUMMARY:FSTTCS 2012 Final Version Due
DESCRIPTION:IARCS Annual Conference on  Foundations of Software Technolog
 y and Theoretical Computer Science
URL:http://www.wikicfp.com/cfp/servlet/event.showcfp?eventid=22922&copyow
 nerid=37457
UID:cfp262369-N@wikicfp.com
END:VEVENT
BEGIN:VEVENT
DTSTAMP:20260423T015248Z
DTSTART;VALUE=DATE:20120913
DTEND;VALUE=DATE:20120914
SUMMARY:MASSIVE 2012
DESCRIPTION:Fourth Workshop on Massive Data Algorithmics
URL:http://www.wikicfp.com/cfp/servlet/event.showcfp?eventid=22915&copyow
 nerid=37457
UID:cfp262362-E@wikicfp.com
END:VEVENT
BEGIN:VEVENT
DTSTAMP:20260423T015248Z
DTSTART;VALUE=DATE:20120714
SUMMARY:MASSIVE 2012 Deadline
DESCRIPTION:Fourth Workshop on Massive Data Algorithmics
URL:http://www.wikicfp.com/cfp/servlet/event.showcfp?eventid=22915&copyow
 nerid=37457
UID:cfp262362-D@wikicfp.com
END:VEVENT
BEGIN:VEVENT
DTSTAMP:20260423T015248Z
DTSTART;VALUE=DATE:20121128
DTEND;VALUE=DATE:20121201
SUMMARY:ICISC 2012
DESCRIPTION:International Conference on Information Security and Cryptolo
 gy
URL:http://www.wikicfp.com/cfp/servlet/event.showcfp?eventid=22911&copyow
 nerid=37457
UID:cfp262358-E@wikicfp.com
END:VEVENT
BEGIN:VEVENT
DTSTAMP:20260423T015248Z
DTSTART;VALUE=DATE:20120828
SUMMARY:ICISC 2012 Deadline
DESCRIPTION:International Conference on Information Security and Cryptolo
 gy
URL:http://www.wikicfp.com/cfp/servlet/event.showcfp?eventid=22911&copyow
 nerid=37457
UID:cfp262358-D@wikicfp.com
END:VEVENT
BEGIN:VEVENT
DTSTAMP:20260423T015248Z
DTSTART;VALUE=DATE:20121015
SUMMARY:ICISC 2012 Notification Due
DESCRIPTION:International Conference on Information Security and Cryptolo
 gy
URL:http://www.wikicfp.com/cfp/servlet/event.showcfp?eventid=22911&copyow
 nerid=37457
UID:cfp262358-N@wikicfp.com
END:VEVENT
BEGIN:VEVENT
DTSTAMP:20260423T015248Z
DTSTART;VALUE=DATE:20121111
DTEND;VALUE=DATE:20121114
SUMMARY:ICCNDT 2012
DESCRIPTION:International Conference on Computing\, Networking and Digita
 l Technologies 
URL:http://www.wikicfp.com/cfp/servlet/event.showcfp?eventid=22912&copyow
 nerid=37457
UID:cfp262359-E@wikicfp.com
END:VEVENT
BEGIN:VEVENT
DTSTAMP:20260423T015248Z
DTSTART;VALUE=DATE:20120915
SUMMARY:ICCNDT 2012 Deadline
DESCRIPTION:International Conference on Computing\, Networking and Digita
 l Technologies 
URL:http://www.wikicfp.com/cfp/servlet/event.showcfp?eventid=22912&copyow
 nerid=37457
UID:cfp262359-D@wikicfp.com
END:VEVENT
BEGIN:VEVENT
DTSTAMP:20260423T015248Z
DTSTART;VALUE=DATE:20121001
SUMMARY:ICCNDT 2012 Notification Due
DESCRIPTION:International Conference on Computing\, Networking and Digita
 l Technologies 
URL:http://www.wikicfp.com/cfp/servlet/event.showcfp?eventid=22912&copyow
 nerid=37457
UID:cfp262359-N@wikicfp.com
END:VEVENT
BEGIN:VEVENT
DTSTAMP:20260423T015248Z
DTSTART;VALUE=DATE:20121020
SUMMARY:ICCNDT 2012 Final Version Due
DESCRIPTION:International Conference on Computing\, Networking and Digita
 l Technologies 
URL:http://www.wikicfp.com/cfp/servlet/event.showcfp?eventid=22912&copyow
 nerid=37457
UID:cfp262359-N@wikicfp.com
END:VEVENT
BEGIN:VEVENT
DTSTAMP:20260423T015248Z
DTSTART;VALUE=DATE:20121105
SUMMARY:SIPIJ 2012 Deadline
DESCRIPTION:Signal & Image Processing : An International Journal
URL:http://www.wikicfp.com/cfp/servlet/event.showcfp?eventid=21998&copyow
 nerid=37457
UID:cfp262356-D@wikicfp.com
END:VEVENT
BEGIN:VEVENT
DTSTAMP:20260423T015248Z
DTSTART;VALUE=DATE:20121205
SUMMARY:SIPIJ 2012 Notification Due
DESCRIPTION:Signal & Image Processing : An International Journal
URL:http://www.wikicfp.com/cfp/servlet/event.showcfp?eventid=21998&copyow
 nerid=37457
UID:cfp262356-N@wikicfp.com
END:VEVENT
BEGIN:VEVENT
DTSTAMP:20260423T015248Z
DTSTART;VALUE=DATE:20121210
SUMMARY:SIPIJ 2012 Final Version Due
DESCRIPTION:Signal & Image Processing : An International Journal
URL:http://www.wikicfp.com/cfp/servlet/event.showcfp?eventid=21998&copyow
 nerid=37457
UID:cfp262356-N@wikicfp.com
END:VEVENT
END:VCALENDAR
