BEGIN:VCALENDAR
PRODID:-//WikiCFP//Methical 1.0//EN
VERSION:2.0
CALSCALE:GREGORIAN
BEGIN:VEVENT
DTSTAMP:20260420T074021Z
DTSTART;VALUE=DATE:20111022
DTEND;VALUE=DATE:20111024
SUMMARY:GPCE 2011
DESCRIPTION:Generative Programming and Component Engineering
URL:http://www.wikicfp.com/cfp/servlet/event.showcfp?eventid=11772&copyow
 nerid=37303
UID:cfp261269-E@wikicfp.com
END:VEVENT
BEGIN:VEVENT
DTSTAMP:20260420T074021Z
DTSTART;VALUE=DATE:20110521
SUMMARY:GPCE 2011 Abstract Due
DESCRIPTION:Generative Programming and Component Engineering
URL:http://www.wikicfp.com/cfp/servlet/event.showcfp?eventid=11772&copyow
 nerid=37303
UID:cfp261269-A@wikicfp.com
END:VEVENT
BEGIN:VEVENT
DTSTAMP:20260420T074021Z
DTSTART;VALUE=DATE:20110528
SUMMARY:GPCE 2011 Deadline
DESCRIPTION:Generative Programming and Component Engineering
URL:http://www.wikicfp.com/cfp/servlet/event.showcfp?eventid=11772&copyow
 nerid=37303
UID:cfp261269-D@wikicfp.com
END:VEVENT
BEGIN:VEVENT
DTSTAMP:20260420T074021Z
DTSTART;VALUE=DATE:20110706
SUMMARY:GPCE 2011 Notification Due
DESCRIPTION:Generative Programming and Component Engineering
URL:http://www.wikicfp.com/cfp/servlet/event.showcfp?eventid=11772&copyow
 nerid=37303
UID:cfp261269-N@wikicfp.com
END:VEVENT
BEGIN:VEVENT
DTSTAMP:20260420T074021Z
DTSTART;VALUE=DATE:20110822
SUMMARY:GPCE 2011 Final Version Due
DESCRIPTION:Generative Programming and Component Engineering
URL:http://www.wikicfp.com/cfp/servlet/event.showcfp?eventid=11772&copyow
 nerid=37303
UID:cfp261269-N@wikicfp.com
END:VEVENT
BEGIN:VEVENT
DTSTAMP:20260420T074021Z
DTSTART;VALUE=DATE:20120603
DTEND;VALUE=DATE:20120608
SUMMARY:DAC 2012
DESCRIPTION:Design Automation Conference 
URL:http://www.wikicfp.com/cfp/servlet/event.showcfp?eventid=17495&copyow
 nerid=37303
UID:cfp261274-E@wikicfp.com
END:VEVENT
BEGIN:VEVENT
DTSTAMP:20260420T074021Z
DTSTART;VALUE=DATE:20111129
SUMMARY:DAC 2012 Abstract Due
DESCRIPTION:Design Automation Conference 
URL:http://www.wikicfp.com/cfp/servlet/event.showcfp?eventid=17495&copyow
 nerid=37303
UID:cfp261274-A@wikicfp.com
END:VEVENT
BEGIN:VEVENT
DTSTAMP:20260420T074021Z
DTSTART;VALUE=DATE:20111205
SUMMARY:DAC 2012 Deadline
DESCRIPTION:Design Automation Conference 
URL:http://www.wikicfp.com/cfp/servlet/event.showcfp?eventid=17495&copyow
 nerid=37303
UID:cfp261274-D@wikicfp.com
END:VEVENT
BEGIN:VEVENT
DTSTAMP:20260420T074021Z
DTSTART;VALUE=DATE:20120429
DTEND;VALUE=DATE:20120505
SUMMARY:MOPAS 2012
DESCRIPTION:The Third International Conference on Models and Ontology-bas
 ed Design of Protocols\, Architectures and Services
URL:http://www.wikicfp.com/cfp/servlet/event.showcfp?eventid=19877&copyow
 nerid=37303
UID:cfp261260-E@wikicfp.com
END:VEVENT
BEGIN:VEVENT
DTSTAMP:20260420T074021Z
DTSTART;VALUE=DATE:20111216
SUMMARY:MOPAS 2012 Deadline
DESCRIPTION:The Third International Conference on Models and Ontology-bas
 ed Design of Protocols\, Architectures and Services
URL:http://www.wikicfp.com/cfp/servlet/event.showcfp?eventid=19877&copyow
 nerid=37303
UID:cfp261260-D@wikicfp.com
END:VEVENT
BEGIN:VEVENT
DTSTAMP:20260420T074021Z
DTSTART;VALUE=DATE:20120528
DTEND;VALUE=DATE:20120602
SUMMARY:SC 2012
DESCRIPTION:11th International Conference on Software Composition
URL:http://www.wikicfp.com/cfp/servlet/event.showcfp?eventid=20249&copyow
 nerid=37303
UID:cfp261258-E@wikicfp.com
END:VEVENT
BEGIN:VEVENT
DTSTAMP:20260420T074021Z
DTSTART;VALUE=DATE:20120122
SUMMARY:SC 2012 Deadline
DESCRIPTION:11th International Conference on Software Composition
URL:http://www.wikicfp.com/cfp/servlet/event.showcfp?eventid=20249&copyow
 nerid=37303
UID:cfp261258-D@wikicfp.com
END:VEVENT
BEGIN:VEVENT
DTSTAMP:20260420T074021Z
DTSTART;VALUE=DATE:20120219
SUMMARY:SC 2012 Notification Due
DESCRIPTION:11th International Conference on Software Composition
URL:http://www.wikicfp.com/cfp/servlet/event.showcfp?eventid=20249&copyow
 nerid=37303
UID:cfp261258-N@wikicfp.com
END:VEVENT
BEGIN:VEVENT
DTSTAMP:20260420T074021Z
DTSTART;VALUE=DATE:20120311
SUMMARY:SC 2012 Final Version Due
DESCRIPTION:11th International Conference on Software Composition
URL:http://www.wikicfp.com/cfp/servlet/event.showcfp?eventid=20249&copyow
 nerid=37303
UID:cfp261258-N@wikicfp.com
END:VEVENT
BEGIN:VEVENT
DTSTAMP:20260420T074021Z
DTSTART;VALUE=DATE:20120602
DTEND;VALUE=DATE:20120604
SUMMARY:MiSE 2012
DESCRIPTION:ICSE 2012 Workshop on Modeling in Software Engineering (MiSE 
 2012)
URL:http://www.wikicfp.com/cfp/servlet/event.showcfp?eventid=20166&copyow
 nerid=37303
UID:cfp261252-E@wikicfp.com
END:VEVENT
BEGIN:VEVENT
DTSTAMP:20260420T074021Z
DTSTART;VALUE=DATE:20120217
SUMMARY:MiSE 2012 Deadline
DESCRIPTION:ICSE 2012 Workshop on Modeling in Software Engineering (MiSE 
 2012)
URL:http://www.wikicfp.com/cfp/servlet/event.showcfp?eventid=20166&copyow
 nerid=37303
UID:cfp261252-D@wikicfp.com
END:VEVENT
BEGIN:VEVENT
DTSTAMP:20260420T074021Z
DTSTART;VALUE=DATE:20120319
SUMMARY:MiSE 2012 Notification Due
DESCRIPTION:ICSE 2012 Workshop on Modeling in Software Engineering (MiSE 
 2012)
URL:http://www.wikicfp.com/cfp/servlet/event.showcfp?eventid=20166&copyow
 nerid=37303
UID:cfp261252-N@wikicfp.com
END:VEVENT
BEGIN:VEVENT
DTSTAMP:20260420T074021Z
DTSTART;VALUE=DATE:20120329
SUMMARY:MiSE 2012 Final Version Due
DESCRIPTION:ICSE 2012 Workshop on Modeling in Software Engineering (MiSE 
 2012)
URL:http://www.wikicfp.com/cfp/servlet/event.showcfp?eventid=20166&copyow
 nerid=37303
UID:cfp261252-N@wikicfp.com
END:VEVENT
BEGIN:VEVENT
DTSTAMP:20260420T074021Z
DTSTART;VALUE=DATE:20120903
DTEND;VALUE=DATE:20120908
SUMMARY:ECCS 2012
DESCRIPTION:ECCS'12 - European Conference on Complex Systems
URL:http://www.wikicfp.com/cfp/servlet/event.showcfp?eventid=19484&copyow
 nerid=37303
UID:cfp261272-E@wikicfp.com
END:VEVENT
BEGIN:VEVENT
DTSTAMP:20260420T074021Z
DTSTART;VALUE=DATE:20120330
SUMMARY:ECCS 2012 Deadline
DESCRIPTION:ECCS'12 - European Conference on Complex Systems
URL:http://www.wikicfp.com/cfp/servlet/event.showcfp?eventid=19484&copyow
 nerid=37303
UID:cfp261272-D@wikicfp.com
END:VEVENT
BEGIN:VEVENT
DTSTAMP:20260420T074021Z
DTSTART;VALUE=DATE:20120601
SUMMARY:ECCS 2012 Notification Due
DESCRIPTION:ECCS'12 - European Conference on Complex Systems
URL:http://www.wikicfp.com/cfp/servlet/event.showcfp?eventid=19484&copyow
 nerid=37303
UID:cfp261272-N@wikicfp.com
END:VEVENT
BEGIN:VEVENT
DTSTAMP:20260420T074021Z
DTSTART;VALUE=DATE:20120628
DTEND;VALUE=DATE:20120702
SUMMARY:MDA&MDSD 2012
DESCRIPTION:International Workshop on Model-Driven Architecture and Model
 ing-Driven Software Development
URL:http://www.wikicfp.com/cfp/servlet/event.showcfp?eventid=22533&copyow
 nerid=37303
UID:cfp261266-E@wikicfp.com
END:VEVENT
BEGIN:VEVENT
DTSTAMP:20260420T074021Z
DTSTART;VALUE=DATE:20120330
SUMMARY:MDA&MDSD 2012 Deadline
DESCRIPTION:International Workshop on Model-Driven Architecture and Model
 ing-Driven Software Development
URL:http://www.wikicfp.com/cfp/servlet/event.showcfp?eventid=22533&copyow
 nerid=37303
UID:cfp261266-D@wikicfp.com
END:VEVENT
BEGIN:VEVENT
DTSTAMP:20260420T074021Z
DTSTART;VALUE=DATE:20120420
SUMMARY:MDA&MDSD 2012 Notification Due
DESCRIPTION:International Workshop on Model-Driven Architecture and Model
 ing-Driven Software Development
URL:http://www.wikicfp.com/cfp/servlet/event.showcfp?eventid=22533&copyow
 nerid=37303
UID:cfp261266-N@wikicfp.com
END:VEVENT
BEGIN:VEVENT
DTSTAMP:20260420T074021Z
DTSTART;VALUE=DATE:20120504
SUMMARY:MDA&MDSD 2012 Final Version Due
DESCRIPTION:International Workshop on Model-Driven Architecture and Model
 ing-Driven Software Development
URL:http://www.wikicfp.com/cfp/servlet/event.showcfp?eventid=22533&copyow
 nerid=37303
UID:cfp261266-N@wikicfp.com
END:VEVENT
BEGIN:VEVENT
DTSTAMP:20260420T074021Z
DTSTART;VALUE=DATE:20120930
DTEND;VALUE=DATE:20121006
SUMMARY:MODELS 2012
DESCRIPTION:ACM/IEEE 15th International Conference  on Model Driven Engin
 eering Languages & Systems  MODELS 2012
URL:http://www.wikicfp.com/cfp/servlet/event.showcfp?eventid=21525&copyow
 nerid=37303
UID:cfp261256-E@wikicfp.com
END:VEVENT
BEGIN:VEVENT
DTSTAMP:20260420T074021Z
DTSTART;VALUE=DATE:20120319
SUMMARY:MODELS 2012 Abstract Due
DESCRIPTION:ACM/IEEE 15th International Conference  on Model Driven Engin
 eering Languages & Systems  MODELS 2012
URL:http://www.wikicfp.com/cfp/servlet/event.showcfp?eventid=21525&copyow
 nerid=37303
UID:cfp261256-A@wikicfp.com
END:VEVENT
BEGIN:VEVENT
DTSTAMP:20260420T074021Z
DTSTART;VALUE=DATE:20120402
SUMMARY:MODELS 2012 Deadline
DESCRIPTION:ACM/IEEE 15th International Conference  on Model Driven Engin
 eering Languages & Systems  MODELS 2012
URL:http://www.wikicfp.com/cfp/servlet/event.showcfp?eventid=21525&copyow
 nerid=37303
UID:cfp261256-D@wikicfp.com
END:VEVENT
BEGIN:VEVENT
DTSTAMP:20260420T074021Z
DTSTART;VALUE=DATE:20120521
SUMMARY:MODELS 2012 Notification Due
DESCRIPTION:ACM/IEEE 15th International Conference  on Model Driven Engin
 eering Languages & Systems  MODELS 2012
URL:http://www.wikicfp.com/cfp/servlet/event.showcfp?eventid=21525&copyow
 nerid=37303
UID:cfp261256-N@wikicfp.com
END:VEVENT
BEGIN:VEVENT
DTSTAMP:20260420T074021Z
DTSTART;VALUE=DATE:20120702
SUMMARY:MODELS 2012 Final Version Due
DESCRIPTION:ACM/IEEE 15th International Conference  on Model Driven Engin
 eering Languages & Systems  MODELS 2012
URL:http://www.wikicfp.com/cfp/servlet/event.showcfp?eventid=21525&copyow
 nerid=37303
UID:cfp261256-N@wikicfp.com
END:VEVENT
BEGIN:VEVENT
DTSTAMP:20260420T074021Z
DTSTART;VALUE=DATE:20121007
DTEND;VALUE=DATE:20121013
SUMMARY:CASES 2012
DESCRIPTION:International Conference on Compilers\, Architectures\, and S
 ynthesis of Embedded Systems 
URL:http://www.wikicfp.com/cfp/servlet/event.showcfp?eventid=21905&copyow
 nerid=37303
UID:cfp261271-E@wikicfp.com
END:VEVENT
BEGIN:VEVENT
DTSTAMP:20260420T074021Z
DTSTART;VALUE=DATE:20120328
SUMMARY:CASES 2012 Abstract Due
DESCRIPTION:International Conference on Compilers\, Architectures\, and S
 ynthesis of Embedded Systems 
URL:http://www.wikicfp.com/cfp/servlet/event.showcfp?eventid=21905&copyow
 nerid=37303
UID:cfp261271-A@wikicfp.com
END:VEVENT
BEGIN:VEVENT
DTSTAMP:20260420T074021Z
DTSTART;VALUE=DATE:20120404
SUMMARY:CASES 2012 Deadline
DESCRIPTION:International Conference on Compilers\, Architectures\, and S
 ynthesis of Embedded Systems 
URL:http://www.wikicfp.com/cfp/servlet/event.showcfp?eventid=21905&copyow
 nerid=37303
UID:cfp261271-D@wikicfp.com
END:VEVENT
BEGIN:VEVENT
DTSTAMP:20260420T074021Z
DTSTART;VALUE=DATE:20120701
SUMMARY:CASES 2012 Notification Due
DESCRIPTION:International Conference on Compilers\, Architectures\, and S
 ynthesis of Embedded Systems 
URL:http://www.wikicfp.com/cfp/servlet/event.showcfp?eventid=21905&copyow
 nerid=37303
UID:cfp261271-N@wikicfp.com
END:VEVENT
BEGIN:VEVENT
DTSTAMP:20260420T074021Z
DTSTART;VALUE=DATE:20120731
SUMMARY:CASES 2012 Final Version Due
DESCRIPTION:International Conference on Compilers\, Architectures\, and S
 ynthesis of Embedded Systems 
URL:http://www.wikicfp.com/cfp/servlet/event.showcfp?eventid=21905&copyow
 nerid=37303
UID:cfp261271-N@wikicfp.com
END:VEVENT
BEGIN:VEVENT
DTSTAMP:20260420T074021Z
DTSTART;VALUE=DATE:20120703
DTEND;VALUE=DATE:20120704
SUMMARY:GMLD 2012
DESCRIPTION:Workshop on Graphical Modeling Language Development
URL:http://www.wikicfp.com/cfp/servlet/event.showcfp?eventid=21510&copyow
 nerid=37303
UID:cfp261268-E@wikicfp.com
END:VEVENT
BEGIN:VEVENT
DTSTAMP:20260420T074021Z
DTSTART;VALUE=DATE:20120416
SUMMARY:GMLD 2012 Deadline
DESCRIPTION:Workshop on Graphical Modeling Language Development
URL:http://www.wikicfp.com/cfp/servlet/event.showcfp?eventid=21510&copyow
 nerid=37303
UID:cfp261268-D@wikicfp.com
END:VEVENT
BEGIN:VEVENT
DTSTAMP:20260420T074021Z
DTSTART;VALUE=DATE:20120514
SUMMARY:GMLD 2012 Notification Due
DESCRIPTION:Workshop on Graphical Modeling Language Development
URL:http://www.wikicfp.com/cfp/servlet/event.showcfp?eventid=21510&copyow
 nerid=37303
UID:cfp261268-N@wikicfp.com
END:VEVENT
BEGIN:VEVENT
DTSTAMP:20260420T074021Z
DTSTART;VALUE=DATE:20120603
SUMMARY:GMLD 2012 Final Version Due
DESCRIPTION:Workshop on Graphical Modeling Language Development
URL:http://www.wikicfp.com/cfp/servlet/event.showcfp?eventid=21510&copyow
 nerid=37303
UID:cfp261268-N@wikicfp.com
END:VEVENT
BEGIN:VEVENT
DTSTAMP:20260420T074021Z
DTSTART;VALUE=DATE:20120702
DTEND;VALUE=DATE:20120706
SUMMARY:CloudMDE 2012
DESCRIPTION:First International Workshop on Model-Driven Engineering on a
 nd for the Cloud
URL:http://www.wikicfp.com/cfp/servlet/event.showcfp?eventid=22528&copyow
 nerid=37303
UID:cfp261257-E@wikicfp.com
END:VEVENT
BEGIN:VEVENT
DTSTAMP:20260420T074021Z
DTSTART;VALUE=DATE:20120416
SUMMARY:CloudMDE 2012 Deadline
DESCRIPTION:First International Workshop on Model-Driven Engineering on a
 nd for the Cloud
URL:http://www.wikicfp.com/cfp/servlet/event.showcfp?eventid=22528&copyow
 nerid=37303
UID:cfp261257-D@wikicfp.com
END:VEVENT
BEGIN:VEVENT
DTSTAMP:20260420T074021Z
DTSTART;VALUE=DATE:20120514
SUMMARY:CloudMDE 2012 Notification Due
DESCRIPTION:First International Workshop on Model-Driven Engineering on a
 nd for the Cloud
URL:http://www.wikicfp.com/cfp/servlet/event.showcfp?eventid=22528&copyow
 nerid=37303
UID:cfp261257-N@wikicfp.com
END:VEVENT
BEGIN:VEVENT
DTSTAMP:20260420T074021Z
DTSTART;VALUE=DATE:20120603
SUMMARY:CloudMDE 2012 Final Version Due
DESCRIPTION:First International Workshop on Model-Driven Engineering on a
 nd for the Cloud
URL:http://www.wikicfp.com/cfp/servlet/event.showcfp?eventid=22528&copyow
 nerid=37303
UID:cfp261257-N@wikicfp.com
END:VEVENT
BEGIN:VEVENT
DTSTAMP:20260420T074021Z
DTSTART;VALUE=DATE:20120919
DTEND;VALUE=DATE:20120922
SUMMARY:MSCogComp 2012
DESCRIPTION:Modeling and Simulation for Cognitive Computation: IWish 2012
  Track & Journal Special Issue
URL:http://www.wikicfp.com/cfp/servlet/event.showcfp?eventid=19589&copyow
 nerid=37303
UID:cfp261263-E@wikicfp.com
END:VEVENT
BEGIN:VEVENT
DTSTAMP:20260420T074021Z
DTSTART;VALUE=DATE:20120515
SUMMARY:MSCogComp 2012 Deadline
DESCRIPTION:Modeling and Simulation for Cognitive Computation: IWish 2012
  Track & Journal Special Issue
URL:http://www.wikicfp.com/cfp/servlet/event.showcfp?eventid=19589&copyow
 nerid=37303
UID:cfp261263-D@wikicfp.com
END:VEVENT
BEGIN:VEVENT
DTSTAMP:20260420T074021Z
DTSTART;VALUE=DATE:20120615
SUMMARY:MSCogComp 2012 Notification Due
DESCRIPTION:Modeling and Simulation for Cognitive Computation: IWish 2012
  Track & Journal Special Issue
URL:http://www.wikicfp.com/cfp/servlet/event.showcfp?eventid=19589&copyow
 nerid=37303
UID:cfp261263-N@wikicfp.com
END:VEVENT
BEGIN:VEVENT
DTSTAMP:20260420T074021Z
DTSTART;VALUE=DATE:20120615
SUMMARY:MSCogComp 2012 Final Version Due
DESCRIPTION:Modeling and Simulation for Cognitive Computation: IWish 2012
  Track & Journal Special Issue
URL:http://www.wikicfp.com/cfp/servlet/event.showcfp?eventid=19589&copyow
 nerid=37303
UID:cfp261263-N@wikicfp.com
END:VEVENT
BEGIN:VEVENT
DTSTAMP:20260420T074021Z
DTSTART;VALUE=DATE:20121205
DTEND;VALUE=DATE:20121208
SUMMARY:RTSS 2012
DESCRIPTION:The 33rd IEEE Real-Time Systems Symposium
URL:http://www.wikicfp.com/cfp/servlet/event.showcfp?eventid=20484&copyow
 nerid=37303
UID:cfp261273-E@wikicfp.com
END:VEVENT
BEGIN:VEVENT
DTSTAMP:20260420T074021Z
DTSTART;VALUE=DATE:20120515
SUMMARY:RTSS 2012 Deadline
DESCRIPTION:The 33rd IEEE Real-Time Systems Symposium
URL:http://www.wikicfp.com/cfp/servlet/event.showcfp?eventid=20484&copyow
 nerid=37303
UID:cfp261273-D@wikicfp.com
END:VEVENT
BEGIN:VEVENT
DTSTAMP:20260420T074021Z
DTSTART;VALUE=DATE:20120723
DTEND;VALUE=DATE:20120724
SUMMARY:MDWE 2012
DESCRIPTION:Call For Papers: 8th Model-Driven and Agile Web Engineering -
  MDWE 2012 at ICWE 2012
URL:http://www.wikicfp.com/cfp/servlet/event.showcfp?eventid=22775&copyow
 nerid=37303
UID:cfp261264-E@wikicfp.com
END:VEVENT
BEGIN:VEVENT
DTSTAMP:20260420T074021Z
DTSTART;VALUE=DATE:20120525
SUMMARY:MDWE 2012 Deadline
DESCRIPTION:Call For Papers: 8th Model-Driven and Agile Web Engineering -
  MDWE 2012 at ICWE 2012
URL:http://www.wikicfp.com/cfp/servlet/event.showcfp?eventid=22775&copyow
 nerid=37303
UID:cfp261264-D@wikicfp.com
END:VEVENT
BEGIN:VEVENT
DTSTAMP:20260420T074021Z
DTSTART;VALUE=DATE:20120615
SUMMARY:MDWE 2012 Notification Due
DESCRIPTION:Call For Papers: 8th Model-Driven and Agile Web Engineering -
  MDWE 2012 at ICWE 2012
URL:http://www.wikicfp.com/cfp/servlet/event.showcfp?eventid=22775&copyow
 nerid=37303
UID:cfp261264-N@wikicfp.com
END:VEVENT
BEGIN:VEVENT
DTSTAMP:20260420T074021Z
DTSTART;VALUE=DATE:20120629
SUMMARY:MDWE 2012 Final Version Due
DESCRIPTION:Call For Papers: 8th Model-Driven and Agile Web Engineering -
  MDWE 2012 at ICWE 2012
URL:http://www.wikicfp.com/cfp/servlet/event.showcfp?eventid=22775&copyow
 nerid=37303
UID:cfp261264-N@wikicfp.com
END:VEVENT
BEGIN:VEVENT
DTSTAMP:20260420T074021Z
DTSTART;VALUE=DATE:20120925
DTEND;VALUE=DATE:20120929
SUMMARY:SLE 2012
DESCRIPTION:5th International Conference on Software Language Engineering
 
URL:http://www.wikicfp.com/cfp/servlet/event.showcfp?eventid=20977&copyow
 nerid=37303
UID:cfp261251-E@wikicfp.com
END:VEVENT
BEGIN:VEVENT
DTSTAMP:20260420T074021Z
DTSTART;VALUE=DATE:20120604
SUMMARY:SLE 2012 Abstract Due
DESCRIPTION:5th International Conference on Software Language Engineering
 
URL:http://www.wikicfp.com/cfp/servlet/event.showcfp?eventid=20977&copyow
 nerid=37303
UID:cfp261251-A@wikicfp.com
END:VEVENT
BEGIN:VEVENT
DTSTAMP:20260420T074021Z
DTSTART;VALUE=DATE:20120611
SUMMARY:SLE 2012 Deadline
DESCRIPTION:5th International Conference on Software Language Engineering
 
URL:http://www.wikicfp.com/cfp/servlet/event.showcfp?eventid=20977&copyow
 nerid=37303
UID:cfp261251-D@wikicfp.com
END:VEVENT
BEGIN:VEVENT
DTSTAMP:20260420T074021Z
DTSTART;VALUE=DATE:20120803
SUMMARY:SLE 2012 Notification Due
DESCRIPTION:5th International Conference on Software Language Engineering
 
URL:http://www.wikicfp.com/cfp/servlet/event.showcfp?eventid=20977&copyow
 nerid=37303
UID:cfp261251-N@wikicfp.com
END:VEVENT
BEGIN:VEVENT
DTSTAMP:20260420T074021Z
DTSTART;VALUE=DATE:20120903
SUMMARY:SLE 2012 Final Version Due
DESCRIPTION:5th International Conference on Software Language Engineering
 
URL:http://www.wikicfp.com/cfp/servlet/event.showcfp?eventid=20977&copyow
 nerid=37303
UID:cfp261251-N@wikicfp.com
END:VEVENT
BEGIN:VEVENT
DTSTAMP:20260420T074021Z
DTSTART;VALUE=DATE:20120630
SUMMARY:SI-SCED 2012 Deadline
DESCRIPTION:Special Issue on Soft Computing in Embedded System Design
URL:http://www.wikicfp.com/cfp/servlet/event.showcfp?eventid=19760&copyow
 nerid=37303
UID:cfp261265-D@wikicfp.com
END:VEVENT
BEGIN:VEVENT
DTSTAMP:20260420T074021Z
DTSTART;VALUE=DATE:20121030
SUMMARY:SI-SCED 2012 Notification Due
DESCRIPTION:Special Issue on Soft Computing in Embedded System Design
URL:http://www.wikicfp.com/cfp/servlet/event.showcfp?eventid=19760&copyow
 nerid=37303
UID:cfp261265-N@wikicfp.com
END:VEVENT
BEGIN:VEVENT
DTSTAMP:20260420T074021Z
DTSTART;VALUE=DATE:20121230
SUMMARY:SI-SCED 2012 Final Version Due
DESCRIPTION:Special Issue on Soft Computing in Embedded System Design
URL:http://www.wikicfp.com/cfp/servlet/event.showcfp?eventid=19760&copyow
 nerid=37303
UID:cfp261265-N@wikicfp.com
END:VEVENT
BEGIN:VEVENT
DTSTAMP:20260420T074021Z
DTSTART;VALUE=DATE:20131102
DTEND;VALUE=DATE:20131104
SUMMARY:CMCA 2013
DESCRIPTION:Second International Conference on Control\, Modeling\, Compu
 ting and Applications 
URL:http://www.wikicfp.com/cfp/servlet/event.showcfp?eventid=31287&copyow
 nerid=37303
UID:cfp368279-E@wikicfp.com
END:VEVENT
BEGIN:VEVENT
DTSTAMP:20260420T074021Z
DTSTART;VALUE=DATE:20130830
SUMMARY:CMCA 2013 Deadline
DESCRIPTION:Second International Conference on Control\, Modeling\, Compu
 ting and Applications 
URL:http://www.wikicfp.com/cfp/servlet/event.showcfp?eventid=31287&copyow
 nerid=37303
UID:cfp368279-D@wikicfp.com
END:VEVENT
BEGIN:VEVENT
DTSTAMP:20260420T074021Z
DTSTART;VALUE=DATE:20130930
SUMMARY:CMCA 2013 Notification Due
DESCRIPTION:Second International Conference on Control\, Modeling\, Compu
 ting and Applications 
URL:http://www.wikicfp.com/cfp/servlet/event.showcfp?eventid=31287&copyow
 nerid=37303
UID:cfp368279-N@wikicfp.com
END:VEVENT
BEGIN:VEVENT
DTSTAMP:20260420T074021Z
DTSTART;VALUE=DATE:20131010
SUMMARY:CMCA 2013 Final Version Due
DESCRIPTION:Second International Conference on Control\, Modeling\, Compu
 ting and Applications 
URL:http://www.wikicfp.com/cfp/servlet/event.showcfp?eventid=31287&copyow
 nerid=37303
UID:cfp368279-N@wikicfp.com
END:VEVENT
BEGIN:VEVENT
DTSTAMP:20260420T074021Z
DTSTART;VALUE=DATE:20140412
DTEND;VALUE=DATE:20140413
SUMMARY:FESCA 2014
DESCRIPTION:11th International Workshop on Formal Engineering approaches 
 to Software Components and Architectures
URL:http://www.wikicfp.com/cfp/servlet/event.showcfp?eventid=18609&copyow
 nerid=37303
UID:cfp261255-E@wikicfp.com
END:VEVENT
BEGIN:VEVENT
DTSTAMP:20260420T074021Z
DTSTART;VALUE=DATE:20131206
SUMMARY:FESCA 2014 Abstract Due
DESCRIPTION:11th International Workshop on Formal Engineering approaches 
 to Software Components and Architectures
URL:http://www.wikicfp.com/cfp/servlet/event.showcfp?eventid=18609&copyow
 nerid=37303
UID:cfp261255-A@wikicfp.com
END:VEVENT
BEGIN:VEVENT
DTSTAMP:20260420T074021Z
DTSTART;VALUE=DATE:20131213
SUMMARY:FESCA 2014 Deadline
DESCRIPTION:11th International Workshop on Formal Engineering approaches 
 to Software Components and Architectures
URL:http://www.wikicfp.com/cfp/servlet/event.showcfp?eventid=18609&copyow
 nerid=37303
UID:cfp261255-D@wikicfp.com
END:VEVENT
BEGIN:VEVENT
DTSTAMP:20260420T074021Z
DTSTART;VALUE=DATE:20140120
SUMMARY:FESCA 2014 Notification Due
DESCRIPTION:11th International Workshop on Formal Engineering approaches 
 to Software Components and Architectures
URL:http://www.wikicfp.com/cfp/servlet/event.showcfp?eventid=18609&copyow
 nerid=37303
UID:cfp261255-N@wikicfp.com
END:VEVENT
BEGIN:VEVENT
DTSTAMP:20260420T074021Z
DTSTART;VALUE=DATE:20140210
SUMMARY:FESCA 2014 Final Version Due
DESCRIPTION:11th International Workshop on Formal Engineering approaches 
 to Software Components and Architectures
URL:http://www.wikicfp.com/cfp/servlet/event.showcfp?eventid=18609&copyow
 nerid=37303
UID:cfp261255-N@wikicfp.com
END:VEVENT
BEGIN:VEVENT
DTSTAMP:20260420T074021Z
DTSTART;VALUE=DATE:20130101
DTEND;VALUE=DATE:20140101
SUMMARY:IJMS 2013
DESCRIPTION:International Journal of Modelling and Simulation
URL:http://www.wikicfp.com/cfp/servlet/event.showcfp?eventid=14556&copyow
 nerid=37303
UID:cfp261253-E@wikicfp.com
END:VEVENT
BEGIN:VEVENT
DTSTAMP:20260420T074021Z
DTSTART;VALUE=DATE:20131231
SUMMARY:IJMS 2013 Deadline
DESCRIPTION:International Journal of Modelling and Simulation
URL:http://www.wikicfp.com/cfp/servlet/event.showcfp?eventid=14556&copyow
 nerid=37303
UID:cfp261253-D@wikicfp.com
END:VEVENT
END:VCALENDAR
