BEGIN:VCALENDAR
PRODID:-//WikiCFP//Sofya 1.0//EN
VERSION:2.0
CALSCALE:GREGORIAN
BEGIN:VEVENT
DTSTAMP:20260424T222739Z
DTSTART;VALUE=DATE:20121107
DTEND;VALUE=DATE:20121110
SUMMARY:S+SSPR 2012
DESCRIPTION:Joint IAPR International Workshops on Structural and Syntacti
 c Pattern Recognition (SSPR 2012) and Statistical Techniques in Pattern 
 Recognition (SPR 2012) 
URL:http://www.wikicfp.com/cfp/servlet/event.showcfp?eventid=11434&copyow
 nerid=37097
UID:cfp259796-E@wikicfp.com
END:VEVENT
BEGIN:VEVENT
DTSTAMP:20260424T222739Z
DTSTART;VALUE=DATE:20120713
SUMMARY:S+SSPR 2012 Deadline
DESCRIPTION:Joint IAPR International Workshops on Structural and Syntacti
 c Pattern Recognition (SSPR 2012) and Statistical Techniques in Pattern 
 Recognition (SPR 2012) 
URL:http://www.wikicfp.com/cfp/servlet/event.showcfp?eventid=11434&copyow
 nerid=37097
UID:cfp259796-D@wikicfp.com
END:VEVENT
BEGIN:VEVENT
DTSTAMP:20260424T222739Z
DTSTART;VALUE=DATE:20120815
SUMMARY:S+SSPR 2012 Notification Due
DESCRIPTION:Joint IAPR International Workshops on Structural and Syntacti
 c Pattern Recognition (SSPR 2012) and Statistical Techniques in Pattern 
 Recognition (SPR 2012) 
URL:http://www.wikicfp.com/cfp/servlet/event.showcfp?eventid=11434&copyow
 nerid=37097
UID:cfp259796-N@wikicfp.com
END:VEVENT
BEGIN:VEVENT
DTSTAMP:20260424T222739Z
DTSTART;VALUE=DATE:20120903
SUMMARY:S+SSPR 2012 Final Version Due
DESCRIPTION:Joint IAPR International Workshops on Structural and Syntacti
 c Pattern Recognition (SSPR 2012) and Statistical Techniques in Pattern 
 Recognition (SPR 2012) 
URL:http://www.wikicfp.com/cfp/servlet/event.showcfp?eventid=11434&copyow
 nerid=37097
UID:cfp259796-N@wikicfp.com
END:VEVENT
BEGIN:VEVENT
DTSTAMP:20260424T222739Z
DTSTART;VALUE=DATE:20130713
DTEND;VALUE=DATE:20130717
SUMMARY:MDA 2013
DESCRIPTION:International Conference on Mass Data Analysis of Images and 
 Signals 
URL:http://www.wikicfp.com/cfp/servlet/event.showcfp?eventid=21257&copyow
 nerid=37097
UID:cfp259794-E@wikicfp.com
END:VEVENT
BEGIN:VEVENT
DTSTAMP:20260424T222739Z
DTSTART;VALUE=DATE:20130115
SUMMARY:MDA 2013 Deadline
DESCRIPTION:International Conference on Mass Data Analysis of Images and 
 Signals 
URL:http://www.wikicfp.com/cfp/servlet/event.showcfp?eventid=21257&copyow
 nerid=37097
UID:cfp259794-D@wikicfp.com
END:VEVENT
BEGIN:VEVENT
DTSTAMP:20260424T222739Z
DTSTART;VALUE=DATE:20130318
SUMMARY:MDA 2013 Notification Due
DESCRIPTION:International Conference on Mass Data Analysis of Images and 
 Signals 
URL:http://www.wikicfp.com/cfp/servlet/event.showcfp?eventid=21257&copyow
 nerid=37097
UID:cfp259794-N@wikicfp.com
END:VEVENT
BEGIN:VEVENT
DTSTAMP:20260424T222739Z
DTSTART;VALUE=DATE:20130406
SUMMARY:MDA 2013 Final Version Due
DESCRIPTION:International Conference on Mass Data Analysis of Images and 
 Signals 
URL:http://www.wikicfp.com/cfp/servlet/event.showcfp?eventid=21257&copyow
 nerid=37097
UID:cfp259794-N@wikicfp.com
END:VEVENT
END:VCALENDAR
