BEGIN:VCALENDAR
PRODID:-//WikiCFP//cleiane 1.0//EN
VERSION:2.0
CALSCALE:GREGORIAN
BEGIN:VEVENT
DTSTAMP:20260420T075409Z
DTSTART;VALUE=DATE:20120704
DTEND;VALUE=DATE:20120707
SUMMARY:ICDMKE 2012
DESCRIPTION:The 2012 International Conference of Data Mining and Knowledg
 e Engineering
URL:http://www.wikicfp.com/cfp/servlet/event.showcfp?eventid=21313&copyow
 nerid=36745
UID:cfp257367-E@wikicfp.com
END:VEVENT
BEGIN:VEVENT
DTSTAMP:20260420T075409Z
DTSTART;VALUE=DATE:20120318
SUMMARY:ICDMKE 2012 Deadline
DESCRIPTION:The 2012 International Conference of Data Mining and Knowledg
 e Engineering
URL:http://www.wikicfp.com/cfp/servlet/event.showcfp?eventid=21313&copyow
 nerid=36745
UID:cfp257367-D@wikicfp.com
END:VEVENT
BEGIN:VEVENT
DTSTAMP:20260420T075409Z
DTSTART;VALUE=DATE:20120331
SUMMARY:ICDMKE 2012 Final Version Due
DESCRIPTION:The 2012 International Conference of Data Mining and Knowledg
 e Engineering
URL:http://www.wikicfp.com/cfp/servlet/event.showcfp?eventid=21313&copyow
 nerid=36745
UID:cfp257367-N@wikicfp.com
END:VEVENT
BEGIN:VEVENT
DTSTAMP:20260420T075409Z
DTSTART;VALUE=DATE:20120902
DTEND;VALUE=DATE:20120905
SUMMARY:DMO 2012
DESCRIPTION:4th Conference on Data Mining and Optimization
URL:http://www.wikicfp.com/cfp/servlet/event.showcfp?eventid=19292&copyow
 nerid=36745
UID:cfp257362-E@wikicfp.com
END:VEVENT
BEGIN:VEVENT
DTSTAMP:20260420T075409Z
DTSTART;VALUE=DATE:20120320
SUMMARY:DMO 2012 Deadline
DESCRIPTION:4th Conference on Data Mining and Optimization
URL:http://www.wikicfp.com/cfp/servlet/event.showcfp?eventid=19292&copyow
 nerid=36745
UID:cfp257362-D@wikicfp.com
END:VEVENT
BEGIN:VEVENT
DTSTAMP:20260420T075409Z
DTSTART;VALUE=DATE:20120520
SUMMARY:DMO 2012 Notification Due
DESCRIPTION:4th Conference on Data Mining and Optimization
URL:http://www.wikicfp.com/cfp/servlet/event.showcfp?eventid=19292&copyow
 nerid=36745
UID:cfp257362-N@wikicfp.com
END:VEVENT
BEGIN:VEVENT
DTSTAMP:20260420T075409Z
DTSTART;VALUE=DATE:20120620
SUMMARY:DMO 2012 Final Version Due
DESCRIPTION:4th Conference on Data Mining and Optimization
URL:http://www.wikicfp.com/cfp/servlet/event.showcfp?eventid=19292&copyow
 nerid=36745
UID:cfp257362-N@wikicfp.com
END:VEVENT
BEGIN:VEVENT
DTSTAMP:20260420T075409Z
DTSTART;VALUE=DATE:20120526
DTEND;VALUE=DATE:20120528
SUMMARY:ICKD 2012
DESCRIPTION:2012 International Conference on Knowledge Discovery
URL:http://www.wikicfp.com/cfp/servlet/event.showcfp?eventid=20213&copyow
 nerid=36745
UID:cfp257366-E@wikicfp.com
END:VEVENT
BEGIN:VEVENT
DTSTAMP:20260420T075409Z
DTSTART;VALUE=DATE:20120325
SUMMARY:ICKD 2012 Deadline
DESCRIPTION:2012 International Conference on Knowledge Discovery
URL:http://www.wikicfp.com/cfp/servlet/event.showcfp?eventid=20213&copyow
 nerid=36745
UID:cfp257366-D@wikicfp.com
END:VEVENT
BEGIN:VEVENT
DTSTAMP:20260420T075409Z
DTSTART;VALUE=DATE:20120410
SUMMARY:ICKD 2012 Notification Due
DESCRIPTION:2012 International Conference on Knowledge Discovery
URL:http://www.wikicfp.com/cfp/servlet/event.showcfp?eventid=20213&copyow
 nerid=36745
UID:cfp257366-N@wikicfp.com
END:VEVENT
BEGIN:VEVENT
DTSTAMP:20260420T075409Z
DTSTART;VALUE=DATE:20120425
SUMMARY:ICKD 2012 Final Version Due
DESCRIPTION:2012 International Conference on Knowledge Discovery
URL:http://www.wikicfp.com/cfp/servlet/event.showcfp?eventid=20213&copyow
 nerid=36745
UID:cfp257366-N@wikicfp.com
END:VEVENT
BEGIN:VEVENT
DTSTAMP:20260420T075409Z
DTSTART;VALUE=DATE:20120903
DTEND;VALUE=DATE:20120908
SUMMARY:DaWaK 2012
DESCRIPTION:14th International Conference on Data Warehousing and Knowled
 ge Discovery
URL:http://www.wikicfp.com/cfp/servlet/event.showcfp?eventid=19836&copyow
 nerid=36745
UID:cfp257364-E@wikicfp.com
END:VEVENT
BEGIN:VEVENT
DTSTAMP:20260420T075409Z
DTSTART;VALUE=DATE:20120319
SUMMARY:DaWaK 2012 Abstract Due
DESCRIPTION:14th International Conference on Data Warehousing and Knowled
 ge Discovery
URL:http://www.wikicfp.com/cfp/servlet/event.showcfp?eventid=19836&copyow
 nerid=36745
UID:cfp257364-A@wikicfp.com
END:VEVENT
BEGIN:VEVENT
DTSTAMP:20260420T075409Z
DTSTART;VALUE=DATE:20120326
SUMMARY:DaWaK 2012 Deadline
DESCRIPTION:14th International Conference on Data Warehousing and Knowled
 ge Discovery
URL:http://www.wikicfp.com/cfp/servlet/event.showcfp?eventid=19836&copyow
 nerid=36745
UID:cfp257364-D@wikicfp.com
END:VEVENT
BEGIN:VEVENT
DTSTAMP:20260420T075409Z
DTSTART;VALUE=DATE:20120514
SUMMARY:DaWaK 2012 Notification Due
DESCRIPTION:14th International Conference on Data Warehousing and Knowled
 ge Discovery
URL:http://www.wikicfp.com/cfp/servlet/event.showcfp?eventid=19836&copyow
 nerid=36745
UID:cfp257364-N@wikicfp.com
END:VEVENT
BEGIN:VEVENT
DTSTAMP:20260420T075409Z
DTSTART;VALUE=DATE:20120610
SUMMARY:DaWaK 2012 Final Version Due
DESCRIPTION:14th International Conference on Data Warehousing and Knowled
 ge Discovery
URL:http://www.wikicfp.com/cfp/servlet/event.showcfp?eventid=19836&copyow
 nerid=36745
UID:cfp257364-N@wikicfp.com
END:VEVENT
BEGIN:VEVENT
DTSTAMP:20260420T075409Z
DTSTART;VALUE=DATE:20120808
DTEND;VALUE=DATE:20120811
SUMMARY:DIM 2012
DESCRIPTION:IEEE International Workshop on Data Integration and Mining
URL:http://www.wikicfp.com/cfp/servlet/event.showcfp?eventid=20030&copyow
 nerid=36745
UID:cfp257365-E@wikicfp.com
END:VEVENT
BEGIN:VEVENT
DTSTAMP:20260420T075409Z
DTSTART;VALUE=DATE:20120331
SUMMARY:DIM 2012 Deadline
DESCRIPTION:IEEE International Workshop on Data Integration and Mining
URL:http://www.wikicfp.com/cfp/servlet/event.showcfp?eventid=20030&copyow
 nerid=36745
UID:cfp257365-D@wikicfp.com
END:VEVENT
BEGIN:VEVENT
DTSTAMP:20260420T075409Z
DTSTART;VALUE=DATE:20120430
SUMMARY:DIM 2012 Notification Due
DESCRIPTION:IEEE International Workshop on Data Integration and Mining
URL:http://www.wikicfp.com/cfp/servlet/event.showcfp?eventid=20030&copyow
 nerid=36745
UID:cfp257365-N@wikicfp.com
END:VEVENT
BEGIN:VEVENT
DTSTAMP:20260420T075409Z
DTSTART;VALUE=DATE:20120514
SUMMARY:DIM 2012 Final Version Due
DESCRIPTION:IEEE International Workshop on Data Integration and Mining
URL:http://www.wikicfp.com/cfp/servlet/event.showcfp?eventid=20030&copyow
 nerid=36745
UID:cfp257365-N@wikicfp.com
END:VEVENT
BEGIN:VEVENT
DTSTAMP:20260420T075409Z
DTSTART;VALUE=DATE:20120808
DTEND;VALUE=DATE:20120811
SUMMARY:DMICSiD 2012
DESCRIPTION:The 1st International Workshop on Data Mining for Info-Commun
 ication Service and its Diffusion
URL:http://www.wikicfp.com/cfp/servlet/event.showcfp?eventid=22449&copyow
 nerid=36745
UID:cfp257368-E@wikicfp.com
END:VEVENT
BEGIN:VEVENT
DTSTAMP:20260420T075409Z
DTSTART;VALUE=DATE:20120406
SUMMARY:DMICSiD 2012 Deadline
DESCRIPTION:The 1st International Workshop on Data Mining for Info-Commun
 ication Service and its Diffusion
URL:http://www.wikicfp.com/cfp/servlet/event.showcfp?eventid=22449&copyow
 nerid=36745
UID:cfp257368-D@wikicfp.com
END:VEVENT
BEGIN:VEVENT
DTSTAMP:20260420T075409Z
DTSTART;VALUE=DATE:20120826
DTEND;VALUE=DATE:20120830
SUMMARY:ASONAM 2012
DESCRIPTION:The 2012 IEEE/ACM International Conference on Advances in Soc
 ial Networks Analysis and Mining
URL:http://www.wikicfp.com/cfp/servlet/event.showcfp?eventid=20247&copyow
 nerid=36745
UID:cfp257372-E@wikicfp.com
END:VEVENT
BEGIN:VEVENT
DTSTAMP:20260420T075409Z
DTSTART;VALUE=DATE:20120408
SUMMARY:ASONAM 2012 Abstract Due
DESCRIPTION:The 2012 IEEE/ACM International Conference on Advances in Soc
 ial Networks Analysis and Mining
URL:http://www.wikicfp.com/cfp/servlet/event.showcfp?eventid=20247&copyow
 nerid=36745
UID:cfp257372-A@wikicfp.com
END:VEVENT
BEGIN:VEVENT
DTSTAMP:20260420T075409Z
DTSTART;VALUE=DATE:20120415
SUMMARY:ASONAM 2012 Deadline
DESCRIPTION:The 2012 IEEE/ACM International Conference on Advances in Soc
 ial Networks Analysis and Mining
URL:http://www.wikicfp.com/cfp/servlet/event.showcfp?eventid=20247&copyow
 nerid=36745
UID:cfp257372-D@wikicfp.com
END:VEVENT
BEGIN:VEVENT
DTSTAMP:20260420T075409Z
DTSTART;VALUE=DATE:20120520
SUMMARY:ASONAM 2012 Notification Due
DESCRIPTION:The 2012 IEEE/ACM International Conference on Advances in Soc
 ial Networks Analysis and Mining
URL:http://www.wikicfp.com/cfp/servlet/event.showcfp?eventid=20247&copyow
 nerid=36745
UID:cfp257372-N@wikicfp.com
END:VEVENT
BEGIN:VEVENT
DTSTAMP:20260420T075409Z
DTSTART;VALUE=DATE:20120531
SUMMARY:ASONAM 2012 Final Version Due
DESCRIPTION:The 2012 IEEE/ACM International Conference on Advances in Soc
 ial Networks Analysis and Mining
URL:http://www.wikicfp.com/cfp/servlet/event.showcfp?eventid=20247&copyow
 nerid=36745
UID:cfp257372-N@wikicfp.com
END:VEVENT
BEGIN:VEVENT
DTSTAMP:20260420T075409Z
DTSTART;VALUE=DATE:20120722
DTEND;VALUE=DATE:20120724
SUMMARY:ITWP 2012
DESCRIPTION:10th Workshop on Intelligent Techniques for Web Personalizati
 on and Recommendation
URL:http://www.wikicfp.com/cfp/servlet/event.showcfp?eventid=21016&copyow
 nerid=36745
UID:cfp257373-E@wikicfp.com
END:VEVENT
BEGIN:VEVENT
DTSTAMP:20260420T075409Z
DTSTART;VALUE=DATE:20120415
SUMMARY:ITWP 2012 Deadline
DESCRIPTION:10th Workshop on Intelligent Techniques for Web Personalizati
 on and Recommendation
URL:http://www.wikicfp.com/cfp/servlet/event.showcfp?eventid=21016&copyow
 nerid=36745
UID:cfp257373-D@wikicfp.com
END:VEVENT
BEGIN:VEVENT
DTSTAMP:20260420T075409Z
DTSTART;VALUE=DATE:20120811
DTEND;VALUE=DATE:20120814
SUMMARY:FFDM 2012
DESCRIPTION:International Symposium on Foundations and Frontiers of Data 
 Mining
URL:http://www.wikicfp.com/cfp/servlet/event.showcfp?eventid=21181&copyow
 nerid=36745
UID:cfp257374-E@wikicfp.com
END:VEVENT
BEGIN:VEVENT
DTSTAMP:20260420T075409Z
DTSTART;VALUE=DATE:20120424
SUMMARY:FFDM 2012 Deadline
DESCRIPTION:International Symposium on Foundations and Frontiers of Data 
 Mining
URL:http://www.wikicfp.com/cfp/servlet/event.showcfp?eventid=21181&copyow
 nerid=36745
UID:cfp257374-D@wikicfp.com
END:VEVENT
BEGIN:VEVENT
DTSTAMP:20260420T075409Z
DTSTART;VALUE=DATE:20120520
SUMMARY:FFDM 2012 Notification Due
DESCRIPTION:International Symposium on Foundations and Frontiers of Data 
 Mining
URL:http://www.wikicfp.com/cfp/servlet/event.showcfp?eventid=21181&copyow
 nerid=36745
UID:cfp257374-N@wikicfp.com
END:VEVENT
BEGIN:VEVENT
DTSTAMP:20260420T075409Z
DTSTART;VALUE=DATE:20120610
SUMMARY:FFDM 2012 Final Version Due
DESCRIPTION:International Symposium on Foundations and Frontiers of Data 
 Mining
URL:http://www.wikicfp.com/cfp/servlet/event.showcfp?eventid=21181&copyow
 nerid=36745
UID:cfp257374-N@wikicfp.com
END:VEVENT
BEGIN:VEVENT
DTSTAMP:20260420T075409Z
DTSTART;VALUE=DATE:20120720
DTEND;VALUE=DATE:20120721
SUMMARY:DMLS 2012
DESCRIPTION:Workshop on Data Mining in Life Sciences 
URL:http://www.wikicfp.com/cfp/servlet/event.showcfp?eventid=19721&copyow
 nerid=36745
UID:cfp257363-E@wikicfp.com
END:VEVENT
BEGIN:VEVENT
DTSTAMP:20260420T075409Z
DTSTART;VALUE=DATE:20120429
SUMMARY:DMLS 2012 Deadline
DESCRIPTION:Workshop on Data Mining in Life Sciences 
URL:http://www.wikicfp.com/cfp/servlet/event.showcfp?eventid=19721&copyow
 nerid=36745
UID:cfp257363-D@wikicfp.com
END:VEVENT
BEGIN:VEVENT
DTSTAMP:20260420T075409Z
DTSTART;VALUE=DATE:20120515
SUMMARY:DMLS 2012 Notification Due
DESCRIPTION:Workshop on Data Mining in Life Sciences 
URL:http://www.wikicfp.com/cfp/servlet/event.showcfp?eventid=19721&copyow
 nerid=36745
UID:cfp257363-N@wikicfp.com
END:VEVENT
BEGIN:VEVENT
DTSTAMP:20260420T075409Z
DTSTART;VALUE=DATE:20120528
SUMMARY:DMLS 2012 Final Version Due
DESCRIPTION:Workshop on Data Mining in Life Sciences 
URL:http://www.wikicfp.com/cfp/servlet/event.showcfp?eventid=19721&copyow
 nerid=36745
UID:cfp257363-N@wikicfp.com
END:VEVENT
BEGIN:VEVENT
DTSTAMP:20260420T075409Z
DTSTART;VALUE=DATE:20120927
DTEND;VALUE=DATE:20121001
SUMMARY:WADTMB  2012
DESCRIPTION:1st Workshop on Algorithms for Data and Text Mining in Bioinf
 ormatics 
URL:http://www.wikicfp.com/cfp/servlet/event.showcfp?eventid=21709&copyow
 nerid=36745
UID:cfp257375-E@wikicfp.com
END:VEVENT
BEGIN:VEVENT
DTSTAMP:20260420T075409Z
DTSTART;VALUE=DATE:20120429
SUMMARY:WADTMB  2012 Deadline
DESCRIPTION:1st Workshop on Algorithms for Data and Text Mining in Bioinf
 ormatics 
URL:http://www.wikicfp.com/cfp/servlet/event.showcfp?eventid=21709&copyow
 nerid=36745
UID:cfp257375-D@wikicfp.com
END:VEVENT
BEGIN:VEVENT
DTSTAMP:20260420T075409Z
DTSTART;VALUE=DATE:20120526
SUMMARY:WADTMB  2012 Notification Due
DESCRIPTION:1st Workshop on Algorithms for Data and Text Mining in Bioinf
 ormatics 
URL:http://www.wikicfp.com/cfp/servlet/event.showcfp?eventid=21709&copyow
 nerid=36745
UID:cfp257375-N@wikicfp.com
END:VEVENT
BEGIN:VEVENT
DTSTAMP:20260420T075409Z
DTSTART;VALUE=DATE:20120604
SUMMARY:WADTMB  2012 Final Version Due
DESCRIPTION:1st Workshop on Algorithms for Data and Text Mining in Bioinf
 ormatics 
URL:http://www.wikicfp.com/cfp/servlet/event.showcfp?eventid=21709&copyow
 nerid=36745
UID:cfp257375-N@wikicfp.com
END:VEVENT
BEGIN:VEVENT
DTSTAMP:20260420T075409Z
DTSTART;VALUE=DATE:20120826
DTEND;VALUE=DATE:20120830
SUMMARY:MSNDS 2012
DESCRIPTION:IEEE/ACM Workshop on Mining Social Networks for Decision Supp
 ort
URL:http://www.wikicfp.com/cfp/servlet/event.showcfp?eventid=22448&copyow
 nerid=36745
UID:cfp257376-E@wikicfp.com
END:VEVENT
BEGIN:VEVENT
DTSTAMP:20260420T075409Z
DTSTART;VALUE=DATE:20120507
SUMMARY:MSNDS 2012 Deadline
DESCRIPTION:IEEE/ACM Workshop on Mining Social Networks for Decision Supp
 ort
URL:http://www.wikicfp.com/cfp/servlet/event.showcfp?eventid=22448&copyow
 nerid=36745
UID:cfp257376-D@wikicfp.com
END:VEVENT
BEGIN:VEVENT
DTSTAMP:20260420T075409Z
DTSTART;VALUE=DATE:20140718
DTEND;VALUE=DATE:20140719
SUMMARY:DMM 2014
DESCRIPTION:Workshop on Data Mining in Marketing
URL:http://www.wikicfp.com/cfp/servlet/event.showcfp?eventid=19724&copyow
 nerid=36745
UID:cfp257370-E@wikicfp.com
END:VEVENT
BEGIN:VEVENT
DTSTAMP:20260420T075409Z
DTSTART;VALUE=DATE:20140320
SUMMARY:DMM 2014 Deadline
DESCRIPTION:Workshop on Data Mining in Marketing
URL:http://www.wikicfp.com/cfp/servlet/event.showcfp?eventid=19724&copyow
 nerid=36745
UID:cfp257370-D@wikicfp.com
END:VEVENT
BEGIN:VEVENT
DTSTAMP:20260420T075409Z
DTSTART;VALUE=DATE:20140430
SUMMARY:DMM 2014 Notification Due
DESCRIPTION:Workshop on Data Mining in Marketing
URL:http://www.wikicfp.com/cfp/servlet/event.showcfp?eventid=19724&copyow
 nerid=36745
UID:cfp257370-N@wikicfp.com
END:VEVENT
BEGIN:VEVENT
DTSTAMP:20260420T075409Z
DTSTART;VALUE=DATE:20140512
SUMMARY:DMM 2014 Final Version Due
DESCRIPTION:Workshop on Data Mining in Marketing
URL:http://www.wikicfp.com/cfp/servlet/event.showcfp?eventid=19724&copyow
 nerid=36745
UID:cfp257370-N@wikicfp.com
END:VEVENT
BEGIN:VEVENT
DTSTAMP:20260420T075409Z
DTSTART;VALUE=DATE:20140718
DTEND;VALUE=DATE:20140719
SUMMARY:DMA 2014
DESCRIPTION:Workshop on Data Mining in Agriculture
URL:http://www.wikicfp.com/cfp/servlet/event.showcfp?eventid=19728&copyow
 nerid=36745
UID:cfp257371-E@wikicfp.com
END:VEVENT
BEGIN:VEVENT
DTSTAMP:20260420T075409Z
DTSTART;VALUE=DATE:20140320
SUMMARY:DMA 2014 Deadline
DESCRIPTION:Workshop on Data Mining in Agriculture
URL:http://www.wikicfp.com/cfp/servlet/event.showcfp?eventid=19728&copyow
 nerid=36745
UID:cfp257371-D@wikicfp.com
END:VEVENT
BEGIN:VEVENT
DTSTAMP:20260420T075409Z
DTSTART;VALUE=DATE:20140430
SUMMARY:DMA 2014 Notification Due
DESCRIPTION:Workshop on Data Mining in Agriculture
URL:http://www.wikicfp.com/cfp/servlet/event.showcfp?eventid=19728&copyow
 nerid=36745
UID:cfp257371-N@wikicfp.com
END:VEVENT
BEGIN:VEVENT
DTSTAMP:20260420T075409Z
DTSTART;VALUE=DATE:20140512
SUMMARY:DMA 2014 Final Version Due
DESCRIPTION:Workshop on Data Mining in Agriculture
URL:http://www.wikicfp.com/cfp/servlet/event.showcfp?eventid=19728&copyow
 nerid=36745
UID:cfp257371-N@wikicfp.com
END:VEVENT
END:VCALENDAR
