BEGIN:VCALENDAR
PRODID:-//WikiCFP//Hugolmf 1.0//EN
VERSION:2.0
CALSCALE:GREGORIAN
BEGIN:VEVENT
DTSTAMP:20260426T020709Z
DTSTART;VALUE=DATE:20120624
DTEND;VALUE=DATE:20120630
SUMMARY:CLOUD 2012
DESCRIPTION:5th International Conference on Cloud Computing
URL:http://www.wikicfp.com/cfp/servlet/event.showcfp?eventid=20092&copyow
 nerid=36720
UID:cfp257085-E@wikicfp.com
END:VEVENT
BEGIN:VEVENT
DTSTAMP:20260426T020709Z
DTSTART;VALUE=DATE:20120229
SUMMARY:CLOUD 2012 Abstract Due
DESCRIPTION:5th International Conference on Cloud Computing
URL:http://www.wikicfp.com/cfp/servlet/event.showcfp?eventid=20092&copyow
 nerid=36720
UID:cfp257085-A@wikicfp.com
END:VEVENT
BEGIN:VEVENT
DTSTAMP:20260426T020709Z
DTSTART;VALUE=DATE:20120308
SUMMARY:CLOUD 2012 Deadline
DESCRIPTION:5th International Conference on Cloud Computing
URL:http://www.wikicfp.com/cfp/servlet/event.showcfp?eventid=20092&copyow
 nerid=36720
UID:cfp257085-D@wikicfp.com
END:VEVENT
BEGIN:VEVENT
DTSTAMP:20260426T020709Z
DTSTART;VALUE=DATE:20120408
SUMMARY:CLOUD 2012 Notification Due
DESCRIPTION:5th International Conference on Cloud Computing
URL:http://www.wikicfp.com/cfp/servlet/event.showcfp?eventid=20092&copyow
 nerid=36720
UID:cfp257085-N@wikicfp.com
END:VEVENT
BEGIN:VEVENT
DTSTAMP:20260426T020709Z
DTSTART;VALUE=DATE:20120420
SUMMARY:CLOUD 2012 Final Version Due
DESCRIPTION:5th International Conference on Cloud Computing
URL:http://www.wikicfp.com/cfp/servlet/event.showcfp?eventid=20092&copyow
 nerid=36720
UID:cfp257085-N@wikicfp.com
END:VEVENT
BEGIN:VEVENT
DTSTAMP:20260426T020709Z
DTSTART;VALUE=DATE:20121014
DTEND;VALUE=DATE:20121018
SUMMARY:SOCC 2012
DESCRIPTION:ACM Symposium on Cloud Computing 
URL:http://www.wikicfp.com/cfp/servlet/event.showcfp?eventid=22398&copyow
 nerid=36720
UID:cfp257084-E@wikicfp.com
END:VEVENT
BEGIN:VEVENT
DTSTAMP:20260426T020709Z
DTSTART;VALUE=DATE:20120608
SUMMARY:SOCC 2012 Abstract Due
DESCRIPTION:ACM Symposium on Cloud Computing 
URL:http://www.wikicfp.com/cfp/servlet/event.showcfp?eventid=22398&copyow
 nerid=36720
UID:cfp257084-A@wikicfp.com
END:VEVENT
BEGIN:VEVENT
DTSTAMP:20260426T020709Z
DTSTART;VALUE=DATE:20120615
SUMMARY:SOCC 2012 Deadline
DESCRIPTION:ACM Symposium on Cloud Computing 
URL:http://www.wikicfp.com/cfp/servlet/event.showcfp?eventid=22398&copyow
 nerid=36720
UID:cfp257084-D@wikicfp.com
END:VEVENT
BEGIN:VEVENT
DTSTAMP:20260426T020709Z
DTSTART;VALUE=DATE:20120903
SUMMARY:SOCC 2012 Notification Due
DESCRIPTION:ACM Symposium on Cloud Computing 
URL:http://www.wikicfp.com/cfp/servlet/event.showcfp?eventid=22398&copyow
 nerid=36720
UID:cfp257084-N@wikicfp.com
END:VEVENT
BEGIN:VEVENT
DTSTAMP:20260426T020709Z
DTSTART;VALUE=DATE:20120928
SUMMARY:SOCC 2012 Final Version Due
DESCRIPTION:ACM Symposium on Cloud Computing 
URL:http://www.wikicfp.com/cfp/servlet/event.showcfp?eventid=22398&copyow
 nerid=36720
UID:cfp257084-N@wikicfp.com
END:VEVENT
BEGIN:VEVENT
DTSTAMP:20260426T020709Z
DTSTART;VALUE=DATE:20121203
DTEND;VALUE=DATE:20121207
SUMMARY:CloudCom 2012
DESCRIPTION:IEEE 4th International Conference on Cloud Computing Technolo
 gy and Science
URL:http://www.wikicfp.com/cfp/servlet/event.showcfp?eventid=22112&copyow
 nerid=36720
UID:cfp257083-E@wikicfp.com
END:VEVENT
BEGIN:VEVENT
DTSTAMP:20260426T020709Z
DTSTART;VALUE=DATE:20120727
SUMMARY:CloudCom 2012 Deadline
DESCRIPTION:IEEE 4th International Conference on Cloud Computing Technolo
 gy and Science
URL:http://www.wikicfp.com/cfp/servlet/event.showcfp?eventid=22112&copyow
 nerid=36720
UID:cfp257083-D@wikicfp.com
END:VEVENT
BEGIN:VEVENT
DTSTAMP:20260426T020709Z
DTSTART;VALUE=DATE:20120907
SUMMARY:CloudCom 2012 Notification Due
DESCRIPTION:IEEE 4th International Conference on Cloud Computing Technolo
 gy and Science
URL:http://www.wikicfp.com/cfp/servlet/event.showcfp?eventid=22112&copyow
 nerid=36720
UID:cfp257083-N@wikicfp.com
END:VEVENT
BEGIN:VEVENT
DTSTAMP:20260426T020709Z
DTSTART;VALUE=DATE:20120928
SUMMARY:CloudCom 2012 Final Version Due
DESCRIPTION:IEEE 4th International Conference on Cloud Computing Technolo
 gy and Science
URL:http://www.wikicfp.com/cfp/servlet/event.showcfp?eventid=22112&copyow
 nerid=36720
UID:cfp257083-N@wikicfp.com
END:VEVENT
END:VCALENDAR
