BEGIN:VCALENDAR
PRODID:-//WikiCFP//yhtay 1.0//EN
VERSION:2.0
CALSCALE:GREGORIAN
BEGIN:VEVENT
DTSTAMP:20260423T051334Z
DTSTART;VALUE=DATE:20121111
DTEND;VALUE=DATE:20121116
SUMMARY:ICPR 2012
DESCRIPTION:The 21st International Conference on Pattern Recognition
URL:http://www.wikicfp.com/cfp/servlet/event.showcfp?eventid=7437&copyown
 erid=36100
UID:cfp253028-E@wikicfp.com
END:VEVENT
BEGIN:VEVENT
DTSTAMP:20260423T051334Z
DTSTART;VALUE=DATE:20120407
SUMMARY:ICPR 2012 Deadline
DESCRIPTION:The 21st International Conference on Pattern Recognition
URL:http://www.wikicfp.com/cfp/servlet/event.showcfp?eventid=7437&copyown
 erid=36100
UID:cfp253028-D@wikicfp.com
END:VEVENT
BEGIN:VEVENT
DTSTAMP:20260423T051334Z
DTSTART;VALUE=DATE:20120615
SUMMARY:ICPR 2012 Notification Due
DESCRIPTION:The 21st International Conference on Pattern Recognition
URL:http://www.wikicfp.com/cfp/servlet/event.showcfp?eventid=7437&copyown
 erid=36100
UID:cfp253028-N@wikicfp.com
END:VEVENT
BEGIN:VEVENT
DTSTAMP:20260423T051334Z
DTSTART;VALUE=DATE:20120715
SUMMARY:ICPR 2012 Final Version Due
DESCRIPTION:The 21st International Conference on Pattern Recognition
URL:http://www.wikicfp.com/cfp/servlet/event.showcfp?eventid=7437&copyown
 erid=36100
UID:cfp253028-N@wikicfp.com
END:VEVENT
BEGIN:VEVENT
DTSTAMP:20260423T051334Z
DTSTART;VALUE=DATE:20121006
DTEND;VALUE=DATE:20121010
SUMMARY:STUDENT 2012
DESCRIPTION:IEEE Conference on Sustainable Utilization and Development in
  EngiNeering and Technology
URL:http://www.wikicfp.com/cfp/servlet/event.showcfp?eventid=22093&copyow
 nerid=36100
UID:cfp253065-E@wikicfp.com
END:VEVENT
BEGIN:VEVENT
DTSTAMP:20260423T051334Z
DTSTART;VALUE=DATE:20120415
SUMMARY:STUDENT 2012 Deadline
DESCRIPTION:IEEE Conference on Sustainable Utilization and Development in
  EngiNeering and Technology
URL:http://www.wikicfp.com/cfp/servlet/event.showcfp?eventid=22093&copyow
 nerid=36100
UID:cfp253065-D@wikicfp.com
END:VEVENT
BEGIN:VEVENT
DTSTAMP:20260423T051334Z
DTSTART;VALUE=DATE:20120801
SUMMARY:STUDENT 2012 Final Version Due
DESCRIPTION:IEEE Conference on Sustainable Utilization and Development in
  EngiNeering and Technology
URL:http://www.wikicfp.com/cfp/servlet/event.showcfp?eventid=22093&copyow
 nerid=36100
UID:cfp253065-N@wikicfp.com
END:VEVENT
END:VCALENDAR
