BEGIN:VCALENDAR
PRODID:-//WikiCFP//valerina 1.0//EN
VERSION:2.0
CALSCALE:GREGORIAN
BEGIN:VEVENT
DTSTAMP:20260423T052748Z
DTSTART;VALUE=DATE:20160621
DTEND;VALUE=DATE:20160624
SUMMARY:AlCoB 2016
DESCRIPTION:3rd International Conference on Algorithms for Computational 
 Biology - Proceedings in LNCS/LNBI - Special Issue in Journal IEEE/ACM T
 CBB (IF: 1.438\, Q1)
URL:http://www.wikicfp.com/cfp/servlet/event.showcfp?eventid=50116&copyow
 nerid=34914
UID:cfp581832-E@wikicfp.com
END:VEVENT
BEGIN:VEVENT
DTSTAMP:20260423T052748Z
DTSTART;VALUE=DATE:20160202
SUMMARY:AlCoB 2016 Deadline
DESCRIPTION:3rd International Conference on Algorithms for Computational 
 Biology - Proceedings in LNCS/LNBI - Special Issue in Journal IEEE/ACM T
 CBB (IF: 1.438\, Q1)
URL:http://www.wikicfp.com/cfp/servlet/event.showcfp?eventid=50116&copyow
 nerid=34914
UID:cfp581832-D@wikicfp.com
END:VEVENT
BEGIN:VEVENT
DTSTAMP:20260423T052748Z
DTSTART;VALUE=DATE:20160301
SUMMARY:AlCoB 2016 Notification Due
DESCRIPTION:3rd International Conference on Algorithms for Computational 
 Biology - Proceedings in LNCS/LNBI - Special Issue in Journal IEEE/ACM T
 CBB (IF: 1.438\, Q1)
URL:http://www.wikicfp.com/cfp/servlet/event.showcfp?eventid=50116&copyow
 nerid=34914
UID:cfp581832-N@wikicfp.com
END:VEVENT
BEGIN:VEVENT
DTSTAMP:20260423T052748Z
DTSTART;VALUE=DATE:20160315
SUMMARY:AlCoB 2016 Final Version Due
DESCRIPTION:3rd International Conference on Algorithms for Computational 
 Biology - Proceedings in LNCS/LNBI - Special Issue in Journal IEEE/ACM T
 CBB (IF: 1.438\, Q1)
URL:http://www.wikicfp.com/cfp/servlet/event.showcfp?eventid=50116&copyow
 nerid=34914
UID:cfp581832-N@wikicfp.com
END:VEVENT
BEGIN:VEVENT
DTSTAMP:20260423T052748Z
DTSTART;VALUE=DATE:20160626
DTEND;VALUE=DATE:20160701
SUMMARY:BIOTECHNO 2016
DESCRIPTION:The Eighth International Conference on Bioinformatics\, Bioco
 mputational Systems and Biotechnologies
URL:http://www.wikicfp.com/cfp/servlet/event.showcfp?eventid=51273&copyow
 nerid=34914
UID:cfp581831-E@wikicfp.com
END:VEVENT
BEGIN:VEVENT
DTSTAMP:20260423T052748Z
DTSTART;VALUE=DATE:20160307
SUMMARY:BIOTECHNO 2016 Deadline
DESCRIPTION:The Eighth International Conference on Bioinformatics\, Bioco
 mputational Systems and Biotechnologies
URL:http://www.wikicfp.com/cfp/servlet/event.showcfp?eventid=51273&copyow
 nerid=34914
UID:cfp581831-D@wikicfp.com
END:VEVENT
BEGIN:VEVENT
DTSTAMP:20260423T052748Z
DTSTART;VALUE=DATE:20160402
SUMMARY:BIOTECHNO 2016 Notification Due
DESCRIPTION:The Eighth International Conference on Bioinformatics\, Bioco
 mputational Systems and Biotechnologies
URL:http://www.wikicfp.com/cfp/servlet/event.showcfp?eventid=51273&copyow
 nerid=34914
UID:cfp581831-N@wikicfp.com
END:VEVENT
BEGIN:VEVENT
DTSTAMP:20260423T052748Z
DTSTART;VALUE=DATE:20160517
SUMMARY:BIOTECHNO 2016 Final Version Due
DESCRIPTION:The Eighth International Conference on Bioinformatics\, Bioco
 mputational Systems and Biotechnologies
URL:http://www.wikicfp.com/cfp/servlet/event.showcfp?eventid=51273&copyow
 nerid=34914
UID:cfp581831-N@wikicfp.com
END:VEVENT
BEGIN:VEVENT
DTSTAMP:20260423T052748Z
DTSTART;VALUE=DATE:20160511
DTEND;VALUE=DATE:20160514
SUMMARY:ICBPE-Ei 2016
DESCRIPTION:Ei Compendex\,Scopus--2016 3rd International Conference on Bi
 omedical and Pharmaceutical Engineering (ICBPE 2016)
URL:http://www.wikicfp.com/cfp/servlet/event.showcfp?eventid=49711&copyow
 nerid=34914
UID:cfp581836-E@wikicfp.com
END:VEVENT
BEGIN:VEVENT
DTSTAMP:20260423T052748Z
DTSTART;VALUE=DATE:20160310
SUMMARY:ICBPE-Ei 2016 Deadline
DESCRIPTION:Ei Compendex\,Scopus--2016 3rd International Conference on Bi
 omedical and Pharmaceutical Engineering (ICBPE 2016)
URL:http://www.wikicfp.com/cfp/servlet/event.showcfp?eventid=49711&copyow
 nerid=34914
UID:cfp581836-D@wikicfp.com
END:VEVENT
BEGIN:VEVENT
DTSTAMP:20260423T052748Z
DTSTART;VALUE=DATE:20160829
DTEND;VALUE=DATE:20160903
SUMMARY:BGRSSB 2016
DESCRIPTION:Bioinformatics of Genome Regulation and Structure - Systems B
 iology
URL:http://www.wikicfp.com/cfp/servlet/event.showcfp?eventid=55067&copyow
 nerid=34914
UID:cfp616852-E@wikicfp.com
END:VEVENT
BEGIN:VEVENT
DTSTAMP:20260423T052748Z
DTSTART;VALUE=DATE:20160601
SUMMARY:BGRSSB 2016 Deadline
DESCRIPTION:Bioinformatics of Genome Regulation and Structure - Systems B
 iology
URL:http://www.wikicfp.com/cfp/servlet/event.showcfp?eventid=55067&copyow
 nerid=34914
UID:cfp616852-D@wikicfp.com
END:VEVENT
BEGIN:VEVENT
DTSTAMP:20260423T052748Z
DTSTART;VALUE=DATE:20160610
SUMMARY:BGRSSB 2016 Notification Due
DESCRIPTION:Bioinformatics of Genome Regulation and Structure - Systems B
 iology
URL:http://www.wikicfp.com/cfp/servlet/event.showcfp?eventid=55067&copyow
 nerid=34914
UID:cfp616852-N@wikicfp.com
END:VEVENT
BEGIN:VEVENT
DTSTAMP:20260423T052748Z
DTSTART;VALUE=DATE:20160610
SUMMARY:BGRSSB 2016 Final Version Due
DESCRIPTION:Bioinformatics of Genome Regulation and Structure - Systems B
 iology
URL:http://www.wikicfp.com/cfp/servlet/event.showcfp?eventid=55067&copyow
 nerid=34914
UID:cfp616852-N@wikicfp.com
END:VEVENT
BEGIN:VEVENT
DTSTAMP:20260423T052748Z
DTSTART;VALUE=DATE:20160901
DTEND;VALUE=DATE:20160904
SUMMARY:HPC @CIBB 2016
DESCRIPTION:High-Performance Computing and Deep learning methods for Geno
 mic Data Analysis
URL:http://www.wikicfp.com/cfp/servlet/event.showcfp?eventid=54605&copyow
 nerid=34914
UID:cfp616853-E@wikicfp.com
END:VEVENT
BEGIN:VEVENT
DTSTAMP:20260423T052748Z
DTSTART;VALUE=DATE:20160612
SUMMARY:HPC @CIBB 2016 Deadline
DESCRIPTION:High-Performance Computing and Deep learning methods for Geno
 mic Data Analysis
URL:http://www.wikicfp.com/cfp/servlet/event.showcfp?eventid=54605&copyow
 nerid=34914
UID:cfp616853-D@wikicfp.com
END:VEVENT
BEGIN:VEVENT
DTSTAMP:20260423T052748Z
DTSTART;VALUE=DATE:20160622
SUMMARY:HPC @CIBB 2016 Notification Due
DESCRIPTION:High-Performance Computing and Deep learning methods for Geno
 mic Data Analysis
URL:http://www.wikicfp.com/cfp/servlet/event.showcfp?eventid=54605&copyow
 nerid=34914
UID:cfp616853-N@wikicfp.com
END:VEVENT
BEGIN:VEVENT
DTSTAMP:20260423T052748Z
DTSTART;VALUE=DATE:20160708
SUMMARY:HPC @CIBB 2016 Final Version Due
DESCRIPTION:High-Performance Computing and Deep learning methods for Geno
 mic Data Analysis
URL:http://www.wikicfp.com/cfp/servlet/event.showcfp?eventid=54605&copyow
 nerid=34914
UID:cfp616853-N@wikicfp.com
END:VEVENT
BEGIN:VEVENT
DTSTAMP:20260423T052748Z
DTSTART;VALUE=DATE:20161017
DTEND;VALUE=DATE:20161018
SUMMARY:BACON 2016
DESCRIPTION:Workshop on Brain Analysis using  COnnectivity Networks
URL:http://www.wikicfp.com/cfp/servlet/event.showcfp?eventid=54619&copyow
 nerid=34914
UID:cfp616846-E@wikicfp.com
END:VEVENT
BEGIN:VEVENT
DTSTAMP:20260423T052748Z
DTSTART;VALUE=DATE:20160614
SUMMARY:BACON 2016 Abstract Due
DESCRIPTION:Workshop on Brain Analysis using  COnnectivity Networks
URL:http://www.wikicfp.com/cfp/servlet/event.showcfp?eventid=54619&copyow
 nerid=34914
UID:cfp616846-A@wikicfp.com
END:VEVENT
BEGIN:VEVENT
DTSTAMP:20260423T052748Z
DTSTART;VALUE=DATE:20160617
SUMMARY:BACON 2016 Deadline
DESCRIPTION:Workshop on Brain Analysis using  COnnectivity Networks
URL:http://www.wikicfp.com/cfp/servlet/event.showcfp?eventid=54619&copyow
 nerid=34914
UID:cfp616846-D@wikicfp.com
END:VEVENT
BEGIN:VEVENT
DTSTAMP:20260423T052748Z
DTSTART;VALUE=DATE:20160725
SUMMARY:BACON 2016 Notification Due
DESCRIPTION:Workshop on Brain Analysis using  COnnectivity Networks
URL:http://www.wikicfp.com/cfp/servlet/event.showcfp?eventid=54619&copyow
 nerid=34914
UID:cfp616846-N@wikicfp.com
END:VEVENT
BEGIN:VEVENT
DTSTAMP:20260423T052748Z
DTSTART;VALUE=DATE:20160812
SUMMARY:BACON 2016 Final Version Due
DESCRIPTION:Workshop on Brain Analysis using  COnnectivity Networks
URL:http://www.wikicfp.com/cfp/servlet/event.showcfp?eventid=54619&copyow
 nerid=34914
UID:cfp616846-N@wikicfp.com
END:VEVENT
BEGIN:VEVENT
DTSTAMP:20260423T052748Z
DTSTART;VALUE=DATE:20160624
SUMMARY:Bigdata-Medicine 2016 Deadline
DESCRIPTION:High-Performance Computing and Big Data in Omics-Based Medici
 ne 2016
URL:http://www.wikicfp.com/cfp/servlet/event.showcfp?eventid=54126&copyow
 nerid=34914
UID:cfp616851-D@wikicfp.com
END:VEVENT
BEGIN:VEVENT
DTSTAMP:20260423T052748Z
DTSTART;VALUE=DATE:20161023
DTEND;VALUE=DATE:20161026
SUMMARY:BDB 2016
DESCRIPTION:Workshop on Big Data in Bioinformatics
URL:http://www.wikicfp.com/cfp/servlet/event.showcfp?eventid=54872&copyow
 nerid=34914
UID:cfp616849-E@wikicfp.com
END:VEVENT
BEGIN:VEVENT
DTSTAMP:20260423T052748Z
DTSTART;VALUE=DATE:20160630
SUMMARY:BDB 2016 Deadline
DESCRIPTION:Workshop on Big Data in Bioinformatics
URL:http://www.wikicfp.com/cfp/servlet/event.showcfp?eventid=54872&copyow
 nerid=34914
UID:cfp616849-D@wikicfp.com
END:VEVENT
BEGIN:VEVENT
DTSTAMP:20260423T052748Z
DTSTART;VALUE=DATE:20160731
SUMMARY:BDB 2016 Notification Due
DESCRIPTION:Workshop on Big Data in Bioinformatics
URL:http://www.wikicfp.com/cfp/servlet/event.showcfp?eventid=54872&copyow
 nerid=34914
UID:cfp616849-N@wikicfp.com
END:VEVENT
BEGIN:VEVENT
DTSTAMP:20260423T052748Z
DTSTART;VALUE=DATE:20160815
SUMMARY:BDB 2016 Final Version Due
DESCRIPTION:Workshop on Big Data in Bioinformatics
URL:http://www.wikicfp.com/cfp/servlet/event.showcfp?eventid=54872&copyow
 nerid=34914
UID:cfp616849-N@wikicfp.com
END:VEVENT
BEGIN:VEVENT
DTSTAMP:20260423T052748Z
DTSTART;VALUE=DATE:20161113
DTEND;VALUE=DATE:20161118
SUMMARY:BRAININFO 2016
DESCRIPTION:The First International Conference on Neuroscience and Cognit
 ive Brain Information
URL:http://www.wikicfp.com/cfp/servlet/event.showcfp?eventid=52314&copyow
 nerid=34914
UID:cfp616856-E@wikicfp.com
END:VEVENT
BEGIN:VEVENT
DTSTAMP:20260423T052748Z
DTSTART;VALUE=DATE:20160717
SUMMARY:BRAININFO 2016 Deadline
DESCRIPTION:The First International Conference on Neuroscience and Cognit
 ive Brain Information
URL:http://www.wikicfp.com/cfp/servlet/event.showcfp?eventid=52314&copyow
 nerid=34914
UID:cfp616856-D@wikicfp.com
END:VEVENT
BEGIN:VEVENT
DTSTAMP:20260423T052748Z
DTSTART;VALUE=DATE:20160820
SUMMARY:BRAININFO 2016 Notification Due
DESCRIPTION:The First International Conference on Neuroscience and Cognit
 ive Brain Information
URL:http://www.wikicfp.com/cfp/servlet/event.showcfp?eventid=52314&copyow
 nerid=34914
UID:cfp616856-N@wikicfp.com
END:VEVENT
BEGIN:VEVENT
DTSTAMP:20260423T052748Z
DTSTART;VALUE=DATE:20161004
SUMMARY:BRAININFO 2016 Final Version Due
DESCRIPTION:The First International Conference on Neuroscience and Cognit
 ive Brain Information
URL:http://www.wikicfp.com/cfp/servlet/event.showcfp?eventid=52314&copyow
 nerid=34914
UID:cfp616856-N@wikicfp.com
END:VEVENT
BEGIN:VEVENT
DTSTAMP:20260423T052748Z
DTSTART;VALUE=DATE:20160903
DTEND;VALUE=DATE:20160905
SUMMARY:MLSB posters 2016
DESCRIPTION:Call for Poster abstracts: 10th International Workshop Machin
 e Learning in Systems Biology (MLSB-2016)
URL:http://www.wikicfp.com/cfp/servlet/event.showcfp?eventid=56329&copyow
 nerid=34914
UID:cfp616850-E@wikicfp.com
END:VEVENT
BEGIN:VEVENT
DTSTAMP:20260423T052748Z
DTSTART;VALUE=DATE:20160819
SUMMARY:MLSB posters 2016 Deadline
DESCRIPTION:Call for Poster abstracts: 10th International Workshop Machin
 e Learning in Systems Biology (MLSB-2016)
URL:http://www.wikicfp.com/cfp/servlet/event.showcfp?eventid=56329&copyow
 nerid=34914
UID:cfp616850-D@wikicfp.com
END:VEVENT
BEGIN:VEVENT
DTSTAMP:20260423T052748Z
DTSTART;VALUE=DATE:20160822
SUMMARY:MLSB posters 2016 Notification Due
DESCRIPTION:Call for Poster abstracts: 10th International Workshop Machin
 e Learning in Systems Biology (MLSB-2016)
URL:http://www.wikicfp.com/cfp/servlet/event.showcfp?eventid=56329&copyow
 nerid=34914
UID:cfp616850-N@wikicfp.com
END:VEVENT
BEGIN:VEVENT
DTSTAMP:20260423T052748Z
DTSTART;VALUE=DATE:20160819
SUMMARY:MLSB posters 2016 Final Version Due
DESCRIPTION:Call for Poster abstracts: 10th International Workshop Machin
 e Learning in Systems Biology (MLSB-2016)
URL:http://www.wikicfp.com/cfp/servlet/event.showcfp?eventid=56329&copyow
 nerid=34914
UID:cfp616850-N@wikicfp.com
END:VEVENT
BEGIN:VEVENT
DTSTAMP:20260423T052748Z
DTSTART;VALUE=DATE:20161020
DTEND;VALUE=DATE:20161024
SUMMARY:NUBACoM 2016
DESCRIPTION:Natural\, Unconventional\, and Bio-inspired Algorithms and Co
 mputation Methods Workshop 
URL:http://www.wikicfp.com/cfp/servlet/event.showcfp?eventid=56455&copyow
 nerid=34914
UID:cfp616845-E@wikicfp.com
END:VEVENT
BEGIN:VEVENT
DTSTAMP:20260423T052748Z
DTSTART;VALUE=DATE:20160820
SUMMARY:NUBACoM 2016 Deadline
DESCRIPTION:Natural\, Unconventional\, and Bio-inspired Algorithms and Co
 mputation Methods Workshop 
URL:http://www.wikicfp.com/cfp/servlet/event.showcfp?eventid=56455&copyow
 nerid=34914
UID:cfp616845-D@wikicfp.com
END:VEVENT
BEGIN:VEVENT
DTSTAMP:20260423T052748Z
DTSTART;VALUE=DATE:20160920
SUMMARY:NUBACoM 2016 Notification Due
DESCRIPTION:Natural\, Unconventional\, and Bio-inspired Algorithms and Co
 mputation Methods Workshop 
URL:http://www.wikicfp.com/cfp/servlet/event.showcfp?eventid=56455&copyow
 nerid=34914
UID:cfp616845-N@wikicfp.com
END:VEVENT
BEGIN:VEVENT
DTSTAMP:20260423T052748Z
DTSTART;VALUE=DATE:20170306
DTEND;VALUE=DATE:20170309
SUMMARY:HPC-BIO 2017
DESCRIPTION:Advances in High-Performance Bioinformatics\, Systems and Syn
 thetic Biology
URL:http://www.wikicfp.com/cfp/servlet/event.showcfp?eventid=56585&copyow
 nerid=34914
UID:cfp616854-E@wikicfp.com
END:VEVENT
BEGIN:VEVENT
DTSTAMP:20260423T052748Z
DTSTART;VALUE=DATE:20160825
SUMMARY:HPC-BIO 2017 Deadline
DESCRIPTION:Advances in High-Performance Bioinformatics\, Systems and Syn
 thetic Biology
URL:http://www.wikicfp.com/cfp/servlet/event.showcfp?eventid=56585&copyow
 nerid=34914
UID:cfp616854-D@wikicfp.com
END:VEVENT
BEGIN:VEVENT
DTSTAMP:20260423T052748Z
DTSTART;VALUE=DATE:20161025
SUMMARY:HPC-BIO 2017 Notification Due
DESCRIPTION:Advances in High-Performance Bioinformatics\, Systems and Syn
 thetic Biology
URL:http://www.wikicfp.com/cfp/servlet/event.showcfp?eventid=56585&copyow
 nerid=34914
UID:cfp616854-N@wikicfp.com
END:VEVENT
BEGIN:VEVENT
DTSTAMP:20260423T052748Z
DTSTART;VALUE=DATE:20161120
SUMMARY:HPC-BIO 2017 Final Version Due
DESCRIPTION:Advances in High-Performance Bioinformatics\, Systems and Syn
 thetic Biology
URL:http://www.wikicfp.com/cfp/servlet/event.showcfp?eventid=56585&copyow
 nerid=34914
UID:cfp616854-N@wikicfp.com
END:VEVENT
BEGIN:VEVENT
DTSTAMP:20260423T052748Z
DTSTART;VALUE=DATE:20161205
DTEND;VALUE=DATE:20161206
SUMMARY:WiML 2016
DESCRIPTION:11th Workshop for Women in Machine Learning\, Co-located with
  NIPS
URL:http://www.wikicfp.com/cfp/servlet/event.showcfp?eventid=56951&copyow
 nerid=34914
UID:cfp616841-E@wikicfp.com
END:VEVENT
BEGIN:VEVENT
DTSTAMP:20260423T052748Z
DTSTART;VALUE=DATE:20160826
SUMMARY:WiML 2016 Deadline
DESCRIPTION:11th Workshop for Women in Machine Learning\, Co-located with
  NIPS
URL:http://www.wikicfp.com/cfp/servlet/event.showcfp?eventid=56951&copyow
 nerid=34914
UID:cfp616841-D@wikicfp.com
END:VEVENT
BEGIN:VEVENT
DTSTAMP:20260423T052748Z
DTSTART;VALUE=DATE:20161001
SUMMARY:WiML 2016 Notification Due
DESCRIPTION:11th Workshop for Women in Machine Learning\, Co-located with
  NIPS
URL:http://www.wikicfp.com/cfp/servlet/event.showcfp?eventid=56951&copyow
 nerid=34914
UID:cfp616841-N@wikicfp.com
END:VEVENT
BEGIN:VEVENT
DTSTAMP:20260423T052748Z
DTSTART;VALUE=DATE:20161121
DTEND;VALUE=DATE:20161125
SUMMARY:ICBSB 2016
DESCRIPTION:2016 Internaitonal Conference on Biomedical Signal and Bioinf
 ormatics (ICBSB 2016)
URL:http://www.wikicfp.com/cfp/servlet/event.showcfp?eventid=53699&copyow
 nerid=34914
UID:cfp616847-E@wikicfp.com
END:VEVENT
BEGIN:VEVENT
DTSTAMP:20260423T052748Z
DTSTART;VALUE=DATE:20160925
SUMMARY:ICBSB 2016 Deadline
DESCRIPTION:2016 Internaitonal Conference on Biomedical Signal and Bioinf
 ormatics (ICBSB 2016)
URL:http://www.wikicfp.com/cfp/servlet/event.showcfp?eventid=53699&copyow
 nerid=34914
UID:cfp616847-D@wikicfp.com
END:VEVENT
BEGIN:VEVENT
DTSTAMP:20260423T052748Z
DTSTART;VALUE=DATE:20161207
DTEND;VALUE=DATE:20161213
SUMMARY:ICCEB 2016
DESCRIPTION:2016 5th International Conference on Computer Engineering and
  Bioinformatics(ICCEB 2016)
URL:http://www.wikicfp.com/cfp/servlet/event.showcfp?eventid=54815&copyow
 nerid=34914
UID:cfp616848-E@wikicfp.com
END:VEVENT
BEGIN:VEVENT
DTSTAMP:20260423T052748Z
DTSTART;VALUE=DATE:20161015
SUMMARY:ICCEB 2016 Deadline
DESCRIPTION:2016 5th International Conference on Computer Engineering and
  Bioinformatics(ICCEB 2016)
URL:http://www.wikicfp.com/cfp/servlet/event.showcfp?eventid=54815&copyow
 nerid=34914
UID:cfp616848-D@wikicfp.com
END:VEVENT
BEGIN:VEVENT
DTSTAMP:20260423T052748Z
DTSTART;VALUE=DATE:20170224
DTEND;VALUE=DATE:20170227
SUMMARY:ICPRAM 2017
DESCRIPTION:6th International Conference on Pattern Recognition Applicati
 ons and Methods
URL:http://www.wikicfp.com/cfp/servlet/event.showcfp?eventid=56548&copyow
 nerid=34914
UID:cfp616843-E@wikicfp.com
END:VEVENT
BEGIN:VEVENT
DTSTAMP:20260423T052748Z
DTSTART;VALUE=DATE:20161020
SUMMARY:ICPRAM 2017 Deadline
DESCRIPTION:6th International Conference on Pattern Recognition Applicati
 ons and Methods
URL:http://www.wikicfp.com/cfp/servlet/event.showcfp?eventid=56548&copyow
 nerid=34914
UID:cfp616843-D@wikicfp.com
END:VEVENT
BEGIN:VEVENT
DTSTAMP:20260423T052748Z
DTSTART;VALUE=DATE:20161128
SUMMARY:ICPRAM 2017 Notification Due
DESCRIPTION:6th International Conference on Pattern Recognition Applicati
 ons and Methods
URL:http://www.wikicfp.com/cfp/servlet/event.showcfp?eventid=56548&copyow
 nerid=34914
UID:cfp616843-N@wikicfp.com
END:VEVENT
BEGIN:VEVENT
DTSTAMP:20260423T052748Z
DTSTART;VALUE=DATE:20161213
SUMMARY:ICPRAM 2017 Final Version Due
DESCRIPTION:6th International Conference on Pattern Recognition Applicati
 ons and Methods
URL:http://www.wikicfp.com/cfp/servlet/event.showcfp?eventid=56548&copyow
 nerid=34914
UID:cfp616843-N@wikicfp.com
END:VEVENT
BEGIN:VEVENT
DTSTAMP:20260423T052748Z
DTSTART;VALUE=DATE:20170221
DTEND;VALUE=DATE:20170224
SUMMARY:BIOINFORMATICS 2017
DESCRIPTION:8th International Conference on Bioinformatics Models\, Metho
 ds and Algorithms
URL:http://www.wikicfp.com/cfp/servlet/event.showcfp?eventid=57031&copyow
 nerid=34914
UID:cfp616855-E@wikicfp.com
END:VEVENT
BEGIN:VEVENT
DTSTAMP:20260423T052748Z
DTSTART;VALUE=DATE:20161020
SUMMARY:BIOINFORMATICS 2017 Deadline
DESCRIPTION:8th International Conference on Bioinformatics Models\, Metho
 ds and Algorithms
URL:http://www.wikicfp.com/cfp/servlet/event.showcfp?eventid=57031&copyow
 nerid=34914
UID:cfp616855-D@wikicfp.com
END:VEVENT
BEGIN:VEVENT
DTSTAMP:20260423T052748Z
DTSTART;VALUE=DATE:20161123
SUMMARY:BIOINFORMATICS 2017 Notification Due
DESCRIPTION:8th International Conference on Bioinformatics Models\, Metho
 ds and Algorithms
URL:http://www.wikicfp.com/cfp/servlet/event.showcfp?eventid=57031&copyow
 nerid=34914
UID:cfp616855-N@wikicfp.com
END:VEVENT
BEGIN:VEVENT
DTSTAMP:20260423T052748Z
DTSTART;VALUE=DATE:20161209
SUMMARY:BIOINFORMATICS 2017 Final Version Due
DESCRIPTION:8th International Conference on Bioinformatics Models\, Metho
 ds and Algorithms
URL:http://www.wikicfp.com/cfp/servlet/event.showcfp?eventid=57031&copyow
 nerid=34914
UID:cfp616855-N@wikicfp.com
END:VEVENT
BEGIN:VEVENT
DTSTAMP:20260423T052748Z
DTSTART;VALUE=DATE:20170611
DTEND;VALUE=DATE:20170616
SUMMARY:ICAISC 2017
DESCRIPTION:International Conference on Artificial Intelligence and Soft 
 Computing
URL:http://www.wikicfp.com/cfp/servlet/event.showcfp?eventid=54000&copyow
 nerid=34914
UID:cfp616844-E@wikicfp.com
END:VEVENT
BEGIN:VEVENT
DTSTAMP:20260423T052748Z
DTSTART;VALUE=DATE:20161120
SUMMARY:ICAISC 2017 Deadline
DESCRIPTION:International Conference on Artificial Intelligence and Soft 
 Computing
URL:http://www.wikicfp.com/cfp/servlet/event.showcfp?eventid=54000&copyow
 nerid=34914
UID:cfp616844-D@wikicfp.com
END:VEVENT
BEGIN:VEVENT
DTSTAMP:20260423T052748Z
DTSTART;VALUE=DATE:20170215
SUMMARY:ICAISC 2017 Notification Due
DESCRIPTION:International Conference on Artificial Intelligence and Soft 
 Computing
URL:http://www.wikicfp.com/cfp/servlet/event.showcfp?eventid=54000&copyow
 nerid=34914
UID:cfp616844-N@wikicfp.com
END:VEVENT
BEGIN:VEVENT
DTSTAMP:20260423T052748Z
DTSTART;VALUE=DATE:20170301
SUMMARY:ICAISC 2017 Final Version Due
DESCRIPTION:International Conference on Artificial Intelligence and Soft 
 Computing
URL:http://www.wikicfp.com/cfp/servlet/event.showcfp?eventid=54000&copyow
 nerid=34914
UID:cfp616844-N@wikicfp.com
END:VEVENT
BEGIN:VEVENT
DTSTAMP:20260423T052748Z
DTSTART;VALUE=DATE:20171111
SUMMARY:EEIJ 2017 Deadline
DESCRIPTION:Electrical Engineering: An International Journal
URL:http://www.wikicfp.com/cfp/servlet/event.showcfp?eventid=49580&copyow
 nerid=34914
UID:cfp616842-D@wikicfp.com
END:VEVENT
BEGIN:VEVENT
DTSTAMP:20260423T052748Z
DTSTART;VALUE=DATE:20171211
SUMMARY:EEIJ 2017 Notification Due
DESCRIPTION:Electrical Engineering: An International Journal
URL:http://www.wikicfp.com/cfp/servlet/event.showcfp?eventid=49580&copyow
 nerid=34914
UID:cfp616842-N@wikicfp.com
END:VEVENT
BEGIN:VEVENT
DTSTAMP:20260423T052748Z
DTSTART;VALUE=DATE:20171218
SUMMARY:EEIJ 2017 Final Version Due
DESCRIPTION:Electrical Engineering: An International Journal
URL:http://www.wikicfp.com/cfp/servlet/event.showcfp?eventid=49580&copyow
 nerid=34914
UID:cfp616842-N@wikicfp.com
END:VEVENT
END:VCALENDAR
