BEGIN:VCALENDAR
PRODID:-//WikiCFP//aroche 1.0//EN
VERSION:2.0
CALSCALE:GREGORIAN
BEGIN:VEVENT
DTSTAMP:20260423T124941Z
DTSTART;VALUE=DATE:20120909
DTEND;VALUE=DATE:20120913
SUMMARY:ECCB 2012
DESCRIPTION:European Conference on Computational Biology
URL:http://www.wikicfp.com/cfp/servlet/event.showcfp?eventid=18831&copyow
 nerid=34836
UID:cfp242213-E@wikicfp.com
END:VEVENT
BEGIN:VEVENT
DTSTAMP:20260423T124941Z
DTSTART;VALUE=DATE:20120330
SUMMARY:ECCB 2012 Deadline
DESCRIPTION:European Conference on Computational Biology
URL:http://www.wikicfp.com/cfp/servlet/event.showcfp?eventid=18831&copyow
 nerid=34836
UID:cfp242213-D@wikicfp.com
END:VEVENT
BEGIN:VEVENT
DTSTAMP:20260423T124941Z
DTSTART;VALUE=DATE:20120515
SUMMARY:ECCB 2012 Notification Due
DESCRIPTION:European Conference on Computational Biology
URL:http://www.wikicfp.com/cfp/servlet/event.showcfp?eventid=18831&copyow
 nerid=34836
UID:cfp242213-N@wikicfp.com
END:VEVENT
BEGIN:VEVENT
DTSTAMP:20260423T124941Z
DTSTART;VALUE=DATE:20121004
DTEND;VALUE=DATE:20121008
SUMMARY:BIBM 2012
DESCRIPTION:IEEE International Conference on Bioinformatics and Biomedici
 ne
URL:http://www.wikicfp.com/cfp/servlet/event.showcfp?eventid=20854&copyow
 nerid=34836
UID:cfp242258-E@wikicfp.com
END:VEVENT
BEGIN:VEVENT
DTSTAMP:20260423T124941Z
DTSTART;VALUE=DATE:20120510
SUMMARY:BIBM 2012 Deadline
DESCRIPTION:IEEE International Conference on Bioinformatics and Biomedici
 ne
URL:http://www.wikicfp.com/cfp/servlet/event.showcfp?eventid=20854&copyow
 nerid=34836
UID:cfp242258-D@wikicfp.com
END:VEVENT
BEGIN:VEVENT
DTSTAMP:20260423T124941Z
DTSTART;VALUE=DATE:20120720
SUMMARY:BIBM 2012 Notification Due
DESCRIPTION:IEEE International Conference on Bioinformatics and Biomedici
 ne
URL:http://www.wikicfp.com/cfp/servlet/event.showcfp?eventid=20854&copyow
 nerid=34836
UID:cfp242258-N@wikicfp.com
END:VEVENT
BEGIN:VEVENT
DTSTAMP:20260423T124941Z
DTSTART;VALUE=DATE:20120815
SUMMARY:BIBM 2012 Final Version Due
DESCRIPTION:IEEE International Conference on Bioinformatics and Biomedici
 ne
URL:http://www.wikicfp.com/cfp/servlet/event.showcfp?eventid=20854&copyow
 nerid=34836
UID:cfp242258-N@wikicfp.com
END:VEVENT
BEGIN:VEVENT
DTSTAMP:20260423T124941Z
DTSTART;VALUE=DATE:20121007
DTEND;VALUE=DATE:20121011
SUMMARY:ACM-BCB 2012
DESCRIPTION:ACM International Conference On Bioinformatics\, Computationa
 l Biology\, and Biomedicine
URL:http://www.wikicfp.com/cfp/servlet/event.showcfp?eventid=21357&copyow
 nerid=34836
UID:cfp245279-E@wikicfp.com
END:VEVENT
BEGIN:VEVENT
DTSTAMP:20260423T124941Z
DTSTART;VALUE=DATE:20120507
SUMMARY:ACM-BCB 2012 Abstract Due
DESCRIPTION:ACM International Conference On Bioinformatics\, Computationa
 l Biology\, and Biomedicine
URL:http://www.wikicfp.com/cfp/servlet/event.showcfp?eventid=21357&copyow
 nerid=34836
UID:cfp245279-A@wikicfp.com
END:VEVENT
BEGIN:VEVENT
DTSTAMP:20260423T124941Z
DTSTART;VALUE=DATE:20120514
SUMMARY:ACM-BCB 2012 Deadline
DESCRIPTION:ACM International Conference On Bioinformatics\, Computationa
 l Biology\, and Biomedicine
URL:http://www.wikicfp.com/cfp/servlet/event.showcfp?eventid=21357&copyow
 nerid=34836
UID:cfp245279-D@wikicfp.com
END:VEVENT
BEGIN:VEVENT
DTSTAMP:20260423T124941Z
DTSTART;VALUE=DATE:20120716
SUMMARY:ACM-BCB 2012 Notification Due
DESCRIPTION:ACM International Conference On Bioinformatics\, Computationa
 l Biology\, and Biomedicine
URL:http://www.wikicfp.com/cfp/servlet/event.showcfp?eventid=21357&copyow
 nerid=34836
UID:cfp245279-N@wikicfp.com
END:VEVENT
BEGIN:VEVENT
DTSTAMP:20260423T124941Z
DTSTART;VALUE=DATE:20120816
SUMMARY:ACM-BCB 2012 Final Version Due
DESCRIPTION:ACM International Conference On Bioinformatics\, Computationa
 l Biology\, and Biomedicine
URL:http://www.wikicfp.com/cfp/servlet/event.showcfp?eventid=21357&copyow
 nerid=34836
UID:cfp245279-N@wikicfp.com
END:VEVENT
BEGIN:VEVENT
DTSTAMP:20260423T124941Z
DTSTART;VALUE=DATE:20120919
DTEND;VALUE=DATE:20120922
SUMMARY:MSCogComp 2012
DESCRIPTION:Modeling and Simulation for Cognitive Computation: IWish 2012
  Track & Journal Special Issue
URL:http://www.wikicfp.com/cfp/servlet/event.showcfp?eventid=19589&copyow
 nerid=34836
UID:cfp245280-E@wikicfp.com
END:VEVENT
BEGIN:VEVENT
DTSTAMP:20260423T124941Z
DTSTART;VALUE=DATE:20120515
SUMMARY:MSCogComp 2012 Deadline
DESCRIPTION:Modeling and Simulation for Cognitive Computation: IWish 2012
  Track & Journal Special Issue
URL:http://www.wikicfp.com/cfp/servlet/event.showcfp?eventid=19589&copyow
 nerid=34836
UID:cfp245280-D@wikicfp.com
END:VEVENT
BEGIN:VEVENT
DTSTAMP:20260423T124941Z
DTSTART;VALUE=DATE:20120615
SUMMARY:MSCogComp 2012 Notification Due
DESCRIPTION:Modeling and Simulation for Cognitive Computation: IWish 2012
  Track & Journal Special Issue
URL:http://www.wikicfp.com/cfp/servlet/event.showcfp?eventid=19589&copyow
 nerid=34836
UID:cfp245280-N@wikicfp.com
END:VEVENT
BEGIN:VEVENT
DTSTAMP:20260423T124941Z
DTSTART;VALUE=DATE:20120615
SUMMARY:MSCogComp 2012 Final Version Due
DESCRIPTION:Modeling and Simulation for Cognitive Computation: IWish 2012
  Track & Journal Special Issue
URL:http://www.wikicfp.com/cfp/servlet/event.showcfp?eventid=19589&copyow
 nerid=34836
UID:cfp245280-N@wikicfp.com
END:VEVENT
BEGIN:VEVENT
DTSTAMP:20260423T124941Z
DTSTART;VALUE=DATE:20121208
DTEND;VALUE=DATE:20121211
SUMMARY:AMLTA 2012
DESCRIPTION:The First International Conference on Advanced Machine Learni
 ng Technologies and Applications
URL:http://www.wikicfp.com/cfp/servlet/event.showcfp?eventid=21360&copyow
 nerid=34836
UID:cfp245278-E@wikicfp.com
END:VEVENT
BEGIN:VEVENT
DTSTAMP:20260423T124941Z
DTSTART;VALUE=DATE:20120731
SUMMARY:AMLTA 2012 Deadline
DESCRIPTION:The First International Conference on Advanced Machine Learni
 ng Technologies and Applications
URL:http://www.wikicfp.com/cfp/servlet/event.showcfp?eventid=21360&copyow
 nerid=34836
UID:cfp245278-D@wikicfp.com
END:VEVENT
BEGIN:VEVENT
DTSTAMP:20260423T124941Z
DTSTART;VALUE=DATE:20120815
SUMMARY:AMLTA 2012 Notification Due
DESCRIPTION:The First International Conference on Advanced Machine Learni
 ng Technologies and Applications
URL:http://www.wikicfp.com/cfp/servlet/event.showcfp?eventid=21360&copyow
 nerid=34836
UID:cfp245278-N@wikicfp.com
END:VEVENT
BEGIN:VEVENT
DTSTAMP:20260423T124941Z
DTSTART;VALUE=DATE:20120915
SUMMARY:AMLTA 2012 Final Version Due
DESCRIPTION:The First International Conference on Advanced Machine Learni
 ng Technologies and Applications
URL:http://www.wikicfp.com/cfp/servlet/event.showcfp?eventid=21360&copyow
 nerid=34836
UID:cfp245278-N@wikicfp.com
END:VEVENT
END:VCALENDAR
