BEGIN:VCALENDAR
PRODID:-//WikiCFP//Esther123 1.0//EN
VERSION:2.0
CALSCALE:GREGORIAN
BEGIN:VEVENT
DTSTAMP:20260421T164246Z
DTSTART;VALUE=DATE:20120713
DTEND;VALUE=DATE:20120716
SUMMARY:WeST 2012
DESCRIPTION:The Fourth International Conference on Web & Semantic Technol
 ogy
URL:http://www.wikicfp.com/cfp/servlet/event.showcfp?eventid=20435&copyow
 nerid=34666
UID:cfp241133-E@wikicfp.com
END:VEVENT
BEGIN:VEVENT
DTSTAMP:20260421T164246Z
DTSTART;VALUE=DATE:20120320
SUMMARY:WeST 2012 Deadline
DESCRIPTION:The Fourth International Conference on Web & Semantic Technol
 ogy
URL:http://www.wikicfp.com/cfp/servlet/event.showcfp?eventid=20435&copyow
 nerid=34666
UID:cfp241133-D@wikicfp.com
END:VEVENT
BEGIN:VEVENT
DTSTAMP:20260421T164246Z
DTSTART;VALUE=DATE:20120420
SUMMARY:WeST 2012 Notification Due
DESCRIPTION:The Fourth International Conference on Web & Semantic Technol
 ogy
URL:http://www.wikicfp.com/cfp/servlet/event.showcfp?eventid=20435&copyow
 nerid=34666
UID:cfp241133-N@wikicfp.com
END:VEVENT
BEGIN:VEVENT
DTSTAMP:20260421T164246Z
DTSTART;VALUE=DATE:20120501
SUMMARY:WeST 2012 Final Version Due
DESCRIPTION:The Fourth International Conference on Web & Semantic Technol
 ogy
URL:http://www.wikicfp.com/cfp/servlet/event.showcfp?eventid=20435&copyow
 nerid=34666
UID:cfp241133-N@wikicfp.com
END:VEVENT
END:VCALENDAR
