BEGIN:VCALENDAR
PRODID:-//WikiCFP//Darpus 1.0//EN
VERSION:2.0
CALSCALE:GREGORIAN
BEGIN:VEVENT
DTSTAMP:20260419T194038Z
DTSTART;VALUE=DATE:20120303
DTEND;VALUE=DATE:20120308
SUMMARY:ASPLOS 2012
DESCRIPTION:Architectural Support for Programming Languages and Operating
  Systems
URL:http://www.wikicfp.com/cfp/servlet/event.showcfp?eventid=16050&copyow
 nerid=34657
UID:cfp241069-E@wikicfp.com
END:VEVENT
BEGIN:VEVENT
DTSTAMP:20260419T194038Z
DTSTART;VALUE=DATE:20110718
SUMMARY:ASPLOS 2012 Abstract Due
DESCRIPTION:Architectural Support for Programming Languages and Operating
  Systems
URL:http://www.wikicfp.com/cfp/servlet/event.showcfp?eventid=16050&copyow
 nerid=34657
UID:cfp241069-A@wikicfp.com
END:VEVENT
BEGIN:VEVENT
DTSTAMP:20260419T194038Z
DTSTART;VALUE=DATE:20110725
SUMMARY:ASPLOS 2012 Deadline
DESCRIPTION:Architectural Support for Programming Languages and Operating
  Systems
URL:http://www.wikicfp.com/cfp/servlet/event.showcfp?eventid=16050&copyow
 nerid=34657
UID:cfp241069-D@wikicfp.com
END:VEVENT
BEGIN:VEVENT
DTSTAMP:20260419T194038Z
DTSTART;VALUE=DATE:20111028
SUMMARY:ASPLOS 2012 Notification Due
DESCRIPTION:Architectural Support for Programming Languages and Operating
  Systems
URL:http://www.wikicfp.com/cfp/servlet/event.showcfp?eventid=16050&copyow
 nerid=34657
UID:cfp241069-N@wikicfp.com
END:VEVENT
BEGIN:VEVENT
DTSTAMP:20260419T194038Z
DTSTART;VALUE=DATE:20120113
SUMMARY:ASPLOS 2012 Final Version Due
DESCRIPTION:Architectural Support for Programming Languages and Operating
  Systems
URL:http://www.wikicfp.com/cfp/servlet/event.showcfp?eventid=16050&copyow
 nerid=34657
UID:cfp241069-N@wikicfp.com
END:VEVENT
BEGIN:VEVENT
DTSTAMP:20260419T194038Z
DTSTART;VALUE=DATE:20120305
DTEND;VALUE=DATE:20120310
SUMMARY:HPSC 2012
DESCRIPTION:5th International Conference on High Performance Scientific C
 omputing
URL:http://www.wikicfp.com/cfp/servlet/event.showcfp?eventid=11148&copyow
 nerid=34657
UID:cfp241071-E@wikicfp.com
END:VEVENT
BEGIN:VEVENT
DTSTAMP:20260419T194038Z
DTSTART;VALUE=DATE:20110929
SUMMARY:HPSC 2012 Deadline
DESCRIPTION:5th International Conference on High Performance Scientific C
 omputing
URL:http://www.wikicfp.com/cfp/servlet/event.showcfp?eventid=11148&copyow
 nerid=34657
UID:cfp241071-D@wikicfp.com
END:VEVENT
BEGIN:VEVENT
DTSTAMP:20260419T194038Z
DTSTART;VALUE=DATE:20120609
DTEND;VALUE=DATE:20120614
SUMMARY:ISCA 2012
DESCRIPTION:THE 39th ANNUAL INTERNATIONAL SYMPOSIUM ON COMPUTER ARCHITECT
 URE
URL:http://www.wikicfp.com/cfp/servlet/event.showcfp?eventid=17535&copyow
 nerid=34657
UID:cfp241074-E@wikicfp.com
END:VEVENT
BEGIN:VEVENT
DTSTAMP:20260419T194038Z
DTSTART;VALUE=DATE:20111114
SUMMARY:ISCA 2012 Abstract Due
DESCRIPTION:THE 39th ANNUAL INTERNATIONAL SYMPOSIUM ON COMPUTER ARCHITECT
 URE
URL:http://www.wikicfp.com/cfp/servlet/event.showcfp?eventid=17535&copyow
 nerid=34657
UID:cfp241074-A@wikicfp.com
END:VEVENT
BEGIN:VEVENT
DTSTAMP:20260419T194038Z
DTSTART;VALUE=DATE:20111121
SUMMARY:ISCA 2012 Deadline
DESCRIPTION:THE 39th ANNUAL INTERNATIONAL SYMPOSIUM ON COMPUTER ARCHITECT
 URE
URL:http://www.wikicfp.com/cfp/servlet/event.showcfp?eventid=17535&copyow
 nerid=34657
UID:cfp241074-D@wikicfp.com
END:VEVENT
BEGIN:VEVENT
DTSTAMP:20260419T194038Z
DTSTART;VALUE=DATE:20120305
SUMMARY:ISCA 2012 Notification Due
DESCRIPTION:THE 39th ANNUAL INTERNATIONAL SYMPOSIUM ON COMPUTER ARCHITECT
 URE
URL:http://www.wikicfp.com/cfp/servlet/event.showcfp?eventid=17535&copyow
 nerid=34657
UID:cfp241074-N@wikicfp.com
END:VEVENT
BEGIN:VEVENT
DTSTAMP:20260419T194038Z
DTSTART;VALUE=DATE:20120314
DTEND;VALUE=DATE:20120317
SUMMARY:IMECS 2012
DESCRIPTION:International MultiConference of Engineers and Computer Scien
 tists 2012
URL:http://www.wikicfp.com/cfp/servlet/event.showcfp?eventid=16327&copyow
 nerid=34657
UID:cfp241073-E@wikicfp.com
END:VEVENT
BEGIN:VEVENT
DTSTAMP:20260419T194038Z
DTSTART;VALUE=DATE:20120108
SUMMARY:IMECS 2012 Deadline
DESCRIPTION:International MultiConference of Engineers and Computer Scien
 tists 2012
URL:http://www.wikicfp.com/cfp/servlet/event.showcfp?eventid=16327&copyow
 nerid=34657
UID:cfp241073-D@wikicfp.com
END:VEVENT
BEGIN:VEVENT
DTSTAMP:20260419T194038Z
DTSTART;VALUE=DATE:20120118
SUMMARY:IMECS 2012 Final Version Due
DESCRIPTION:International MultiConference of Engineers and Computer Scien
 tists 2012
URL:http://www.wikicfp.com/cfp/servlet/event.showcfp?eventid=16327&copyow
 nerid=34657
UID:cfp241073-N@wikicfp.com
END:VEVENT
BEGIN:VEVENT
DTSTAMP:20260419T194038Z
DTSTART;VALUE=DATE:20120402
DTEND;VALUE=DATE:20120405
SUMMARY:ACSE 2012
DESCRIPTION:The 7th International Conference on Advances in Computer Scie
 nce and Engineering
URL:http://www.wikicfp.com/cfp/servlet/event.showcfp?eventid=17503&copyow
 nerid=34657
UID:cfp241070-E@wikicfp.com
END:VEVENT
BEGIN:VEVENT
DTSTAMP:20260419T194038Z
DTSTART;VALUE=DATE:20120116
SUMMARY:ACSE 2012 Deadline
DESCRIPTION:The 7th International Conference on Advances in Computer Scie
 nce and Engineering
URL:http://www.wikicfp.com/cfp/servlet/event.showcfp?eventid=17503&copyow
 nerid=34657
UID:cfp241070-D@wikicfp.com
END:VEVENT
BEGIN:VEVENT
DTSTAMP:20260419T194038Z
DTSTART;VALUE=DATE:20120203
SUMMARY:ACSE 2012 Notification Due
DESCRIPTION:The 7th International Conference on Advances in Computer Scie
 nce and Engineering
URL:http://www.wikicfp.com/cfp/servlet/event.showcfp?eventid=17503&copyow
 nerid=34657
UID:cfp241070-N@wikicfp.com
END:VEVENT
BEGIN:VEVENT
DTSTAMP:20260419T194038Z
DTSTART;VALUE=DATE:20120215
SUMMARY:ACSE 2012 Final Version Due
DESCRIPTION:The 7th International Conference on Advances in Computer Scie
 nce and Engineering
URL:http://www.wikicfp.com/cfp/servlet/event.showcfp?eventid=17503&copyow
 nerid=34657
UID:cfp241070-N@wikicfp.com
END:VEVENT
BEGIN:VEVENT
DTSTAMP:20260419T194038Z
DTSTART;VALUE=DATE:20120530
DTEND;VALUE=DATE:20120602
SUMMARY:ICCC 2012
DESCRIPTION:Third International Conference on Computational Creativity
URL:http://www.wikicfp.com/cfp/servlet/event.showcfp?eventid=18879&copyow
 nerid=34657
UID:cfp241072-E@wikicfp.com
END:VEVENT
BEGIN:VEVENT
DTSTAMP:20260419T194038Z
DTSTART;VALUE=DATE:20120131
SUMMARY:ICCC 2012 Deadline
DESCRIPTION:Third International Conference on Computational Creativity
URL:http://www.wikicfp.com/cfp/servlet/event.showcfp?eventid=18879&copyow
 nerid=34657
UID:cfp241072-D@wikicfp.com
END:VEVENT
BEGIN:VEVENT
DTSTAMP:20260419T194038Z
DTSTART;VALUE=DATE:20120330
SUMMARY:ICCC 2012 Notification Due
DESCRIPTION:Third International Conference on Computational Creativity
URL:http://www.wikicfp.com/cfp/servlet/event.showcfp?eventid=18879&copyow
 nerid=34657
UID:cfp241072-N@wikicfp.com
END:VEVENT
BEGIN:VEVENT
DTSTAMP:20260419T194038Z
DTSTART;VALUE=DATE:20120418
SUMMARY:ICCC 2012 Final Version Due
DESCRIPTION:Third International Conference on Computational Creativity
URL:http://www.wikicfp.com/cfp/servlet/event.showcfp?eventid=18879&copyow
 nerid=34657
UID:cfp241072-N@wikicfp.com
END:VEVENT
BEGIN:VEVENT
DTSTAMP:20260419T194038Z
DTSTART;VALUE=DATE:20120827
DTEND;VALUE=DATE:20120901
SUMMARY:EUSIPCO 2012
DESCRIPTION:European Signal Processing Conference
URL:http://www.wikicfp.com/cfp/servlet/event.showcfp?eventid=14970&copyow
 nerid=34657
UID:cfp241068-E@wikicfp.com
END:VEVENT
BEGIN:VEVENT
DTSTAMP:20260419T194038Z
DTSTART;VALUE=DATE:20120226
SUMMARY:EUSIPCO 2012 Deadline
DESCRIPTION:European Signal Processing Conference
URL:http://www.wikicfp.com/cfp/servlet/event.showcfp?eventid=14970&copyow
 nerid=34657
UID:cfp241068-D@wikicfp.com
END:VEVENT
BEGIN:VEVENT
DTSTAMP:20260419T194038Z
DTSTART;VALUE=DATE:20120520
SUMMARY:EUSIPCO 2012 Notification Due
DESCRIPTION:European Signal Processing Conference
URL:http://www.wikicfp.com/cfp/servlet/event.showcfp?eventid=14970&copyow
 nerid=34657
UID:cfp241068-N@wikicfp.com
END:VEVENT
BEGIN:VEVENT
DTSTAMP:20260419T194038Z
DTSTART;VALUE=DATE:20120617
SUMMARY:EUSIPCO 2012 Final Version Due
DESCRIPTION:European Signal Processing Conference
URL:http://www.wikicfp.com/cfp/servlet/event.showcfp?eventid=14970&copyow
 nerid=34657
UID:cfp241068-N@wikicfp.com
END:VEVENT
BEGIN:VEVENT
DTSTAMP:20260419T194038Z
DTSTART;VALUE=DATE:20120909
DTEND;VALUE=DATE:20120913
SUMMARY:CinC 2012
DESCRIPTION:Computing in Cardiology Conference
URL:http://www.wikicfp.com/cfp/servlet/event.showcfp?eventid=21124&copyow
 nerid=34657
UID:cfp241066-E@wikicfp.com
END:VEVENT
BEGIN:VEVENT
DTSTAMP:20260419T194038Z
DTSTART;VALUE=DATE:20120501
SUMMARY:CinC 2012 Deadline
DESCRIPTION:Computing in Cardiology Conference
URL:http://www.wikicfp.com/cfp/servlet/event.showcfp?eventid=21124&copyow
 nerid=34657
UID:cfp241066-D@wikicfp.com
END:VEVENT
BEGIN:VEVENT
DTSTAMP:20260419T194038Z
DTSTART;VALUE=DATE:20120608
SUMMARY:CinC 2012 Notification Due
DESCRIPTION:Computing in Cardiology Conference
URL:http://www.wikicfp.com/cfp/servlet/event.showcfp?eventid=21124&copyow
 nerid=34657
UID:cfp241066-N@wikicfp.com
END:VEVENT
BEGIN:VEVENT
DTSTAMP:20260419T194038Z
DTSTART;VALUE=DATE:20120930
SUMMARY:CinC 2012 Final Version Due
DESCRIPTION:Computing in Cardiology Conference
URL:http://www.wikicfp.com/cfp/servlet/event.showcfp?eventid=21124&copyow
 nerid=34657
UID:cfp241066-N@wikicfp.com
END:VEVENT
BEGIN:VEVENT
DTSTAMP:20260419T194038Z
DTSTART;VALUE=DATE:20121217
DTEND;VALUE=DATE:20121221
SUMMARY:IMA 2012
DESCRIPTION:9th IMA International Conference on Mathematics in Signal Pro
 cessing
URL:http://www.wikicfp.com/cfp/servlet/event.showcfp?eventid=17724&copyow
 nerid=34657
UID:cfp241067-E@wikicfp.com
END:VEVENT
BEGIN:VEVENT
DTSTAMP:20260419T194038Z
DTSTART;VALUE=DATE:20120502
SUMMARY:IMA 2012 Deadline
DESCRIPTION:9th IMA International Conference on Mathematics in Signal Pro
 cessing
URL:http://www.wikicfp.com/cfp/servlet/event.showcfp?eventid=17724&copyow
 nerid=34657
UID:cfp241067-D@wikicfp.com
END:VEVENT
END:VCALENDAR
