BEGIN:VCALENDAR
PRODID:-//WikiCFP//razvancondorovici 1.0//EN
VERSION:2.0
CALSCALE:GREGORIAN
BEGIN:VEVENT
DTSTAMP:20260419T175218Z
DTSTART;VALUE=DATE:20110907
DTEND;VALUE=DATE:20110910
SUMMARY:IMVIP 2011
DESCRIPTION:15th Irish Machine Vision and Image Processing Conference
URL:http://www.wikicfp.com/cfp/servlet/event.showcfp?eventid=14744&copyow
 nerid=34184
UID:cfp237421-E@wikicfp.com
END:VEVENT
BEGIN:VEVENT
DTSTAMP:20260419T175218Z
DTSTART;VALUE=DATE:20110731
SUMMARY:IMVIP 2011 Deadline
DESCRIPTION:15th Irish Machine Vision and Image Processing Conference
URL:http://www.wikicfp.com/cfp/servlet/event.showcfp?eventid=14744&copyow
 nerid=34184
UID:cfp237421-D@wikicfp.com
END:VEVENT
BEGIN:VEVENT
DTSTAMP:20260419T175218Z
DTSTART;VALUE=DATE:20120502
DTEND;VALUE=DATE:20120506
SUMMARY:ISBI 2012
DESCRIPTION:IEEE International Symposium on Biomedical Imaging
URL:http://www.wikicfp.com/cfp/servlet/event.showcfp?eventid=18259&copyow
 nerid=34184
UID:cfp237418-E@wikicfp.com
END:VEVENT
BEGIN:VEVENT
DTSTAMP:20260419T175218Z
DTSTART;VALUE=DATE:20120215
SUMMARY:ISBI 2012 Abstract Due
DESCRIPTION:IEEE International Symposium on Biomedical Imaging
URL:http://www.wikicfp.com/cfp/servlet/event.showcfp?eventid=18259&copyow
 nerid=34184
UID:cfp237418-A@wikicfp.com
END:VEVENT
BEGIN:VEVENT
DTSTAMP:20260419T175218Z
DTSTART;VALUE=DATE:20111113
SUMMARY:ISBI 2012 Deadline
DESCRIPTION:IEEE International Symposium on Biomedical Imaging
URL:http://www.wikicfp.com/cfp/servlet/event.showcfp?eventid=18259&copyow
 nerid=34184
UID:cfp237418-D@wikicfp.com
END:VEVENT
BEGIN:VEVENT
DTSTAMP:20260419T175218Z
DTSTART;VALUE=DATE:20120116
SUMMARY:ISBI 2012 Notification Due
DESCRIPTION:IEEE International Symposium on Biomedical Imaging
URL:http://www.wikicfp.com/cfp/servlet/event.showcfp?eventid=18259&copyow
 nerid=34184
UID:cfp237418-N@wikicfp.com
END:VEVENT
BEGIN:VEVENT
DTSTAMP:20260419T175218Z
DTSTART;VALUE=DATE:20120215
SUMMARY:ISBI 2012 Final Version Due
DESCRIPTION:IEEE International Symposium on Biomedical Imaging
URL:http://www.wikicfp.com/cfp/servlet/event.showcfp?eventid=18259&copyow
 nerid=34184
UID:cfp237418-N@wikicfp.com
END:VEVENT
BEGIN:VEVENT
DTSTAMP:20260419T175218Z
DTSTART;VALUE=DATE:20120704
DTEND;VALUE=DATE:20120707
SUMMARY:ISIVC 2012
DESCRIPTION:International Symposium on signal\, Image\, Video and Communi
 cations
URL:http://www.wikicfp.com/cfp/servlet/event.showcfp?eventid=20523&copyow
 nerid=34184
UID:cfp237415-E@wikicfp.com
END:VEVENT
BEGIN:VEVENT
DTSTAMP:20260419T175218Z
DTSTART;VALUE=DATE:20120130
SUMMARY:ISIVC 2012 Deadline
DESCRIPTION:International Symposium on signal\, Image\, Video and Communi
 cations
URL:http://www.wikicfp.com/cfp/servlet/event.showcfp?eventid=20523&copyow
 nerid=34184
UID:cfp237415-D@wikicfp.com
END:VEVENT
BEGIN:VEVENT
DTSTAMP:20260419T175218Z
DTSTART;VALUE=DATE:20120415
SUMMARY:ISIVC 2012 Notification Due
DESCRIPTION:International Symposium on signal\, Image\, Video and Communi
 cations
URL:http://www.wikicfp.com/cfp/servlet/event.showcfp?eventid=20523&copyow
 nerid=34184
UID:cfp237415-N@wikicfp.com
END:VEVENT
BEGIN:VEVENT
DTSTAMP:20260419T175218Z
DTSTART;VALUE=DATE:20120515
SUMMARY:ISIVC 2012 Final Version Due
DESCRIPTION:International Symposium on signal\, Image\, Video and Communi
 cations
URL:http://www.wikicfp.com/cfp/servlet/event.showcfp?eventid=20523&copyow
 nerid=34184
UID:cfp237415-N@wikicfp.com
END:VEVENT
BEGIN:VEVENT
DTSTAMP:20260419T175218Z
DTSTART;VALUE=DATE:20120523
DTEND;VALUE=DATE:20120526
SUMMARY:WIAMIS 2012
DESCRIPTION:13th International Workshop on Image Analysis for Multimedia 
 Interactive Services
URL:http://www.wikicfp.com/cfp/servlet/event.showcfp?eventid=18402&copyow
 nerid=34184
UID:cfp237411-E@wikicfp.com
END:VEVENT
BEGIN:VEVENT
DTSTAMP:20260419T175218Z
DTSTART;VALUE=DATE:20120203
SUMMARY:WIAMIS 2012 Deadline
DESCRIPTION:13th International Workshop on Image Analysis for Multimedia 
 Interactive Services
URL:http://www.wikicfp.com/cfp/servlet/event.showcfp?eventid=18402&copyow
 nerid=34184
UID:cfp237411-D@wikicfp.com
END:VEVENT
BEGIN:VEVENT
DTSTAMP:20260419T175218Z
DTSTART;VALUE=DATE:20120330
SUMMARY:WIAMIS 2012 Notification Due
DESCRIPTION:13th International Workshop on Image Analysis for Multimedia 
 Interactive Services
URL:http://www.wikicfp.com/cfp/servlet/event.showcfp?eventid=18402&copyow
 nerid=34184
UID:cfp237411-N@wikicfp.com
END:VEVENT
BEGIN:VEVENT
DTSTAMP:20260419T175218Z
DTSTART;VALUE=DATE:20120413
SUMMARY:WIAMIS 2012 Final Version Due
DESCRIPTION:13th International Workshop on Image Analysis for Multimedia 
 Interactive Services
URL:http://www.wikicfp.com/cfp/servlet/event.showcfp?eventid=18402&copyow
 nerid=34184
UID:cfp237411-N@wikicfp.com
END:VEVENT
BEGIN:VEVENT
DTSTAMP:20260419T175218Z
DTSTART;VALUE=DATE:20120618
DTEND;VALUE=DATE:20120621
SUMMARY:CGIM 2012
DESCRIPTION:Computer Graphics and Imaging
URL:http://www.wikicfp.com/cfp/servlet/event.showcfp?eventid=19365&copyow
 nerid=34184
UID:cfp237412-E@wikicfp.com
END:VEVENT
BEGIN:VEVENT
DTSTAMP:20260419T175218Z
DTSTART;VALUE=DATE:20120315
SUMMARY:CGIM 2012 Deadline
DESCRIPTION:Computer Graphics and Imaging
URL:http://www.wikicfp.com/cfp/servlet/event.showcfp?eventid=19365&copyow
 nerid=34184
UID:cfp237412-D@wikicfp.com
END:VEVENT
BEGIN:VEVENT
DTSTAMP:20260419T175218Z
DTSTART;VALUE=DATE:20120409
SUMMARY:CGIM 2012 Notification Due
DESCRIPTION:Computer Graphics and Imaging
URL:http://www.wikicfp.com/cfp/servlet/event.showcfp?eventid=19365&copyow
 nerid=34184
UID:cfp237412-N@wikicfp.com
END:VEVENT
BEGIN:VEVENT
DTSTAMP:20260419T175218Z
DTSTART;VALUE=DATE:20120926
DTEND;VALUE=DATE:20120929
SUMMARY:CISIM 2012
DESCRIPTION:11th International Conference on Computer Information Systems
  and Industrial Management Applications
URL:http://www.wikicfp.com/cfp/servlet/event.showcfp?eventid=20681&copyow
 nerid=34184
UID:cfp237416-E@wikicfp.com
END:VEVENT
BEGIN:VEVENT
DTSTAMP:20260419T175218Z
DTSTART;VALUE=DATE:20120410
SUMMARY:CISIM 2012 Abstract Due
DESCRIPTION:11th International Conference on Computer Information Systems
  and Industrial Management Applications
URL:http://www.wikicfp.com/cfp/servlet/event.showcfp?eventid=20681&copyow
 nerid=34184
UID:cfp237416-A@wikicfp.com
END:VEVENT
BEGIN:VEVENT
DTSTAMP:20260419T175218Z
DTSTART;VALUE=DATE:20120420
SUMMARY:CISIM 2012 Deadline
DESCRIPTION:11th International Conference on Computer Information Systems
  and Industrial Management Applications
URL:http://www.wikicfp.com/cfp/servlet/event.showcfp?eventid=20681&copyow
 nerid=34184
UID:cfp237416-D@wikicfp.com
END:VEVENT
BEGIN:VEVENT
DTSTAMP:20260419T175218Z
DTSTART;VALUE=DATE:20120610
SUMMARY:CISIM 2012 Notification Due
DESCRIPTION:11th International Conference on Computer Information Systems
  and Industrial Management Applications
URL:http://www.wikicfp.com/cfp/servlet/event.showcfp?eventid=20681&copyow
 nerid=34184
UID:cfp237416-N@wikicfp.com
END:VEVENT
BEGIN:VEVENT
DTSTAMP:20260419T175218Z
DTSTART;VALUE=DATE:20120630
SUMMARY:CISIM 2012 Final Version Due
DESCRIPTION:11th International Conference on Computer Information Systems
  and Industrial Management Applications
URL:http://www.wikicfp.com/cfp/servlet/event.showcfp?eventid=20681&copyow
 nerid=34184
UID:cfp237416-N@wikicfp.com
END:VEVENT
BEGIN:VEVENT
DTSTAMP:20260419T175218Z
DTSTART;VALUE=DATE:20120720
DTEND;VALUE=DATE:20120721
SUMMARY:DMLS 2012
DESCRIPTION:Workshop on Data Mining in Life Sciences 
URL:http://www.wikicfp.com/cfp/servlet/event.showcfp?eventid=19721&copyow
 nerid=34184
UID:cfp237413-E@wikicfp.com
END:VEVENT
BEGIN:VEVENT
DTSTAMP:20260419T175218Z
DTSTART;VALUE=DATE:20120429
SUMMARY:DMLS 2012 Deadline
DESCRIPTION:Workshop on Data Mining in Life Sciences 
URL:http://www.wikicfp.com/cfp/servlet/event.showcfp?eventid=19721&copyow
 nerid=34184
UID:cfp237413-D@wikicfp.com
END:VEVENT
BEGIN:VEVENT
DTSTAMP:20260419T175218Z
DTSTART;VALUE=DATE:20120515
SUMMARY:DMLS 2012 Notification Due
DESCRIPTION:Workshop on Data Mining in Life Sciences 
URL:http://www.wikicfp.com/cfp/servlet/event.showcfp?eventid=19721&copyow
 nerid=34184
UID:cfp237413-N@wikicfp.com
END:VEVENT
BEGIN:VEVENT
DTSTAMP:20260419T175218Z
DTSTART;VALUE=DATE:20120528
SUMMARY:DMLS 2012 Final Version Due
DESCRIPTION:Workshop on Data Mining in Life Sciences 
URL:http://www.wikicfp.com/cfp/servlet/event.showcfp?eventid=19721&copyow
 nerid=34184
UID:cfp237413-N@wikicfp.com
END:VEVENT
BEGIN:VEVENT
DTSTAMP:20260419T175218Z
DTSTART;VALUE=DATE:20120906
DTEND;VALUE=DATE:20120908
SUMMARY:BIOSIG 2012
DESCRIPTION:IEEE International Conference of the Biometrics Special Inter
 est Group
URL:http://www.wikicfp.com/cfp/servlet/event.showcfp?eventid=19797&copyow
 nerid=34184
UID:cfp237414-E@wikicfp.com
END:VEVENT
BEGIN:VEVENT
DTSTAMP:20260419T175218Z
DTSTART;VALUE=DATE:20120530
SUMMARY:BIOSIG 2012 Deadline
DESCRIPTION:IEEE International Conference of the Biometrics Special Inter
 est Group
URL:http://www.wikicfp.com/cfp/servlet/event.showcfp?eventid=19797&copyow
 nerid=34184
UID:cfp237414-D@wikicfp.com
END:VEVENT
BEGIN:VEVENT
DTSTAMP:20260419T175218Z
DTSTART;VALUE=DATE:20120630
SUMMARY:BIOSIG 2012 Notification Due
DESCRIPTION:IEEE International Conference of the Biometrics Special Inter
 est Group
URL:http://www.wikicfp.com/cfp/servlet/event.showcfp?eventid=19797&copyow
 nerid=34184
UID:cfp237414-N@wikicfp.com
END:VEVENT
BEGIN:VEVENT
DTSTAMP:20260419T175218Z
DTSTART;VALUE=DATE:20120731
SUMMARY:BIOSIG 2012 Final Version Due
DESCRIPTION:IEEE International Conference of the Biometrics Special Inter
 est Group
URL:http://www.wikicfp.com/cfp/servlet/event.showcfp?eventid=19797&copyow
 nerid=34184
UID:cfp237414-N@wikicfp.com
END:VEVENT
END:VCALENDAR
