BEGIN:VCALENDAR
PRODID:-//WikiCFP//elnasm 1.0//EN
VERSION:2.0
CALSCALE:GREGORIAN
BEGIN:VEVENT
DTSTAMP:20260421T072610Z
DTSTART;VALUE=DATE:20120625
DTEND;VALUE=DATE:20120628
SUMMARY:WETICE 2012
DESCRIPTION:21st IEEE International Workshop On Enabling Technologies: In
 frastructure For Collaborative Enterprises
URL:http://www.wikicfp.com/cfp/servlet/event.showcfp?eventid=19293&copyow
 nerid=33771
UID:cfp234490-E@wikicfp.com
END:VEVENT
BEGIN:VEVENT
DTSTAMP:20260421T072610Z
DTSTART;VALUE=DATE:20120316
SUMMARY:WETICE 2012 Deadline
DESCRIPTION:21st IEEE International Workshop On Enabling Technologies: In
 frastructure For Collaborative Enterprises
URL:http://www.wikicfp.com/cfp/servlet/event.showcfp?eventid=19293&copyow
 nerid=33771
UID:cfp234490-D@wikicfp.com
END:VEVENT
BEGIN:VEVENT
DTSTAMP:20260421T072610Z
DTSTART;VALUE=DATE:20120416
SUMMARY:WETICE 2012 Notification Due
DESCRIPTION:21st IEEE International Workshop On Enabling Technologies: In
 frastructure For Collaborative Enterprises
URL:http://www.wikicfp.com/cfp/servlet/event.showcfp?eventid=19293&copyow
 nerid=33771
UID:cfp234490-N@wikicfp.com
END:VEVENT
BEGIN:VEVENT
DTSTAMP:20260421T072610Z
DTSTART;VALUE=DATE:20120430
SUMMARY:WETICE 2012 Final Version Due
DESCRIPTION:21st IEEE International Workshop On Enabling Technologies: In
 frastructure For Collaborative Enterprises
URL:http://www.wikicfp.com/cfp/servlet/event.showcfp?eventid=19293&copyow
 nerid=33771
UID:cfp234490-N@wikicfp.com
END:VEVENT
BEGIN:VEVENT
DTSTAMP:20260421T072610Z
DTSTART;VALUE=DATE:20120713
DTEND;VALUE=DATE:20120716
SUMMARY:IWCAI  2012
DESCRIPTION:International Workshop on Computer and Artificial Intelligenc
 e 
URL:http://www.wikicfp.com/cfp/servlet/event.showcfp?eventid=20317&copyow
 nerid=33771
UID:cfp237135-E@wikicfp.com
END:VEVENT
BEGIN:VEVENT
DTSTAMP:20260421T072610Z
DTSTART;VALUE=DATE:20120320
SUMMARY:IWCAI  2012 Deadline
DESCRIPTION:International Workshop on Computer and Artificial Intelligenc
 e 
URL:http://www.wikicfp.com/cfp/servlet/event.showcfp?eventid=20317&copyow
 nerid=33771
UID:cfp237135-D@wikicfp.com
END:VEVENT
BEGIN:VEVENT
DTSTAMP:20260421T072610Z
DTSTART;VALUE=DATE:20121012
DTEND;VALUE=DATE:20121016
SUMMARY:IIP 2012
DESCRIPTION:IFIP 7th International Conference on Intelligent Information 
 Processing 
URL:http://www.wikicfp.com/cfp/servlet/event.showcfp?eventid=18875&copyow
 nerid=33771
UID:cfp237133-E@wikicfp.com
END:VEVENT
BEGIN:VEVENT
DTSTAMP:20260421T072610Z
DTSTART;VALUE=DATE:20120401
SUMMARY:IIP 2012 Deadline
DESCRIPTION:IFIP 7th International Conference on Intelligent Information 
 Processing 
URL:http://www.wikicfp.com/cfp/servlet/event.showcfp?eventid=18875&copyow
 nerid=33771
UID:cfp237133-D@wikicfp.com
END:VEVENT
BEGIN:VEVENT
DTSTAMP:20260421T072610Z
DTSTART;VALUE=DATE:20120501
SUMMARY:IIP 2012 Notification Due
DESCRIPTION:IFIP 7th International Conference on Intelligent Information 
 Processing 
URL:http://www.wikicfp.com/cfp/servlet/event.showcfp?eventid=18875&copyow
 nerid=33771
UID:cfp237133-N@wikicfp.com
END:VEVENT
BEGIN:VEVENT
DTSTAMP:20260421T072610Z
DTSTART;VALUE=DATE:20120601
SUMMARY:IIP 2012 Final Version Due
DESCRIPTION:IFIP 7th International Conference on Intelligent Information 
 Processing 
URL:http://www.wikicfp.com/cfp/servlet/event.showcfp?eventid=18875&copyow
 nerid=33771
UID:cfp237133-N@wikicfp.com
END:VEVENT
BEGIN:VEVENT
DTSTAMP:20260421T072610Z
DTSTART;VALUE=DATE:20120707
DTEND;VALUE=DATE:20120709
SUMMARY:KST 2012
DESCRIPTION:4th International Conference on Knowledge and Smart Technolog
 ies
URL:http://www.wikicfp.com/cfp/servlet/event.showcfp?eventid=20082&copyow
 nerid=33771
UID:cfp237136-E@wikicfp.com
END:VEVENT
BEGIN:VEVENT
DTSTAMP:20260421T072610Z
DTSTART;VALUE=DATE:20120415
SUMMARY:KST 2012 Deadline
DESCRIPTION:4th International Conference on Knowledge and Smart Technolog
 ies
URL:http://www.wikicfp.com/cfp/servlet/event.showcfp?eventid=20082&copyow
 nerid=33771
UID:cfp237136-D@wikicfp.com
END:VEVENT
BEGIN:VEVENT
DTSTAMP:20260421T072610Z
DTSTART;VALUE=DATE:20120531
SUMMARY:KST 2012 Notification Due
DESCRIPTION:4th International Conference on Knowledge and Smart Technolog
 ies
URL:http://www.wikicfp.com/cfp/servlet/event.showcfp?eventid=20082&copyow
 nerid=33771
UID:cfp237136-N@wikicfp.com
END:VEVENT
BEGIN:VEVENT
DTSTAMP:20260421T072610Z
DTSTART;VALUE=DATE:20120615
SUMMARY:KST 2012 Final Version Due
DESCRIPTION:4th International Conference on Knowledge and Smart Technolog
 ies
URL:http://www.wikicfp.com/cfp/servlet/event.showcfp?eventid=20082&copyow
 nerid=33771
UID:cfp237136-N@wikicfp.com
END:VEVENT
BEGIN:VEVENT
DTSTAMP:20260421T072610Z
DTSTART;VALUE=DATE:20120908
DTEND;VALUE=DATE:20120913
SUMMARY:EKAW 2012
DESCRIPTION:The 18th International Conference on Knowledge Engineering an
 d Knowledge Management
URL:http://www.wikicfp.com/cfp/servlet/event.showcfp?eventid=19122&copyow
 nerid=33771
UID:cfp234493-E@wikicfp.com
END:VEVENT
BEGIN:VEVENT
DTSTAMP:20260421T072610Z
DTSTART;VALUE=DATE:20120418
SUMMARY:EKAW 2012 Abstract Due
DESCRIPTION:The 18th International Conference on Knowledge Engineering an
 d Knowledge Management
URL:http://www.wikicfp.com/cfp/servlet/event.showcfp?eventid=19122&copyow
 nerid=33771
UID:cfp234493-A@wikicfp.com
END:VEVENT
BEGIN:VEVENT
DTSTAMP:20260421T072610Z
DTSTART;VALUE=DATE:20120425
SUMMARY:EKAW 2012 Deadline
DESCRIPTION:The 18th International Conference on Knowledge Engineering an
 d Knowledge Management
URL:http://www.wikicfp.com/cfp/servlet/event.showcfp?eventid=19122&copyow
 nerid=33771
UID:cfp234493-D@wikicfp.com
END:VEVENT
BEGIN:VEVENT
DTSTAMP:20260421T072610Z
DTSTART;VALUE=DATE:20120606
SUMMARY:EKAW 2012 Notification Due
DESCRIPTION:The 18th International Conference on Knowledge Engineering an
 d Knowledge Management
URL:http://www.wikicfp.com/cfp/servlet/event.showcfp?eventid=19122&copyow
 nerid=33771
UID:cfp234493-N@wikicfp.com
END:VEVENT
BEGIN:VEVENT
DTSTAMP:20260421T072610Z
DTSTART;VALUE=DATE:20120630
SUMMARY:EKAW 2012 Final Version Due
DESCRIPTION:The 18th International Conference on Knowledge Engineering an
 d Knowledge Management
URL:http://www.wikicfp.com/cfp/servlet/event.showcfp?eventid=19122&copyow
 nerid=33771
UID:cfp234493-N@wikicfp.com
END:VEVENT
BEGIN:VEVENT
DTSTAMP:20260421T072610Z
DTSTART;VALUE=DATE:20121010
DTEND;VALUE=DATE:20121013
SUMMARY:CyberC 2012
DESCRIPTION:International Conference on Cyber-enabled distributed computi
 ng and knowledge discovery 
URL:http://www.wikicfp.com/cfp/servlet/event.showcfp?eventid=20283&copyow
 nerid=33771
UID:cfp234494-E@wikicfp.com
END:VEVENT
BEGIN:VEVENT
DTSTAMP:20260421T072610Z
DTSTART;VALUE=DATE:20120430
SUMMARY:CyberC 2012 Deadline
DESCRIPTION:International Conference on Cyber-enabled distributed computi
 ng and knowledge discovery 
URL:http://www.wikicfp.com/cfp/servlet/event.showcfp?eventid=20283&copyow
 nerid=33771
UID:cfp234494-D@wikicfp.com
END:VEVENT
BEGIN:VEVENT
DTSTAMP:20260421T072610Z
DTSTART;VALUE=DATE:20120615
SUMMARY:CyberC 2012 Notification Due
DESCRIPTION:International Conference on Cyber-enabled distributed computi
 ng and knowledge discovery 
URL:http://www.wikicfp.com/cfp/servlet/event.showcfp?eventid=20283&copyow
 nerid=33771
UID:cfp234494-N@wikicfp.com
END:VEVENT
BEGIN:VEVENT
DTSTAMP:20260421T072610Z
DTSTART;VALUE=DATE:20120801
SUMMARY:CyberC 2012 Final Version Due
DESCRIPTION:International Conference on Cyber-enabled distributed computi
 ng and knowledge discovery 
URL:http://www.wikicfp.com/cfp/servlet/event.showcfp?eventid=20283&copyow
 nerid=33771
UID:cfp234494-N@wikicfp.com
END:VEVENT
BEGIN:VEVENT
DTSTAMP:20260421T072610Z
DTSTART;VALUE=DATE:20121216
DTEND;VALUE=DATE:20121220
SUMMARY:SEAL 2012
DESCRIPTION:The Ninth International Conference on Simulated Evolution And
  Learning (SEAL'2012)
URL:http://www.wikicfp.com/cfp/servlet/event.showcfp?eventid=16916&copyow
 nerid=33771
UID:cfp237130-E@wikicfp.com
END:VEVENT
BEGIN:VEVENT
DTSTAMP:20260421T072610Z
DTSTART;VALUE=DATE:20120501
SUMMARY:SEAL 2012 Deadline
DESCRIPTION:The Ninth International Conference on Simulated Evolution And
  Learning (SEAL'2012)
URL:http://www.wikicfp.com/cfp/servlet/event.showcfp?eventid=16916&copyow
 nerid=33771
UID:cfp237130-D@wikicfp.com
END:VEVENT
BEGIN:VEVENT
DTSTAMP:20260421T072610Z
DTSTART;VALUE=DATE:20120701
SUMMARY:SEAL 2012 Notification Due
DESCRIPTION:The Ninth International Conference on Simulated Evolution And
  Learning (SEAL'2012)
URL:http://www.wikicfp.com/cfp/servlet/event.showcfp?eventid=16916&copyow
 nerid=33771
UID:cfp237130-N@wikicfp.com
END:VEVENT
BEGIN:VEVENT
DTSTAMP:20260421T072610Z
DTSTART;VALUE=DATE:20120801
SUMMARY:SEAL 2012 Final Version Due
DESCRIPTION:The Ninth International Conference on Simulated Evolution And
  Learning (SEAL'2012)
URL:http://www.wikicfp.com/cfp/servlet/event.showcfp?eventid=16916&copyow
 nerid=33771
UID:cfp237130-N@wikicfp.com
END:VEVENT
BEGIN:VEVENT
DTSTAMP:20260421T072610Z
DTSTART;VALUE=DATE:20120825
DTEND;VALUE=DATE:20120829
SUMMARY:ICGEC 2012
DESCRIPTION:Sixth International Conference on Genetic and Evolutionary Co
 mputing
URL:http://www.wikicfp.com/cfp/servlet/event.showcfp?eventid=20455&copyow
 nerid=33771
UID:cfp237131-E@wikicfp.com
END:VEVENT
BEGIN:VEVENT
DTSTAMP:20260421T072610Z
DTSTART;VALUE=DATE:20120531
SUMMARY:ICGEC 2012 Deadline
DESCRIPTION:Sixth International Conference on Genetic and Evolutionary Co
 mputing
URL:http://www.wikicfp.com/cfp/servlet/event.showcfp?eventid=20455&copyow
 nerid=33771
UID:cfp237131-D@wikicfp.com
END:VEVENT
BEGIN:VEVENT
DTSTAMP:20260421T072610Z
DTSTART;VALUE=DATE:20120630
SUMMARY:ICGEC 2012 Notification Due
DESCRIPTION:Sixth International Conference on Genetic and Evolutionary Co
 mputing
URL:http://www.wikicfp.com/cfp/servlet/event.showcfp?eventid=20455&copyow
 nerid=33771
UID:cfp237131-N@wikicfp.com
END:VEVENT
BEGIN:VEVENT
DTSTAMP:20260421T072610Z
DTSTART;VALUE=DATE:20120715
SUMMARY:ICGEC 2012 Final Version Due
DESCRIPTION:Sixth International Conference on Genetic and Evolutionary Co
 mputing
URL:http://www.wikicfp.com/cfp/servlet/event.showcfp?eventid=20455&copyow
 nerid=33771
UID:cfp237131-N@wikicfp.com
END:VEVENT
BEGIN:VEVENT
DTSTAMP:20260421T072610Z
DTSTART;VALUE=DATE:20121120
DTEND;VALUE=DATE:20121125
SUMMARY:SCIS-ISIS 2012
DESCRIPTION:The 6th International Conference on Soft Computing and Intell
 igent Systems and The 13th International Symposium on Advanced Intellige
 nt Systems
URL:http://www.wikicfp.com/cfp/servlet/event.showcfp?eventid=19211&copyow
 nerid=33771
UID:cfp237132-E@wikicfp.com
END:VEVENT
BEGIN:VEVENT
DTSTAMP:20260421T072610Z
DTSTART;VALUE=DATE:20120701
SUMMARY:SCIS-ISIS 2012 Deadline
DESCRIPTION:The 6th International Conference on Soft Computing and Intell
 igent Systems and The 13th International Symposium on Advanced Intellige
 nt Systems
URL:http://www.wikicfp.com/cfp/servlet/event.showcfp?eventid=19211&copyow
 nerid=33771
UID:cfp237132-D@wikicfp.com
END:VEVENT
BEGIN:VEVENT
DTSTAMP:20260421T072610Z
DTSTART;VALUE=DATE:20120810
SUMMARY:SCIS-ISIS 2012 Notification Due
DESCRIPTION:The 6th International Conference on Soft Computing and Intell
 igent Systems and The 13th International Symposium on Advanced Intellige
 nt Systems
URL:http://www.wikicfp.com/cfp/servlet/event.showcfp?eventid=19211&copyow
 nerid=33771
UID:cfp237132-N@wikicfp.com
END:VEVENT
BEGIN:VEVENT
DTSTAMP:20260421T072610Z
DTSTART;VALUE=DATE:20120905
SUMMARY:SCIS-ISIS 2012 Final Version Due
DESCRIPTION:The 6th International Conference on Soft Computing and Intell
 igent Systems and The 13th International Symposium on Advanced Intellige
 nt Systems
URL:http://www.wikicfp.com/cfp/servlet/event.showcfp?eventid=19211&copyow
 nerid=33771
UID:cfp237132-N@wikicfp.com
END:VEVENT
END:VCALENDAR
