BEGIN:VCALENDAR
PRODID:-//WikiCFP//shanw 1.0//EN
VERSION:2.0
CALSCALE:GREGORIAN
BEGIN:VEVENT
DTSTAMP:20260422T153036Z
DTSTART;VALUE=DATE:20120604
DTEND;VALUE=DATE:20120609
SUMMARY:ICWSM 2012
DESCRIPTION:The 6th International AAAI Conference on Weblogs and Social M
 edia
URL:http://www.wikicfp.com/cfp/servlet/event.showcfp?eventid=18539&copyow
 nerid=33613
UID:cfp233150-E@wikicfp.com
END:VEVENT
BEGIN:VEVENT
DTSTAMP:20260422T153036Z
DTSTART;VALUE=DATE:20120113
SUMMARY:ICWSM 2012 Abstract Due
DESCRIPTION:The 6th International AAAI Conference on Weblogs and Social M
 edia
URL:http://www.wikicfp.com/cfp/servlet/event.showcfp?eventid=18539&copyow
 nerid=33613
UID:cfp233150-A@wikicfp.com
END:VEVENT
BEGIN:VEVENT
DTSTAMP:20260422T153036Z
DTSTART;VALUE=DATE:20120118
SUMMARY:ICWSM 2012 Deadline
DESCRIPTION:The 6th International AAAI Conference on Weblogs and Social M
 edia
URL:http://www.wikicfp.com/cfp/servlet/event.showcfp?eventid=18539&copyow
 nerid=33613
UID:cfp233150-D@wikicfp.com
END:VEVENT
BEGIN:VEVENT
DTSTAMP:20260422T153036Z
DTSTART;VALUE=DATE:20120227
SUMMARY:ICWSM 2012 Notification Due
DESCRIPTION:The 6th International AAAI Conference on Weblogs and Social M
 edia
URL:http://www.wikicfp.com/cfp/servlet/event.showcfp?eventid=18539&copyow
 nerid=33613
UID:cfp233150-N@wikicfp.com
END:VEVENT
BEGIN:VEVENT
DTSTAMP:20260422T153036Z
DTSTART;VALUE=DATE:20120312
SUMMARY:ICWSM 2012 Final Version Due
DESCRIPTION:The 6th International AAAI Conference on Weblogs and Social M
 edia
URL:http://www.wikicfp.com/cfp/servlet/event.showcfp?eventid=18539&copyow
 nerid=33613
UID:cfp233150-N@wikicfp.com
END:VEVENT
BEGIN:VEVENT
DTSTAMP:20260422T153036Z
DTSTART;VALUE=DATE:20120704
DTEND;VALUE=DATE:20120707
SUMMARY:ISIVC 2012
DESCRIPTION:International Symposium on signal\, Image\, Video and Communi
 cations
URL:http://www.wikicfp.com/cfp/servlet/event.showcfp?eventid=20523&copyow
 nerid=33613
UID:cfp233149-E@wikicfp.com
END:VEVENT
BEGIN:VEVENT
DTSTAMP:20260422T153036Z
DTSTART;VALUE=DATE:20120130
SUMMARY:ISIVC 2012 Deadline
DESCRIPTION:International Symposium on signal\, Image\, Video and Communi
 cations
URL:http://www.wikicfp.com/cfp/servlet/event.showcfp?eventid=20523&copyow
 nerid=33613
UID:cfp233149-D@wikicfp.com
END:VEVENT
BEGIN:VEVENT
DTSTAMP:20260422T153036Z
DTSTART;VALUE=DATE:20120415
SUMMARY:ISIVC 2012 Notification Due
DESCRIPTION:International Symposium on signal\, Image\, Video and Communi
 cations
URL:http://www.wikicfp.com/cfp/servlet/event.showcfp?eventid=20523&copyow
 nerid=33613
UID:cfp233149-N@wikicfp.com
END:VEVENT
BEGIN:VEVENT
DTSTAMP:20260422T153036Z
DTSTART;VALUE=DATE:20120515
SUMMARY:ISIVC 2012 Final Version Due
DESCRIPTION:International Symposium on signal\, Image\, Video and Communi
 cations
URL:http://www.wikicfp.com/cfp/servlet/event.showcfp?eventid=20523&copyow
 nerid=33613
UID:cfp233149-N@wikicfp.com
END:VEVENT
END:VCALENDAR
