BEGIN:VCALENDAR
PRODID:-//WikiCFP//tuphie 1.0//EN
VERSION:2.0
CALSCALE:GREGORIAN
BEGIN:VEVENT
DTSTAMP:20260421T100150Z
DTSTART;VALUE=DATE:20131104
DTEND;VALUE=DATE:20131109
SUMMARY:CCS 2013
DESCRIPTION:ACM Conference on Computer and Communications Security
URL:http://www.wikicfp.com/cfp/servlet/event.showcfp?eventid=24374&copyow
 nerid=33469
UID:cfp354969-E@wikicfp.com
END:VEVENT
BEGIN:VEVENT
DTSTAMP:20260421T100150Z
DTSTART;VALUE=DATE:20130508
SUMMARY:CCS 2013 Deadline
DESCRIPTION:ACM Conference on Computer and Communications Security
URL:http://www.wikicfp.com/cfp/servlet/event.showcfp?eventid=24374&copyow
 nerid=33469
UID:cfp354969-D@wikicfp.com
END:VEVENT
BEGIN:VEVENT
DTSTAMP:20260421T100150Z
DTSTART;VALUE=DATE:20130719
SUMMARY:CCS 2013 Notification Due
DESCRIPTION:ACM Conference on Computer and Communications Security
URL:http://www.wikicfp.com/cfp/servlet/event.showcfp?eventid=24374&copyow
 nerid=33469
UID:cfp354969-N@wikicfp.com
END:VEVENT
BEGIN:VEVENT
DTSTAMP:20260421T100150Z
DTSTART;VALUE=DATE:20130815
SUMMARY:CCS 2013 Final Version Due
DESCRIPTION:ACM Conference on Computer and Communications Security
URL:http://www.wikicfp.com/cfp/servlet/event.showcfp?eventid=24374&copyow
 nerid=33469
UID:cfp354969-N@wikicfp.com
END:VEVENT
BEGIN:VEVENT
DTSTAMP:20260421T100150Z
DTSTART;VALUE=DATE:20131209
DTEND;VALUE=DATE:20131214
SUMMARY:ACSAC 2013
DESCRIPTION:29th Annual Computer Security Applications Conference
URL:http://www.wikicfp.com/cfp/servlet/event.showcfp?eventid=28538&copyow
 nerid=33469
UID:cfp354970-E@wikicfp.com
END:VEVENT
BEGIN:VEVENT
DTSTAMP:20260421T100150Z
DTSTART;VALUE=DATE:20130601
SUMMARY:ACSAC 2013 Deadline
DESCRIPTION:29th Annual Computer Security Applications Conference
URL:http://www.wikicfp.com/cfp/servlet/event.showcfp?eventid=28538&copyow
 nerid=33469
UID:cfp354970-D@wikicfp.com
END:VEVENT
END:VCALENDAR
