BEGIN:VCALENDAR
PRODID:-//WikiCFP//periclesmiranda 1.0//EN
VERSION:2.0
CALSCALE:GREGORIAN
BEGIN:VEVENT
DTSTAMP:20260422T192247Z
DTSTART;VALUE=DATE:20191104
DTEND;VALUE=DATE:20191107
SUMMARY:ICTAI 2019
DESCRIPTION:International Conference on Tools with Artificial Intelligenc
 e
URL:http://www.wikicfp.com/cfp/servlet/event.showcfp?eventid=84600&copyow
 nerid=33384
UID:cfp792560-E@wikicfp.com
END:VEVENT
BEGIN:VEVENT
DTSTAMP:20260422T192247Z
DTSTART;VALUE=DATE:20190424
DTEND;VALUE=DATE:20190427
SUMMARY:ESANN 2019
DESCRIPTION:European Symposium on Artificial Neural Networks\, Computatio
 nal Intelligence and Machine Learning
URL:http://www.wikicfp.com/cfp/servlet/event.showcfp?eventid=81444&copyow
 nerid=33384
UID:cfp792438-E@wikicfp.com
END:VEVENT
BEGIN:VEVENT
DTSTAMP:20260422T192247Z
DTSTART;VALUE=DATE:20181119
SUMMARY:ESANN 2019 Deadline
DESCRIPTION:European Symposium on Artificial Neural Networks\, Computatio
 nal Intelligence and Machine Learning
URL:http://www.wikicfp.com/cfp/servlet/event.showcfp?eventid=81444&copyow
 nerid=33384
UID:cfp792438-D@wikicfp.com
END:VEVENT
BEGIN:VEVENT
DTSTAMP:20260422T192247Z
DTSTART;VALUE=DATE:20190131
SUMMARY:ESANN 2019 Notification Due
DESCRIPTION:European Symposium on Artificial Neural Networks\, Computatio
 nal Intelligence and Machine Learning
URL:http://www.wikicfp.com/cfp/servlet/event.showcfp?eventid=81444&copyow
 nerid=33384
UID:cfp792438-N@wikicfp.com
END:VEVENT
BEGIN:VEVENT
DTSTAMP:20260422T192247Z
DTSTART;VALUE=DATE:20190714
DTEND;VALUE=DATE:20190720
SUMMARY:IJCNN 2019
DESCRIPTION:International Joint Conference on Neural Network
URL:http://www.wikicfp.com/cfp/servlet/event.showcfp?eventid=78918&copyow
 nerid=33384
UID:cfp792435-E@wikicfp.com
END:VEVENT
BEGIN:VEVENT
DTSTAMP:20260422T192247Z
DTSTART;VALUE=DATE:20181215
SUMMARY:IJCNN 2019 Deadline
DESCRIPTION:International Joint Conference on Neural Network
URL:http://www.wikicfp.com/cfp/servlet/event.showcfp?eventid=78918&copyow
 nerid=33384
UID:cfp792435-D@wikicfp.com
END:VEVENT
BEGIN:VEVENT
DTSTAMP:20260422T192247Z
DTSTART;VALUE=DATE:20190130
SUMMARY:IJCNN 2019 Notification Due
DESCRIPTION:International Joint Conference on Neural Network
URL:http://www.wikicfp.com/cfp/servlet/event.showcfp?eventid=78918&copyow
 nerid=33384
UID:cfp792435-N@wikicfp.com
END:VEVENT
BEGIN:VEVENT
DTSTAMP:20260422T192247Z
DTSTART;VALUE=DATE:20190610
DTEND;VALUE=DATE:20190614
SUMMARY:CEC 2019
DESCRIPTION:Congress on Evolutionary Computation
URL:http://www.wikicfp.com/cfp/servlet/event.showcfp?eventid=79754&copyow
 nerid=33384
UID:cfp792436-E@wikicfp.com
END:VEVENT
BEGIN:VEVENT
DTSTAMP:20260422T192247Z
DTSTART;VALUE=DATE:20190121
SUMMARY:CEC 2019 Deadline
DESCRIPTION:Congress on Evolutionary Computation
URL:http://www.wikicfp.com/cfp/servlet/event.showcfp?eventid=79754&copyow
 nerid=33384
UID:cfp792436-D@wikicfp.com
END:VEVENT
BEGIN:VEVENT
DTSTAMP:20260422T192247Z
DTSTART;VALUE=DATE:20190307
SUMMARY:CEC 2019 Notification Due
DESCRIPTION:Congress on Evolutionary Computation
URL:http://www.wikicfp.com/cfp/servlet/event.showcfp?eventid=79754&copyow
 nerid=33384
UID:cfp792436-N@wikicfp.com
END:VEVENT
BEGIN:VEVENT
DTSTAMP:20260422T192247Z
DTSTART;VALUE=DATE:20190331
SUMMARY:CEC 2019 Final Version Due
DESCRIPTION:Congress on Evolutionary Computation
URL:http://www.wikicfp.com/cfp/servlet/event.showcfp?eventid=79754&copyow
 nerid=33384
UID:cfp792436-N@wikicfp.com
END:VEVENT
BEGIN:VEVENT
DTSTAMP:20260422T192247Z
DTSTART;VALUE=DATE:20190803
DTEND;VALUE=DATE:20190808
SUMMARY:KDD 2019
DESCRIPTION:25TH ACM SIGKDD CONFERENCE ON KNOWLEDGE DISCOVERY AND DATA MI
 NING
URL:http://www.wikicfp.com/cfp/servlet/event.showcfp?eventid=81734&copyow
 nerid=33384
UID:cfp792433-E@wikicfp.com
END:VEVENT
BEGIN:VEVENT
DTSTAMP:20260422T192247Z
DTSTART;VALUE=DATE:20190203
SUMMARY:KDD 2019 Deadline
DESCRIPTION:25TH ACM SIGKDD CONFERENCE ON KNOWLEDGE DISCOVERY AND DATA MI
 NING
URL:http://www.wikicfp.com/cfp/servlet/event.showcfp?eventid=81734&copyow
 nerid=33384
UID:cfp792433-D@wikicfp.com
END:VEVENT
BEGIN:VEVENT
DTSTAMP:20260422T192247Z
DTSTART;VALUE=DATE:20190428
SUMMARY:KDD 2019 Notification Due
DESCRIPTION:25TH ACM SIGKDD CONFERENCE ON KNOWLEDGE DISCOVERY AND DATA MI
 NING
URL:http://www.wikicfp.com/cfp/servlet/event.showcfp?eventid=81734&copyow
 nerid=33384
UID:cfp792433-N@wikicfp.com
END:VEVENT
BEGIN:VEVENT
DTSTAMP:20260422T192247Z
DTSTART;VALUE=DATE:20190517
SUMMARY:KDD 2019 Final Version Due
DESCRIPTION:25TH ACM SIGKDD CONFERENCE ON KNOWLEDGE DISCOVERY AND DATA MI
 NING
URL:http://www.wikicfp.com/cfp/servlet/event.showcfp?eventid=81734&copyow
 nerid=33384
UID:cfp792433-N@wikicfp.com
END:VEVENT
BEGIN:VEVENT
DTSTAMP:20260422T192247Z
DTSTART;VALUE=DATE:20190713
DTEND;VALUE=DATE:20190718
SUMMARY:GECCO 2019
DESCRIPTION:Genetic and Evolutionary Computation Conference
URL:http://www.wikicfp.com/cfp/servlet/event.showcfp?eventid=80981&copyow
 nerid=33384
UID:cfp792437-E@wikicfp.com
END:VEVENT
BEGIN:VEVENT
DTSTAMP:20260422T192247Z
DTSTART;VALUE=DATE:20190130
SUMMARY:GECCO 2019 Abstract Due
DESCRIPTION:Genetic and Evolutionary Computation Conference
URL:http://www.wikicfp.com/cfp/servlet/event.showcfp?eventid=80981&copyow
 nerid=33384
UID:cfp792437-A@wikicfp.com
END:VEVENT
BEGIN:VEVENT
DTSTAMP:20260422T192247Z
DTSTART;VALUE=DATE:20190206
SUMMARY:GECCO 2019 Deadline
DESCRIPTION:Genetic and Evolutionary Computation Conference
URL:http://www.wikicfp.com/cfp/servlet/event.showcfp?eventid=80981&copyow
 nerid=33384
UID:cfp792437-D@wikicfp.com
END:VEVENT
BEGIN:VEVENT
DTSTAMP:20260422T192247Z
DTSTART;VALUE=DATE:20190320
SUMMARY:GECCO 2019 Notification Due
DESCRIPTION:Genetic and Evolutionary Computation Conference
URL:http://www.wikicfp.com/cfp/servlet/event.showcfp?eventid=80981&copyow
 nerid=33384
UID:cfp792437-N@wikicfp.com
END:VEVENT
BEGIN:VEVENT
DTSTAMP:20260422T192247Z
DTSTART;VALUE=DATE:20191006
DTEND;VALUE=DATE:20191010
SUMMARY:SMC 2019
DESCRIPTION:2019 IEEE International Conference on Systems\, Man\, and Cyb
 ernetics
URL:http://www.wikicfp.com/cfp/servlet/event.showcfp?eventid=85227&copyow
 nerid=33384
UID:cfp792434-E@wikicfp.com
END:VEVENT
BEGIN:VEVENT
DTSTAMP:20260422T192247Z
DTSTART;VALUE=DATE:20190331
SUMMARY:SMC 2019 Deadline
DESCRIPTION:2019 IEEE International Conference on Systems\, Man\, and Cyb
 ernetics
URL:http://www.wikicfp.com/cfp/servlet/event.showcfp?eventid=85227&copyow
 nerid=33384
UID:cfp792434-D@wikicfp.com
END:VEVENT
BEGIN:VEVENT
DTSTAMP:20260422T192247Z
DTSTART;VALUE=DATE:20190607
SUMMARY:SMC 2019 Notification Due
DESCRIPTION:2019 IEEE International Conference on Systems\, Man\, and Cyb
 ernetics
URL:http://www.wikicfp.com/cfp/servlet/event.showcfp?eventid=85227&copyow
 nerid=33384
UID:cfp792434-N@wikicfp.com
END:VEVENT
BEGIN:VEVENT
DTSTAMP:20260422T192247Z
DTSTART;VALUE=DATE:20190707
SUMMARY:SMC 2019 Final Version Due
DESCRIPTION:2019 IEEE International Conference on Systems\, Man\, and Cyb
 ernetics
URL:http://www.wikicfp.com/cfp/servlet/event.showcfp?eventid=85227&copyow
 nerid=33384
UID:cfp792434-N@wikicfp.com
END:VEVENT
BEGIN:VEVENT
DTSTAMP:20260422T192247Z
DTSTART;VALUE=DATE:20190916
DTEND;VALUE=DATE:20190921
SUMMARY:ECML PKDD 2019
DESCRIPTION:Joint Call for Papers for the Research and ADS tracks\, ECML 
 PKDD 2019
URL:http://www.wikicfp.com/cfp/servlet/event.showcfp?eventid=84495&copyow
 nerid=33384
UID:cfp792439-E@wikicfp.com
END:VEVENT
BEGIN:VEVENT
DTSTAMP:20260422T192247Z
DTSTART;VALUE=DATE:20190329
SUMMARY:ECML PKDD 2019 Abstract Due
DESCRIPTION:Joint Call for Papers for the Research and ADS tracks\, ECML 
 PKDD 2019
URL:http://www.wikicfp.com/cfp/servlet/event.showcfp?eventid=84495&copyow
 nerid=33384
UID:cfp792439-A@wikicfp.com
END:VEVENT
BEGIN:VEVENT
DTSTAMP:20260422T192247Z
DTSTART;VALUE=DATE:20190405
SUMMARY:ECML PKDD 2019 Deadline
DESCRIPTION:Joint Call for Papers for the Research and ADS tracks\, ECML 
 PKDD 2019
URL:http://www.wikicfp.com/cfp/servlet/event.showcfp?eventid=84495&copyow
 nerid=33384
UID:cfp792439-D@wikicfp.com
END:VEVENT
BEGIN:VEVENT
DTSTAMP:20260422T192247Z
DTSTART;VALUE=DATE:20190607
SUMMARY:ECML PKDD 2019 Notification Due
DESCRIPTION:Joint Call for Papers for the Research and ADS tracks\, ECML 
 PKDD 2019
URL:http://www.wikicfp.com/cfp/servlet/event.showcfp?eventid=84495&copyow
 nerid=33384
UID:cfp792439-N@wikicfp.com
END:VEVENT
BEGIN:VEVENT
DTSTAMP:20260422T192247Z
DTSTART;VALUE=DATE:20190728
SUMMARY:ECML PKDD 2019 Final Version Due
DESCRIPTION:Joint Call for Papers for the Research and ADS tracks\, ECML 
 PKDD 2019
URL:http://www.wikicfp.com/cfp/servlet/event.showcfp?eventid=84495&copyow
 nerid=33384
UID:cfp792439-N@wikicfp.com
END:VEVENT
BEGIN:VEVENT
DTSTAMP:20260422T192247Z
DTSTART;VALUE=DATE:20191028
DTEND;VALUE=DATE:20191101
SUMMARY:SBGAMES 2019
DESCRIPTION:Brazilian Symposium on Computer Games and Digital Entertainme
 nt
URL:http://www.wikicfp.com/cfp/servlet/event.showcfp?eventid=90955&copyow
 nerid=33384
UID:cfp792440-E@wikicfp.com
END:VEVENT
BEGIN:VEVENT
DTSTAMP:20260422T192247Z
DTSTART;VALUE=DATE:20190624
SUMMARY:SBGAMES 2019 Deadline
DESCRIPTION:Brazilian Symposium on Computer Games and Digital Entertainme
 nt
URL:http://www.wikicfp.com/cfp/servlet/event.showcfp?eventid=90955&copyow
 nerid=33384
UID:cfp792440-D@wikicfp.com
END:VEVENT
BEGIN:VEVENT
DTSTAMP:20260422T192247Z
DTSTART;VALUE=DATE:20190823
SUMMARY:SBGAMES 2019 Notification Due
DESCRIPTION:Brazilian Symposium on Computer Games and Digital Entertainme
 nt
URL:http://www.wikicfp.com/cfp/servlet/event.showcfp?eventid=90955&copyow
 nerid=33384
UID:cfp792440-N@wikicfp.com
END:VEVENT
BEGIN:VEVENT
DTSTAMP:20260422T192247Z
DTSTART;VALUE=DATE:20190902
SUMMARY:SBGAMES 2019 Final Version Due
DESCRIPTION:Brazilian Symposium on Computer Games and Digital Entertainme
 nt
URL:http://www.wikicfp.com/cfp/servlet/event.showcfp?eventid=90955&copyow
 nerid=33384
UID:cfp792440-N@wikicfp.com
END:VEVENT
BEGIN:VEVENT
DTSTAMP:20260422T192247Z
DTSTART;VALUE=DATE:20200608
DTEND;VALUE=DATE:20200613
SUMMARY:ECAI 2020
DESCRIPTION:24th European Conference on Artificial Intelligence
URL:http://www.wikicfp.com/cfp/servlet/event.showcfp?eventid=87927&copyow
 nerid=33384
UID:cfp792432-E@wikicfp.com
END:VEVENT
BEGIN:VEVENT
DTSTAMP:20260422T192247Z
DTSTART;VALUE=DATE:20191115
SUMMARY:ECAI 2020 Deadline
DESCRIPTION:24th European Conference on Artificial Intelligence
URL:http://www.wikicfp.com/cfp/servlet/event.showcfp?eventid=87927&copyow
 nerid=33384
UID:cfp792432-D@wikicfp.com
END:VEVENT
BEGIN:VEVENT
DTSTAMP:20260422T192247Z
DTSTART;VALUE=DATE:20200115
SUMMARY:ECAI 2020 Notification Due
DESCRIPTION:24th European Conference on Artificial Intelligence
URL:http://www.wikicfp.com/cfp/servlet/event.showcfp?eventid=87927&copyow
 nerid=33384
UID:cfp792432-N@wikicfp.com
END:VEVENT
END:VCALENDAR
