BEGIN:VCALENDAR
PRODID:-//WikiCFP//navneet_cfp 1.0//EN
VERSION:2.0
CALSCALE:GREGORIAN
BEGIN:VEVENT
DTSTAMP:20260420T122236Z
DTSTART;VALUE=DATE:20120525
DTEND;VALUE=DATE:20120528
SUMMARY:ICCSEA 2012
DESCRIPTION:Second International Conference on Computer Science\, Enginee
 ring & Applications ( ICCSEA-2012 )
URL:http://www.wikicfp.com/cfp/servlet/event.showcfp?eventid=19695&copyow
 nerid=33340
UID:cfp231296-E@wikicfp.com
END:VEVENT
BEGIN:VEVENT
DTSTAMP:20260420T122236Z
DTSTART;VALUE=DATE:20111223
SUMMARY:ICCSEA 2012 Deadline
DESCRIPTION:Second International Conference on Computer Science\, Enginee
 ring & Applications ( ICCSEA-2012 )
URL:http://www.wikicfp.com/cfp/servlet/event.showcfp?eventid=19695&copyow
 nerid=33340
UID:cfp231296-D@wikicfp.com
END:VEVENT
BEGIN:VEVENT
DTSTAMP:20260420T122236Z
DTSTART;VALUE=DATE:20120130
SUMMARY:ICCSEA 2012 Notification Due
DESCRIPTION:Second International Conference on Computer Science\, Enginee
 ring & Applications ( ICCSEA-2012 )
URL:http://www.wikicfp.com/cfp/servlet/event.showcfp?eventid=19695&copyow
 nerid=33340
UID:cfp231296-N@wikicfp.com
END:VEVENT
BEGIN:VEVENT
DTSTAMP:20260420T122236Z
DTSTART;VALUE=DATE:20120227
SUMMARY:ICCSEA 2012 Final Version Due
DESCRIPTION:Second International Conference on Computer Science\, Enginee
 ring & Applications ( ICCSEA-2012 )
URL:http://www.wikicfp.com/cfp/servlet/event.showcfp?eventid=19695&copyow
 nerid=33340
UID:cfp231296-N@wikicfp.com
END:VEVENT
BEGIN:VEVENT
DTSTAMP:20260420T122236Z
DTSTART;VALUE=DATE:20101215
SUMMARY:ISERP 2011 Abstract Due
DESCRIPTION:International Journals on All Engineering Sciences\, Business
  Administration Management and Medical Sciences
URL:http://www.wikicfp.com/cfp/servlet/event.showcfp?eventid=12329&copyow
 nerid=33340
UID:cfp231294-A@wikicfp.com
END:VEVENT
BEGIN:VEVENT
DTSTAMP:20260420T122236Z
DTSTART;VALUE=DATE:20111231
SUMMARY:ISERP 2011 Deadline
DESCRIPTION:International Journals on All Engineering Sciences\, Business
  Administration Management and Medical Sciences
URL:http://www.wikicfp.com/cfp/servlet/event.showcfp?eventid=12329&copyow
 nerid=33340
UID:cfp231294-D@wikicfp.com
END:VEVENT
BEGIN:VEVENT
DTSTAMP:20260420T122236Z
DTSTART;VALUE=DATE:20120625
DTEND;VALUE=DATE:20120628
SUMMARY:IUCC 2012
DESCRIPTION:The 11th IEEE International Conference on Ubiquitous Computin
 g and Communications
URL:http://www.wikicfp.com/cfp/servlet/event.showcfp?eventid=20315&copyow
 nerid=33340
UID:cfp231298-E@wikicfp.com
END:VEVENT
BEGIN:VEVENT
DTSTAMP:20260420T122236Z
DTSTART;VALUE=DATE:20120318
SUMMARY:IUCC 2012 Deadline
DESCRIPTION:The 11th IEEE International Conference on Ubiquitous Computin
 g and Communications
URL:http://www.wikicfp.com/cfp/servlet/event.showcfp?eventid=20315&copyow
 nerid=33340
UID:cfp231298-D@wikicfp.com
END:VEVENT
BEGIN:VEVENT
DTSTAMP:20260420T122236Z
DTSTART;VALUE=DATE:20120408
SUMMARY:IUCC 2012 Notification Due
DESCRIPTION:The 11th IEEE International Conference on Ubiquitous Computin
 g and Communications
URL:http://www.wikicfp.com/cfp/servlet/event.showcfp?eventid=20315&copyow
 nerid=33340
UID:cfp231298-N@wikicfp.com
END:VEVENT
BEGIN:VEVENT
DTSTAMP:20260420T122236Z
DTSTART;VALUE=DATE:20120508
SUMMARY:IUCC 2012 Final Version Due
DESCRIPTION:The 11th IEEE International Conference on Ubiquitous Computin
 g and Communications
URL:http://www.wikicfp.com/cfp/servlet/event.showcfp?eventid=20315&copyow
 nerid=33340
UID:cfp231298-N@wikicfp.com
END:VEVENT
BEGIN:VEVENT
DTSTAMP:20260420T122236Z
DTSTART;VALUE=DATE:20120713
DTEND;VALUE=DATE:20120716
SUMMARY:IWCAI  2012
DESCRIPTION:International Workshop on Computer and Artificial Intelligenc
 e 
URL:http://www.wikicfp.com/cfp/servlet/event.showcfp?eventid=20317&copyow
 nerid=33340
UID:cfp231299-E@wikicfp.com
END:VEVENT
BEGIN:VEVENT
DTSTAMP:20260420T122236Z
DTSTART;VALUE=DATE:20120320
SUMMARY:IWCAI  2012 Deadline
DESCRIPTION:International Workshop on Computer and Artificial Intelligenc
 e 
URL:http://www.wikicfp.com/cfp/servlet/event.showcfp?eventid=20317&copyow
 nerid=33340
UID:cfp231299-D@wikicfp.com
END:VEVENT
BEGIN:VEVENT
DTSTAMP:20260420T122236Z
DTSTART;VALUE=DATE:20130121
DTEND;VALUE=DATE:20130125
SUMMARY:SCC 2013
DESCRIPTION:9th International ITG Conference on Systems\, Communications 
 and Coding
URL:http://www.wikicfp.com/cfp/servlet/event.showcfp?eventid=20313&copyow
 nerid=33340
UID:cfp231297-E@wikicfp.com
END:VEVENT
BEGIN:VEVENT
DTSTAMP:20260420T122236Z
DTSTART;VALUE=DATE:20120601
SUMMARY:SCC 2013 Deadline
DESCRIPTION:9th International ITG Conference on Systems\, Communications 
 and Coding
URL:http://www.wikicfp.com/cfp/servlet/event.showcfp?eventid=20313&copyow
 nerid=33340
UID:cfp231297-D@wikicfp.com
END:VEVENT
BEGIN:VEVENT
DTSTAMP:20260420T122236Z
DTSTART;VALUE=DATE:20121001
SUMMARY:SCC 2013 Notification Due
DESCRIPTION:9th International ITG Conference on Systems\, Communications 
 and Coding
URL:http://www.wikicfp.com/cfp/servlet/event.showcfp?eventid=20313&copyow
 nerid=33340
UID:cfp231297-N@wikicfp.com
END:VEVENT
BEGIN:VEVENT
DTSTAMP:20260420T122236Z
DTSTART;VALUE=DATE:20121115
SUMMARY:SCC 2013 Final Version Due
DESCRIPTION:9th International ITG Conference on Systems\, Communications 
 and Coding
URL:http://www.wikicfp.com/cfp/servlet/event.showcfp?eventid=20313&copyow
 nerid=33340
UID:cfp231297-N@wikicfp.com
END:VEVENT
BEGIN:VEVENT
DTSTAMP:20260420T122236Z
DTSTART;VALUE=DATE:20120715
SUMMARY:IJWMN 2012 Deadline
DESCRIPTION:International Journal of Wireless & Mobile Networks (IJWMN)
URL:http://www.wikicfp.com/cfp/servlet/event.showcfp?eventid=19236&copyow
 nerid=33340
UID:cfp231295-D@wikicfp.com
END:VEVENT
BEGIN:VEVENT
DTSTAMP:20260420T122236Z
DTSTART;VALUE=DATE:20120815
SUMMARY:IJWMN 2012 Notification Due
DESCRIPTION:International Journal of Wireless & Mobile Networks (IJWMN)
URL:http://www.wikicfp.com/cfp/servlet/event.showcfp?eventid=19236&copyow
 nerid=33340
UID:cfp231295-N@wikicfp.com
END:VEVENT
BEGIN:VEVENT
DTSTAMP:20260420T122236Z
DTSTART;VALUE=DATE:20120820
SUMMARY:IJWMN 2012 Final Version Due
DESCRIPTION:International Journal of Wireless & Mobile Networks (IJWMN)
URL:http://www.wikicfp.com/cfp/servlet/event.showcfp?eventid=19236&copyow
 nerid=33340
UID:cfp231295-N@wikicfp.com
END:VEVENT
END:VCALENDAR
