BEGIN:VCALENDAR
PRODID:-//WikiCFP//MatteoGolfarelli 1.0//EN
VERSION:2.0
CALSCALE:GREGORIAN
BEGIN:VEVENT
DTSTAMP:20260419T220327Z
DTSTART;VALUE=DATE:20120521
DTEND;VALUE=DATE:20120526
SUMMARY:miproBIS 2012
DESCRIPTION:International Conference on BUSINESS INTELLIGENCE SYSTEMS 
URL:http://www.wikicfp.com/cfp/servlet/event.showcfp?eventid=20281&copyow
 nerid=33273
UID:cfp230728-E@wikicfp.com
END:VEVENT
BEGIN:VEVENT
DTSTAMP:20260419T220327Z
DTSTART;VALUE=DATE:20120118
SUMMARY:miproBIS 2012 Abstract Due
DESCRIPTION:International Conference on BUSINESS INTELLIGENCE SYSTEMS 
URL:http://www.wikicfp.com/cfp/servlet/event.showcfp?eventid=20281&copyow
 nerid=33273
UID:cfp230728-A@wikicfp.com
END:VEVENT
BEGIN:VEVENT
DTSTAMP:20260419T220327Z
DTSTART;VALUE=DATE:20120206
SUMMARY:miproBIS 2012 Deadline
DESCRIPTION:International Conference on BUSINESS INTELLIGENCE SYSTEMS 
URL:http://www.wikicfp.com/cfp/servlet/event.showcfp?eventid=20281&copyow
 nerid=33273
UID:cfp230728-D@wikicfp.com
END:VEVENT
BEGIN:VEVENT
DTSTAMP:20260419T220327Z
DTSTART;VALUE=DATE:20120305
SUMMARY:miproBIS 2012 Notification Due
DESCRIPTION:International Conference on BUSINESS INTELLIGENCE SYSTEMS 
URL:http://www.wikicfp.com/cfp/servlet/event.showcfp?eventid=20281&copyow
 nerid=33273
UID:cfp230728-N@wikicfp.com
END:VEVENT
BEGIN:VEVENT
DTSTAMP:20260419T220327Z
DTSTART;VALUE=DATE:20120328
SUMMARY:miproBIS 2012 Final Version Due
DESCRIPTION:International Conference on BUSINESS INTELLIGENCE SYSTEMS 
URL:http://www.wikicfp.com/cfp/servlet/event.showcfp?eventid=20281&copyow
 nerid=33273
UID:cfp230728-N@wikicfp.com
END:VEVENT
BEGIN:VEVENT
DTSTAMP:20260419T220327Z
DTSTART;VALUE=DATE:20121102
DTEND;VALUE=DATE:20121103
SUMMARY:DOLAP 2012
DESCRIPTION:ACM 15th International Workshop on Data Warehousing and OLAP
URL:http://www.wikicfp.com/cfp/servlet/event.showcfp?eventid=23492&copyow
 nerid=33273
UID:cfp269788-E@wikicfp.com
END:VEVENT
BEGIN:VEVENT
DTSTAMP:20260419T220327Z
DTSTART;VALUE=DATE:20120629
SUMMARY:DOLAP 2012 Deadline
DESCRIPTION:ACM 15th International Workshop on Data Warehousing and OLAP
URL:http://www.wikicfp.com/cfp/servlet/event.showcfp?eventid=23492&copyow
 nerid=33273
UID:cfp269788-D@wikicfp.com
END:VEVENT
BEGIN:VEVENT
DTSTAMP:20260419T220327Z
DTSTART;VALUE=DATE:20120803
SUMMARY:DOLAP 2012 Notification Due
DESCRIPTION:ACM 15th International Workshop on Data Warehousing and OLAP
URL:http://www.wikicfp.com/cfp/servlet/event.showcfp?eventid=23492&copyow
 nerid=33273
UID:cfp269788-N@wikicfp.com
END:VEVENT
BEGIN:VEVENT
DTSTAMP:20260419T220327Z
DTSTART;VALUE=DATE:20120826
SUMMARY:DOLAP 2012 Final Version Due
DESCRIPTION:ACM 15th International Workshop on Data Warehousing and OLAP
URL:http://www.wikicfp.com/cfp/servlet/event.showcfp?eventid=23492&copyow
 nerid=33273
UID:cfp269788-N@wikicfp.com
END:VEVENT
BEGIN:VEVENT
DTSTAMP:20260419T220327Z
DTSTART;VALUE=DATE:20130901
DTEND;VALUE=DATE:20130902
SUMMARY:SoBI 2013
DESCRIPTION:1st International Workshop on Social Business Intelligence
URL:http://www.wikicfp.com/cfp/servlet/event.showcfp?eventid=28874&copyow
 nerid=33273
UID:cfp335378-E@wikicfp.com
END:VEVENT
BEGIN:VEVENT
DTSTAMP:20260419T220327Z
DTSTART;VALUE=DATE:20130505
SUMMARY:SoBI 2013 Deadline
DESCRIPTION:1st International Workshop on Social Business Intelligence
URL:http://www.wikicfp.com/cfp/servlet/event.showcfp?eventid=28874&copyow
 nerid=33273
UID:cfp335378-D@wikicfp.com
END:VEVENT
BEGIN:VEVENT
DTSTAMP:20260419T220327Z
DTSTART;VALUE=DATE:20130527
SUMMARY:SoBI 2013 Notification Due
DESCRIPTION:1st International Workshop on Social Business Intelligence
URL:http://www.wikicfp.com/cfp/servlet/event.showcfp?eventid=28874&copyow
 nerid=33273
UID:cfp335378-N@wikicfp.com
END:VEVENT
BEGIN:VEVENT
DTSTAMP:20260419T220327Z
DTSTART;VALUE=DATE:20130610
SUMMARY:SoBI 2013 Final Version Due
DESCRIPTION:1st International Workshop on Social Business Intelligence
URL:http://www.wikicfp.com/cfp/servlet/event.showcfp?eventid=28874&copyow
 nerid=33273
UID:cfp335378-N@wikicfp.com
END:VEVENT
BEGIN:VEVENT
DTSTAMP:20260419T220327Z
DTSTART;VALUE=DATE:20210927
DTEND;VALUE=DATE:20211001
SUMMARY:DaWaK 2021
DESCRIPTION:The 23rd International Conference on Big Data Analytics and K
 nowledge Discovery
URL:http://www.wikicfp.com/cfp/servlet/event.showcfp?eventid=127323&copyo
 wnerid=33273
UID:cfp876678-E@wikicfp.com
END:VEVENT
BEGIN:VEVENT
DTSTAMP:20260419T220327Z
DTSTART;VALUE=DATE:20210502
SUMMARY:DaWaK 2021 Deadline
DESCRIPTION:The 23rd International Conference on Big Data Analytics and K
 nowledge Discovery
URL:http://www.wikicfp.com/cfp/servlet/event.showcfp?eventid=127323&copyo
 wnerid=33273
UID:cfp876678-D@wikicfp.com
END:VEVENT
BEGIN:VEVENT
DTSTAMP:20260419T220327Z
DTSTART;VALUE=DATE:20210601
SUMMARY:DaWaK 2021 Notification Due
DESCRIPTION:The 23rd International Conference on Big Data Analytics and K
 nowledge Discovery
URL:http://www.wikicfp.com/cfp/servlet/event.showcfp?eventid=127323&copyo
 wnerid=33273
UID:cfp876678-N@wikicfp.com
END:VEVENT
BEGIN:VEVENT
DTSTAMP:20260419T220327Z
DTSTART;VALUE=DATE:20210622
SUMMARY:DaWaK 2021 Final Version Due
DESCRIPTION:The 23rd International Conference on Big Data Analytics and K
 nowledge Discovery
URL:http://www.wikicfp.com/cfp/servlet/event.showcfp?eventid=127323&copyo
 wnerid=33273
UID:cfp876678-N@wikicfp.com
END:VEVENT
END:VCALENDAR
