BEGIN:VCALENDAR
PRODID:-//WikiCFP//auriarte 1.0//EN
VERSION:2.0
CALSCALE:GREGORIAN
BEGIN:VEVENT
DTSTAMP:20260424T211627Z
DTSTART;VALUE=DATE:20120523
DTEND;VALUE=DATE:20120526
SUMMARY:FLAIRS-Posters 2012
DESCRIPTION:The Silver Anniversary Conference of the Florida Artificial I
 ntelligence Research Society (FLAIRS-25) - Poster Track
URL:http://www.wikicfp.com/cfp/servlet/event.showcfp?eventid=21053&copyow
 nerid=33212
UID:cfp240448-E@wikicfp.com
END:VEVENT
BEGIN:VEVENT
DTSTAMP:20260424T211627Z
DTSTART;VALUE=DATE:20120213
SUMMARY:FLAIRS-Posters 2012 Deadline
DESCRIPTION:The Silver Anniversary Conference of the Florida Artificial I
 ntelligence Research Society (FLAIRS-25) - Poster Track
URL:http://www.wikicfp.com/cfp/servlet/event.showcfp?eventid=21053&copyow
 nerid=33212
UID:cfp240448-D@wikicfp.com
END:VEVENT
BEGIN:VEVENT
DTSTAMP:20260424T211627Z
DTSTART;VALUE=DATE:20120217
SUMMARY:FLAIRS-Posters 2012 Notification Due
DESCRIPTION:The Silver Anniversary Conference of the Florida Artificial I
 ntelligence Research Society (FLAIRS-25) - Poster Track
URL:http://www.wikicfp.com/cfp/servlet/event.showcfp?eventid=21053&copyow
 nerid=33212
UID:cfp240448-N@wikicfp.com
END:VEVENT
BEGIN:VEVENT
DTSTAMP:20260424T211627Z
DTSTART;VALUE=DATE:20120421
DTEND;VALUE=DATE:20120423
SUMMARY:MAICS 2012
DESCRIPTION:The 23rd Midwest Artificial Intelligence and Cognitive Scienc
 e Conference
URL:http://www.wikicfp.com/cfp/servlet/event.showcfp?eventid=20287&copyow
 nerid=33212
UID:cfp240457-E@wikicfp.com
END:VEVENT
BEGIN:VEVENT
DTSTAMP:20260424T211627Z
DTSTART;VALUE=DATE:20120224
SUMMARY:MAICS 2012 Deadline
DESCRIPTION:The 23rd Midwest Artificial Intelligence and Cognitive Scienc
 e Conference
URL:http://www.wikicfp.com/cfp/servlet/event.showcfp?eventid=20287&copyow
 nerid=33212
UID:cfp240457-D@wikicfp.com
END:VEVENT
BEGIN:VEVENT
DTSTAMP:20260424T211627Z
DTSTART;VALUE=DATE:20120309
SUMMARY:MAICS 2012 Notification Due
DESCRIPTION:The 23rd Midwest Artificial Intelligence and Cognitive Scienc
 e Conference
URL:http://www.wikicfp.com/cfp/servlet/event.showcfp?eventid=20287&copyow
 nerid=33212
UID:cfp240457-N@wikicfp.com
END:VEVENT
BEGIN:VEVENT
DTSTAMP:20260424T211627Z
DTSTART;VALUE=DATE:20120323
SUMMARY:MAICS 2012 Final Version Due
DESCRIPTION:The 23rd Midwest Artificial Intelligence and Cognitive Scienc
 e Conference
URL:http://www.wikicfp.com/cfp/servlet/event.showcfp?eventid=20287&copyow
 nerid=33212
UID:cfp240457-N@wikicfp.com
END:VEVENT
BEGIN:VEVENT
DTSTAMP:20260424T211627Z
DTSTART;VALUE=DATE:20120815
DTEND;VALUE=DATE:20120818
SUMMARY:UAI 2012
DESCRIPTION:28th Conference on Uncertainty in Artificial Intelligence
URL:http://www.wikicfp.com/cfp/servlet/event.showcfp?eventid=18114&copyow
 nerid=33212
UID:cfp230029-E@wikicfp.com
END:VEVENT
BEGIN:VEVENT
DTSTAMP:20260424T211627Z
DTSTART;VALUE=DATE:20120330
SUMMARY:UAI 2012 Deadline
DESCRIPTION:28th Conference on Uncertainty in Artificial Intelligence
URL:http://www.wikicfp.com/cfp/servlet/event.showcfp?eventid=18114&copyow
 nerid=33212
UID:cfp230029-D@wikicfp.com
END:VEVENT
BEGIN:VEVENT
DTSTAMP:20260424T211627Z
DTSTART;VALUE=DATE:20120601
SUMMARY:UAI 2012 Notification Due
DESCRIPTION:28th Conference on Uncertainty in Artificial Intelligence
URL:http://www.wikicfp.com/cfp/servlet/event.showcfp?eventid=18114&copyow
 nerid=33212
UID:cfp230029-N@wikicfp.com
END:VEVENT
BEGIN:VEVENT
DTSTAMP:20260424T211627Z
DTSTART;VALUE=DATE:20120808
DTEND;VALUE=DATE:20120811
SUMMARY:DIM 2012
DESCRIPTION:IEEE International Workshop on Data Integration and Mining
URL:http://www.wikicfp.com/cfp/servlet/event.showcfp?eventid=20030&copyow
 nerid=33212
UID:cfp240451-E@wikicfp.com
END:VEVENT
BEGIN:VEVENT
DTSTAMP:20260424T211627Z
DTSTART;VALUE=DATE:20120331
SUMMARY:DIM 2012 Deadline
DESCRIPTION:IEEE International Workshop on Data Integration and Mining
URL:http://www.wikicfp.com/cfp/servlet/event.showcfp?eventid=20030&copyow
 nerid=33212
UID:cfp240451-D@wikicfp.com
END:VEVENT
BEGIN:VEVENT
DTSTAMP:20260424T211627Z
DTSTART;VALUE=DATE:20120430
SUMMARY:DIM 2012 Notification Due
DESCRIPTION:IEEE International Workshop on Data Integration and Mining
URL:http://www.wikicfp.com/cfp/servlet/event.showcfp?eventid=20030&copyow
 nerid=33212
UID:cfp240451-N@wikicfp.com
END:VEVENT
BEGIN:VEVENT
DTSTAMP:20260424T211627Z
DTSTART;VALUE=DATE:20120514
SUMMARY:DIM 2012 Final Version Due
DESCRIPTION:IEEE International Workshop on Data Integration and Mining
URL:http://www.wikicfp.com/cfp/servlet/event.showcfp?eventid=20030&copyow
 nerid=33212
UID:cfp240451-N@wikicfp.com
END:VEVENT
BEGIN:VEVENT
DTSTAMP:20260424T211627Z
DTSTART;VALUE=DATE:20120627
DTEND;VALUE=DATE:20120630
SUMMARY:C3S2E 2012
DESCRIPTION:Fifth International C* Conference on Computer Science & Softw
 are Engineering
URL:http://www.wikicfp.com/cfp/servlet/event.showcfp?eventid=18718&copyow
 nerid=33212
UID:cfp240452-E@wikicfp.com
END:VEVENT
BEGIN:VEVENT
DTSTAMP:20260424T211627Z
DTSTART;VALUE=DATE:20120423
SUMMARY:C3S2E 2012 Abstract Due
DESCRIPTION:Fifth International C* Conference on Computer Science & Softw
 are Engineering
URL:http://www.wikicfp.com/cfp/servlet/event.showcfp?eventid=18718&copyow
 nerid=33212
UID:cfp240452-A@wikicfp.com
END:VEVENT
BEGIN:VEVENT
DTSTAMP:20260424T211627Z
DTSTART;VALUE=DATE:20120425
SUMMARY:C3S2E 2012 Deadline
DESCRIPTION:Fifth International C* Conference on Computer Science & Softw
 are Engineering
URL:http://www.wikicfp.com/cfp/servlet/event.showcfp?eventid=18718&copyow
 nerid=33212
UID:cfp240452-D@wikicfp.com
END:VEVENT
BEGIN:VEVENT
DTSTAMP:20260424T211627Z
DTSTART;VALUE=DATE:20120528
SUMMARY:C3S2E 2012 Notification Due
DESCRIPTION:Fifth International C* Conference on Computer Science & Softw
 are Engineering
URL:http://www.wikicfp.com/cfp/servlet/event.showcfp?eventid=18718&copyow
 nerid=33212
UID:cfp240452-N@wikicfp.com
END:VEVENT
BEGIN:VEVENT
DTSTAMP:20260424T211627Z
DTSTART;VALUE=DATE:20120620
SUMMARY:C3S2E 2012 Final Version Due
DESCRIPTION:Fifth International C* Conference on Computer Science & Softw
 are Engineering
URL:http://www.wikicfp.com/cfp/servlet/event.showcfp?eventid=18718&copyow
 nerid=33212
UID:cfp240452-N@wikicfp.com
END:VEVENT
BEGIN:VEVENT
DTSTAMP:20260424T211627Z
DTSTART;VALUE=DATE:20121024
DTEND;VALUE=DATE:20121027
SUMMARY:WCECS 2012
DESCRIPTION:World Congress on Engineering and Computer Science 2012
URL:http://www.wikicfp.com/cfp/servlet/event.showcfp?eventid=19241&copyow
 nerid=33212
UID:cfp240455-E@wikicfp.com
END:VEVENT
BEGIN:VEVENT
DTSTAMP:20260424T211627Z
DTSTART;VALUE=DATE:20120702
SUMMARY:WCECS 2012 Deadline
DESCRIPTION:World Congress on Engineering and Computer Science 2012
URL:http://www.wikicfp.com/cfp/servlet/event.showcfp?eventid=19241&copyow
 nerid=33212
UID:cfp240455-D@wikicfp.com
END:VEVENT
BEGIN:VEVENT
DTSTAMP:20260424T211627Z
DTSTART;VALUE=DATE:20120730
SUMMARY:WCECS 2012 Final Version Due
DESCRIPTION:World Congress on Engineering and Computer Science 2012
URL:http://www.wikicfp.com/cfp/servlet/event.showcfp?eventid=19241&copyow
 nerid=33212
UID:cfp240455-N@wikicfp.com
END:VEVENT
BEGIN:VEVENT
DTSTAMP:20260424T211627Z
DTSTART;VALUE=DATE:20121128
DTEND;VALUE=DATE:20121201
SUMMARY:CORE 2012
DESCRIPTION:12th Congress on Computing
URL:http://www.wikicfp.com/cfp/servlet/event.showcfp?eventid=25031&copyow
 nerid=33212
UID:cfp289698-E@wikicfp.com
END:VEVENT
BEGIN:VEVENT
DTSTAMP:20260424T211627Z
DTSTART;VALUE=DATE:20120819
SUMMARY:CORE 2012 Deadline
DESCRIPTION:12th Congress on Computing
URL:http://www.wikicfp.com/cfp/servlet/event.showcfp?eventid=25031&copyow
 nerid=33212
UID:cfp289698-D@wikicfp.com
END:VEVENT
BEGIN:VEVENT
DTSTAMP:20260424T211627Z
DTSTART;VALUE=DATE:20121021
SUMMARY:CORE 2012 Notification Due
DESCRIPTION:12th Congress on Computing
URL:http://www.wikicfp.com/cfp/servlet/event.showcfp?eventid=25031&copyow
 nerid=33212
UID:cfp289698-N@wikicfp.com
END:VEVENT
END:VCALENDAR
