BEGIN:VCALENDAR
PRODID:-//WikiCFP//dhanashri_patil 1.0//EN
VERSION:2.0
CALSCALE:GREGORIAN
BEGIN:VEVENT
DTSTAMP:20260423T105850Z
DTSTART;VALUE=DATE:20120123
DTEND;VALUE=DATE:20120125
SUMMARY:COMPUTE 2012
DESCRIPTION:1st Annual Conference of ACM Pune Professional Chapter
URL:http://www.wikicfp.com/cfp/servlet/event.showcfp?eventid=17806&copyow
 nerid=33180
UID:cfp229799-E@wikicfp.com
END:VEVENT
BEGIN:VEVENT
DTSTAMP:20260423T105850Z
DTSTART;VALUE=DATE:20110925
SUMMARY:COMPUTE 2012 Deadline
DESCRIPTION:1st Annual Conference of ACM Pune Professional Chapter
URL:http://www.wikicfp.com/cfp/servlet/event.showcfp?eventid=17806&copyow
 nerid=33180
UID:cfp229799-D@wikicfp.com
END:VEVENT
BEGIN:VEVENT
DTSTAMP:20260423T105850Z
DTSTART;VALUE=DATE:20111110
SUMMARY:COMPUTE 2012 Notification Due
DESCRIPTION:1st Annual Conference of ACM Pune Professional Chapter
URL:http://www.wikicfp.com/cfp/servlet/event.showcfp?eventid=17806&copyow
 nerid=33180
UID:cfp229799-N@wikicfp.com
END:VEVENT
BEGIN:VEVENT
DTSTAMP:20260423T105850Z
DTSTART;VALUE=DATE:20111215
SUMMARY:COMPUTE 2012 Final Version Due
DESCRIPTION:1st Annual Conference of ACM Pune Professional Chapter
URL:http://www.wikicfp.com/cfp/servlet/event.showcfp?eventid=17806&copyow
 nerid=33180
UID:cfp229799-N@wikicfp.com
END:VEVENT
END:VCALENDAR
