BEGIN:VCALENDAR
PRODID:-//WikiCFP//boris_tran 1.0//EN
VERSION:2.0
CALSCALE:GREGORIAN
BEGIN:VEVENT
DTSTAMP:20260419T221655Z
DTSTART;VALUE=DATE:20121209
DTEND;VALUE=DATE:20121213
SUMMARY:WSC 2012
DESCRIPTION:Winter Simulation Conference
URL:http://www.wikicfp.com/cfp/servlet/event.showcfp?eventid=18400&copyow
 nerid=31972
UID:cfp227081-E@wikicfp.com
END:VEVENT
BEGIN:VEVENT
DTSTAMP:20260419T221655Z
DTSTART;VALUE=DATE:20120604
DTEND;VALUE=DATE:20120609
SUMMARY:AAMAS 2012
DESCRIPTION:11th International Conference on Autonomous Agents and Multia
 gent Systems
URL:http://www.wikicfp.com/cfp/servlet/event.showcfp?eventid=16263&copyow
 nerid=31972
UID:cfp224505-E@wikicfp.com
END:VEVENT
BEGIN:VEVENT
DTSTAMP:20260419T221655Z
DTSTART;VALUE=DATE:20111007
SUMMARY:AAMAS 2012 Abstract Due
DESCRIPTION:11th International Conference on Autonomous Agents and Multia
 gent Systems
URL:http://www.wikicfp.com/cfp/servlet/event.showcfp?eventid=16263&copyow
 nerid=31972
UID:cfp224505-A@wikicfp.com
END:VEVENT
BEGIN:VEVENT
DTSTAMP:20260419T221655Z
DTSTART;VALUE=DATE:20111012
SUMMARY:AAMAS 2012 Deadline
DESCRIPTION:11th International Conference on Autonomous Agents and Multia
 gent Systems
URL:http://www.wikicfp.com/cfp/servlet/event.showcfp?eventid=16263&copyow
 nerid=31972
UID:cfp224505-D@wikicfp.com
END:VEVENT
BEGIN:VEVENT
DTSTAMP:20260419T221655Z
DTSTART;VALUE=DATE:20111221
SUMMARY:AAMAS 2012 Notification Due
DESCRIPTION:11th International Conference on Autonomous Agents and Multia
 gent Systems
URL:http://www.wikicfp.com/cfp/servlet/event.showcfp?eventid=16263&copyow
 nerid=31972
UID:cfp224505-N@wikicfp.com
END:VEVENT
BEGIN:VEVENT
DTSTAMP:20260419T221655Z
DTSTART;VALUE=DATE:20120528
DTEND;VALUE=DATE:20120531
SUMMARY:CAAI 2012
DESCRIPTION:25 Canadian Conference on Artificial Intelligence
URL:http://www.wikicfp.com/cfp/servlet/event.showcfp?eventid=19518&copyow
 nerid=31972
UID:cfp221519-E@wikicfp.com
END:VEVENT
BEGIN:VEVENT
DTSTAMP:20260419T221655Z
DTSTART;VALUE=DATE:20120116
SUMMARY:CAAI 2012 Deadline
DESCRIPTION:25 Canadian Conference on Artificial Intelligence
URL:http://www.wikicfp.com/cfp/servlet/event.showcfp?eventid=19518&copyow
 nerid=31972
UID:cfp221519-D@wikicfp.com
END:VEVENT
BEGIN:VEVENT
DTSTAMP:20260419T221655Z
DTSTART;VALUE=DATE:20120220
SUMMARY:CAAI 2012 Notification Due
DESCRIPTION:25 Canadian Conference on Artificial Intelligence
URL:http://www.wikicfp.com/cfp/servlet/event.showcfp?eventid=19518&copyow
 nerid=31972
UID:cfp221519-N@wikicfp.com
END:VEVENT
BEGIN:VEVENT
DTSTAMP:20260419T221655Z
DTSTART;VALUE=DATE:20120305
SUMMARY:CAAI 2012 Final Version Due
DESCRIPTION:25 Canadian Conference on Artificial Intelligence
URL:http://www.wikicfp.com/cfp/servlet/event.showcfp?eventid=19518&copyow
 nerid=31972
UID:cfp221519-N@wikicfp.com
END:VEVENT
BEGIN:VEVENT
DTSTAMP:20260419T221655Z
DTSTART;VALUE=DATE:20120604
DTEND;VALUE=DATE:20120607
SUMMARY:ICCS 2012
DESCRIPTION:International Conference on Computational Science
URL:http://www.wikicfp.com/cfp/servlet/event.showcfp?eventid=18743&copyow
 nerid=31972
UID:cfp226352-E@wikicfp.com
END:VEVENT
BEGIN:VEVENT
DTSTAMP:20260419T221655Z
DTSTART;VALUE=DATE:20120120
SUMMARY:ICCS 2012 Deadline
DESCRIPTION:International Conference on Computational Science
URL:http://www.wikicfp.com/cfp/servlet/event.showcfp?eventid=18743&copyow
 nerid=31972
UID:cfp226352-D@wikicfp.com
END:VEVENT
BEGIN:VEVENT
DTSTAMP:20260419T221655Z
DTSTART;VALUE=DATE:20120220
SUMMARY:ICCS 2012 Notification Due
DESCRIPTION:International Conference on Computational Science
URL:http://www.wikicfp.com/cfp/servlet/event.showcfp?eventid=18743&copyow
 nerid=31972
UID:cfp226352-N@wikicfp.com
END:VEVENT
BEGIN:VEVENT
DTSTAMP:20260419T221655Z
DTSTART;VALUE=DATE:20120310
SUMMARY:ICCS 2012 Final Version Due
DESCRIPTION:International Conference on Computational Science
URL:http://www.wikicfp.com/cfp/servlet/event.showcfp?eventid=18743&copyow
 nerid=31972
UID:cfp226352-N@wikicfp.com
END:VEVENT
BEGIN:VEVENT
DTSTAMP:20260419T221655Z
DTSTART;VALUE=DATE:20120722
DTEND;VALUE=DATE:20120727
SUMMARY:AAAI 2012
DESCRIPTION:AAAI - Association of the Advancement of Artificial Intellige
 nce
URL:http://www.wikicfp.com/cfp/servlet/event.showcfp?eventid=18353&copyow
 nerid=31972
UID:cfp221517-E@wikicfp.com
END:VEVENT
BEGIN:VEVENT
DTSTAMP:20260419T221655Z
DTSTART;VALUE=DATE:20120124
SUMMARY:AAAI 2012 Deadline
DESCRIPTION:AAAI - Association of the Advancement of Artificial Intellige
 nce
URL:http://www.wikicfp.com/cfp/servlet/event.showcfp?eventid=18353&copyow
 nerid=31972
UID:cfp221517-D@wikicfp.com
END:VEVENT
BEGIN:VEVENT
DTSTAMP:20260419T221655Z
DTSTART;VALUE=DATE:20120328
SUMMARY:AAAI 2012 Notification Due
DESCRIPTION:AAAI - Association of the Advancement of Artificial Intellige
 nce
URL:http://www.wikicfp.com/cfp/servlet/event.showcfp?eventid=18353&copyow
 nerid=31972
UID:cfp221517-N@wikicfp.com
END:VEVENT
BEGIN:VEVENT
DTSTAMP:20260419T221655Z
DTSTART;VALUE=DATE:20120417
SUMMARY:AAAI 2012 Final Version Due
DESCRIPTION:AAAI - Association of the Advancement of Artificial Intellige
 nce
URL:http://www.wikicfp.com/cfp/servlet/event.showcfp?eventid=18353&copyow
 nerid=31972
UID:cfp221517-N@wikicfp.com
END:VEVENT
BEGIN:VEVENT
DTSTAMP:20260419T221655Z
DTSTART;VALUE=DATE:20120603
DTEND;VALUE=DATE:20120608
SUMMARY:IV 2012
DESCRIPTION:IEEE Intelligent Vehicles Symposium
URL:http://www.wikicfp.com/cfp/servlet/event.showcfp?eventid=17679&copyow
 nerid=31972
UID:cfp221515-E@wikicfp.com
END:VEVENT
BEGIN:VEVENT
DTSTAMP:20260419T221655Z
DTSTART;VALUE=DATE:20120131
SUMMARY:IV 2012 Deadline
DESCRIPTION:IEEE Intelligent Vehicles Symposium
URL:http://www.wikicfp.com/cfp/servlet/event.showcfp?eventid=17679&copyow
 nerid=31972
UID:cfp221515-D@wikicfp.com
END:VEVENT
BEGIN:VEVENT
DTSTAMP:20260419T221655Z
DTSTART;VALUE=DATE:20120315
SUMMARY:IV 2012 Notification Due
DESCRIPTION:IEEE Intelligent Vehicles Symposium
URL:http://www.wikicfp.com/cfp/servlet/event.showcfp?eventid=17679&copyow
 nerid=31972
UID:cfp221515-N@wikicfp.com
END:VEVENT
BEGIN:VEVENT
DTSTAMP:20260419T221655Z
DTSTART;VALUE=DATE:20120415
SUMMARY:IV 2012 Final Version Due
DESCRIPTION:IEEE Intelligent Vehicles Symposium
URL:http://www.wikicfp.com/cfp/servlet/event.showcfp?eventid=17679&copyow
 nerid=31972
UID:cfp221515-N@wikicfp.com
END:VEVENT
BEGIN:VEVENT
DTSTAMP:20260419T221655Z
DTSTART;VALUE=DATE:20120605
DTEND;VALUE=DATE:20120610
SUMMARY:ACM EC 2012
DESCRIPTION:13th ACM Conference on Electronic Commerce
URL:http://www.wikicfp.com/cfp/servlet/event.showcfp?eventid=18109&copyow
 nerid=31972
UID:cfp223861-E@wikicfp.com
END:VEVENT
BEGIN:VEVENT
DTSTAMP:20260419T221655Z
DTSTART;VALUE=DATE:20120204
SUMMARY:ACM EC 2012 Deadline
DESCRIPTION:13th ACM Conference on Electronic Commerce
URL:http://www.wikicfp.com/cfp/servlet/event.showcfp?eventid=18109&copyow
 nerid=31972
UID:cfp223861-D@wikicfp.com
END:VEVENT
BEGIN:VEVENT
DTSTAMP:20260419T221655Z
DTSTART;VALUE=DATE:20120315
SUMMARY:ACM EC 2012 Notification Due
DESCRIPTION:13th ACM Conference on Electronic Commerce
URL:http://www.wikicfp.com/cfp/servlet/event.showcfp?eventid=18109&copyow
 nerid=31972
UID:cfp223861-N@wikicfp.com
END:VEVENT
BEGIN:VEVENT
DTSTAMP:20260419T221655Z
DTSTART;VALUE=DATE:20120401
SUMMARY:ACM EC 2012 Final Version Due
DESCRIPTION:13th ACM Conference on Electronic Commerce
URL:http://www.wikicfp.com/cfp/servlet/event.showcfp?eventid=18109&copyow
 nerid=31972
UID:cfp223861-N@wikicfp.com
END:VEVENT
BEGIN:VEVENT
DTSTAMP:20260419T221655Z
DTSTART;VALUE=DATE:20120627
DTEND;VALUE=DATE:20120630
SUMMARY:ICML 2012
DESCRIPTION:29th International Conference on Machine Learning
URL:http://www.wikicfp.com/cfp/servlet/event.showcfp?eventid=16247&copyow
 nerid=31972
UID:cfp226353-E@wikicfp.com
END:VEVENT
BEGIN:VEVENT
DTSTAMP:20260419T221655Z
DTSTART;VALUE=DATE:20120224
SUMMARY:ICML 2012 Deadline
DESCRIPTION:29th International Conference on Machine Learning
URL:http://www.wikicfp.com/cfp/servlet/event.showcfp?eventid=16247&copyow
 nerid=31972
UID:cfp226353-D@wikicfp.com
END:VEVENT
BEGIN:VEVENT
DTSTAMP:20260419T221655Z
DTSTART;VALUE=DATE:20120430
SUMMARY:ICML 2012 Notification Due
DESCRIPTION:29th International Conference on Machine Learning
URL:http://www.wikicfp.com/cfp/servlet/event.showcfp?eventid=16247&copyow
 nerid=31972
UID:cfp226353-N@wikicfp.com
END:VEVENT
BEGIN:VEVENT
DTSTAMP:20260419T221655Z
DTSTART;VALUE=DATE:20120827
DTEND;VALUE=DATE:20120901
SUMMARY:ECAI 2012
DESCRIPTION: 20th European Conference on Artificial Intelligence
URL:http://www.wikicfp.com/cfp/servlet/event.showcfp?eventid=11756&copyow
 nerid=31972
UID:cfp221513-E@wikicfp.com
END:VEVENT
BEGIN:VEVENT
DTSTAMP:20260419T221655Z
DTSTART;VALUE=DATE:20120306
SUMMARY:ECAI 2012 Deadline
DESCRIPTION: 20th European Conference on Artificial Intelligence
URL:http://www.wikicfp.com/cfp/servlet/event.showcfp?eventid=11756&copyow
 nerid=31972
UID:cfp221513-D@wikicfp.com
END:VEVENT
BEGIN:VEVENT
DTSTAMP:20260419T221655Z
DTSTART;VALUE=DATE:20120521
SUMMARY:ECAI 2012 Notification Due
DESCRIPTION: 20th European Conference on Artificial Intelligence
URL:http://www.wikicfp.com/cfp/servlet/event.showcfp?eventid=11756&copyow
 nerid=31972
UID:cfp221513-N@wikicfp.com
END:VEVENT
BEGIN:VEVENT
DTSTAMP:20260419T221655Z
DTSTART;VALUE=DATE:20120603
SUMMARY:ECAI 2012 Final Version Due
DESCRIPTION: 20th European Conference on Artificial Intelligence
URL:http://www.wikicfp.com/cfp/servlet/event.showcfp?eventid=11756&copyow
 nerid=31972
UID:cfp221513-N@wikicfp.com
END:VEVENT
BEGIN:VEVENT
DTSTAMP:20260419T221655Z
DTSTART;VALUE=DATE:20120829
DTEND;VALUE=DATE:20120831
SUMMARY:PAIS 2012
DESCRIPTION:Seventh Conference on Prestigious Applications of Intelligent
  Systems
URL:http://www.wikicfp.com/cfp/servlet/event.showcfp?eventid=19175&copyow
 nerid=31972
UID:cfp223335-E@wikicfp.com
END:VEVENT
BEGIN:VEVENT
DTSTAMP:20260419T221655Z
DTSTART;VALUE=DATE:20120306
SUMMARY:PAIS 2012 Deadline
DESCRIPTION:Seventh Conference on Prestigious Applications of Intelligent
  Systems
URL:http://www.wikicfp.com/cfp/servlet/event.showcfp?eventid=19175&copyow
 nerid=31972
UID:cfp223335-D@wikicfp.com
END:VEVENT
BEGIN:VEVENT
DTSTAMP:20260419T221655Z
DTSTART;VALUE=DATE:20120912
DTEND;VALUE=DATE:20120915
SUMMARY:ANTS 2012
DESCRIPTION:Eighth International Conference on Swarm Intelligence
URL:http://www.wikicfp.com/cfp/servlet/event.showcfp?eventid=18769&copyow
 nerid=31972
UID:cfp223333-E@wikicfp.com
END:VEVENT
BEGIN:VEVENT
DTSTAMP:20260419T221655Z
DTSTART;VALUE=DATE:20120309
SUMMARY:ANTS 2012 Deadline
DESCRIPTION:Eighth International Conference on Swarm Intelligence
URL:http://www.wikicfp.com/cfp/servlet/event.showcfp?eventid=18769&copyow
 nerid=31972
UID:cfp223333-D@wikicfp.com
END:VEVENT
BEGIN:VEVENT
DTSTAMP:20260419T221655Z
DTSTART;VALUE=DATE:20120503
SUMMARY:ANTS 2012 Notification Due
DESCRIPTION:Eighth International Conference on Swarm Intelligence
URL:http://www.wikicfp.com/cfp/servlet/event.showcfp?eventid=18769&copyow
 nerid=31972
UID:cfp223333-N@wikicfp.com
END:VEVENT
BEGIN:VEVENT
DTSTAMP:20260419T221655Z
DTSTART;VALUE=DATE:20120517
SUMMARY:ANTS 2012 Final Version Due
DESCRIPTION:Eighth International Conference on Swarm Intelligence
URL:http://www.wikicfp.com/cfp/servlet/event.showcfp?eventid=18769&copyow
 nerid=31972
UID:cfp223333-N@wikicfp.com
END:VEVENT
BEGIN:VEVENT
DTSTAMP:20260419T221655Z
DTSTART;VALUE=DATE:20120916
DTEND;VALUE=DATE:20120920
SUMMARY:ITSC 2012
DESCRIPTION:15th International IEEE Conference on Intelligent Transportat
 ion Systems
URL:http://www.wikicfp.com/cfp/servlet/event.showcfp?eventid=14076&copyow
 nerid=31972
UID:cfp221516-E@wikicfp.com
END:VEVENT
BEGIN:VEVENT
DTSTAMP:20260419T221655Z
DTSTART;VALUE=DATE:20120315
SUMMARY:ITSC 2012 Deadline
DESCRIPTION:15th International IEEE Conference on Intelligent Transportat
 ion Systems
URL:http://www.wikicfp.com/cfp/servlet/event.showcfp?eventid=14076&copyow
 nerid=31972
UID:cfp221516-D@wikicfp.com
END:VEVENT
BEGIN:VEVENT
DTSTAMP:20260419T221655Z
DTSTART;VALUE=DATE:20120601
SUMMARY:ITSC 2012 Notification Due
DESCRIPTION:15th International IEEE Conference on Intelligent Transportat
 ion Systems
URL:http://www.wikicfp.com/cfp/servlet/event.showcfp?eventid=14076&copyow
 nerid=31972
UID:cfp221516-N@wikicfp.com
END:VEVENT
BEGIN:VEVENT
DTSTAMP:20260419T221655Z
DTSTART;VALUE=DATE:20120701
SUMMARY:ITSC 2012 Final Version Due
DESCRIPTION:15th International IEEE Conference on Intelligent Transportat
 ion Systems
URL:http://www.wikicfp.com/cfp/servlet/event.showcfp?eventid=14076&copyow
 nerid=31972
UID:cfp221516-N@wikicfp.com
END:VEVENT
BEGIN:VEVENT
DTSTAMP:20260419T221655Z
DTSTART;VALUE=DATE:20120901
DTEND;VALUE=DATE:20120906
SUMMARY:PPSN  2012
DESCRIPTION:12th International Conference on Parallel Problem Solving Fro
 m Nature
URL:http://www.wikicfp.com/cfp/servlet/event.showcfp?eventid=16912&copyow
 nerid=31972
UID:cfp223334-E@wikicfp.com
END:VEVENT
BEGIN:VEVENT
DTSTAMP:20260419T221655Z
DTSTART;VALUE=DATE:20120315
SUMMARY:PPSN  2012 Deadline
DESCRIPTION:12th International Conference on Parallel Problem Solving Fro
 m Nature
URL:http://www.wikicfp.com/cfp/servlet/event.showcfp?eventid=16912&copyow
 nerid=31972
UID:cfp223334-D@wikicfp.com
END:VEVENT
BEGIN:VEVENT
DTSTAMP:20260419T221655Z
DTSTART;VALUE=DATE:20120601
SUMMARY:PPSN  2012 Notification Due
DESCRIPTION:12th International Conference on Parallel Problem Solving Fro
 m Nature
URL:http://www.wikicfp.com/cfp/servlet/event.showcfp?eventid=16912&copyow
 nerid=31972
UID:cfp223334-N@wikicfp.com
END:VEVENT
BEGIN:VEVENT
DTSTAMP:20260419T221655Z
DTSTART;VALUE=DATE:20120610
SUMMARY:PPSN  2012 Final Version Due
DESCRIPTION:12th International Conference on Parallel Problem Solving Fro
 m Nature
URL:http://www.wikicfp.com/cfp/servlet/event.showcfp?eventid=16912&copyow
 nerid=31972
UID:cfp223334-N@wikicfp.com
END:VEVENT
BEGIN:VEVENT
DTSTAMP:20260419T221655Z
DTSTART;VALUE=DATE:20120815
DTEND;VALUE=DATE:20120818
SUMMARY:UAI 2012
DESCRIPTION:28th Conference on Uncertainty in Artificial Intelligence
URL:http://www.wikicfp.com/cfp/servlet/event.showcfp?eventid=18114&copyow
 nerid=31972
UID:cfp221514-E@wikicfp.com
END:VEVENT
BEGIN:VEVENT
DTSTAMP:20260419T221655Z
DTSTART;VALUE=DATE:20120330
SUMMARY:UAI 2012 Deadline
DESCRIPTION:28th Conference on Uncertainty in Artificial Intelligence
URL:http://www.wikicfp.com/cfp/servlet/event.showcfp?eventid=18114&copyow
 nerid=31972
UID:cfp221514-D@wikicfp.com
END:VEVENT
BEGIN:VEVENT
DTSTAMP:20260419T221655Z
DTSTART;VALUE=DATE:20120601
SUMMARY:UAI 2012 Notification Due
DESCRIPTION:28th Conference on Uncertainty in Artificial Intelligence
URL:http://www.wikicfp.com/cfp/servlet/event.showcfp?eventid=18114&copyow
 nerid=31972
UID:cfp221514-N@wikicfp.com
END:VEVENT
BEGIN:VEVENT
DTSTAMP:20260419T221655Z
DTSTART;VALUE=DATE:20120903
DTEND;VALUE=DATE:20120908
SUMMARY:PRICAI 2012
DESCRIPTION:12th PACIFIC RIM INTERNATIONAL CONFERENCE ON  ARTIFICIAL INTE
 LLIGENCE
URL:http://www.wikicfp.com/cfp/servlet/event.showcfp?eventid=17838&copyow
 nerid=31972
UID:cfp221512-E@wikicfp.com
END:VEVENT
BEGIN:VEVENT
DTSTAMP:20260419T221655Z
DTSTART;VALUE=DATE:20120331
SUMMARY:PRICAI 2012 Deadline
DESCRIPTION:12th PACIFIC RIM INTERNATIONAL CONFERENCE ON  ARTIFICIAL INTE
 LLIGENCE
URL:http://www.wikicfp.com/cfp/servlet/event.showcfp?eventid=17838&copyow
 nerid=31972
UID:cfp221512-D@wikicfp.com
END:VEVENT
BEGIN:VEVENT
DTSTAMP:20260419T221655Z
DTSTART;VALUE=DATE:20120515
SUMMARY:PRICAI 2012 Notification Due
DESCRIPTION:12th PACIFIC RIM INTERNATIONAL CONFERENCE ON  ARTIFICIAL INTE
 LLIGENCE
URL:http://www.wikicfp.com/cfp/servlet/event.showcfp?eventid=17838&copyow
 nerid=31972
UID:cfp221512-N@wikicfp.com
END:VEVENT
BEGIN:VEVENT
DTSTAMP:20260419T221655Z
DTSTART;VALUE=DATE:20120521
SUMMARY:PRICAI 2012 Final Version Due
DESCRIPTION:12th PACIFIC RIM INTERNATIONAL CONFERENCE ON  ARTIFICIAL INTE
 LLIGENCE
URL:http://www.wikicfp.com/cfp/servlet/event.showcfp?eventid=17838&copyow
 nerid=31972
UID:cfp221512-N@wikicfp.com
END:VEVENT
BEGIN:VEVENT
DTSTAMP:20260419T221655Z
DTSTART;VALUE=DATE:20120919
DTEND;VALUE=DATE:20120922
SUMMARY:EMSS 2012
DESCRIPTION:The 24th European Modeling and Simulation Symposium
URL:http://www.wikicfp.com/cfp/servlet/event.showcfp?eventid=19310&copyow
 nerid=31972
UID:cfp227080-E@wikicfp.com
END:VEVENT
BEGIN:VEVENT
DTSTAMP:20260419T221655Z
DTSTART;VALUE=DATE:20120412
SUMMARY:EMSS 2012 Deadline
DESCRIPTION:The 24th European Modeling and Simulation Symposium
URL:http://www.wikicfp.com/cfp/servlet/event.showcfp?eventid=19310&copyow
 nerid=31972
UID:cfp227080-D@wikicfp.com
END:VEVENT
BEGIN:VEVENT
DTSTAMP:20260419T221655Z
DTSTART;VALUE=DATE:20120512
SUMMARY:EMSS 2012 Notification Due
DESCRIPTION:The 24th European Modeling and Simulation Symposium
URL:http://www.wikicfp.com/cfp/servlet/event.showcfp?eventid=19310&copyow
 nerid=31972
UID:cfp227080-N@wikicfp.com
END:VEVENT
BEGIN:VEVENT
DTSTAMP:20260419T221655Z
DTSTART;VALUE=DATE:20120612
SUMMARY:EMSS 2012 Final Version Due
DESCRIPTION:The 24th European Modeling and Simulation Symposium
URL:http://www.wikicfp.com/cfp/servlet/event.showcfp?eventid=19310&copyow
 nerid=31972
UID:cfp227080-N@wikicfp.com
END:VEVENT
BEGIN:VEVENT
DTSTAMP:20260419T221655Z
DTSTART;VALUE=DATE:20120827
DTEND;VALUE=DATE:20120829
SUMMARY:STAIRS 2012
DESCRIPTION:Starting Artificial Intelligence Research Symposium
URL:http://www.wikicfp.com/cfp/servlet/event.showcfp?eventid=19700&copyow
 nerid=31972
UID:cfp245766-E@wikicfp.com
END:VEVENT
BEGIN:VEVENT
DTSTAMP:20260419T221655Z
DTSTART;VALUE=DATE:20120525
SUMMARY:STAIRS 2012 Deadline
DESCRIPTION:Starting Artificial Intelligence Research Symposium
URL:http://www.wikicfp.com/cfp/servlet/event.showcfp?eventid=19700&copyow
 nerid=31972
UID:cfp245766-D@wikicfp.com
END:VEVENT
BEGIN:VEVENT
DTSTAMP:20260419T221655Z
DTSTART;VALUE=DATE:20120623
SUMMARY:STAIRS 2012 Notification Due
DESCRIPTION:Starting Artificial Intelligence Research Symposium
URL:http://www.wikicfp.com/cfp/servlet/event.showcfp?eventid=19700&copyow
 nerid=31972
UID:cfp245766-N@wikicfp.com
END:VEVENT
BEGIN:VEVENT
DTSTAMP:20260419T221655Z
DTSTART;VALUE=DATE:20120630
SUMMARY:STAIRS 2012 Final Version Due
DESCRIPTION:Starting Artificial Intelligence Research Symposium
URL:http://www.wikicfp.com/cfp/servlet/event.showcfp?eventid=19700&copyow
 nerid=31972
UID:cfp245766-N@wikicfp.com
END:VEVENT
BEGIN:VEVENT
DTSTAMP:20260419T221655Z
DTSTART;VALUE=DATE:20121121
DTEND;VALUE=DATE:20121124
SUMMARY:MDAI 2012
DESCRIPTION:The 9th International Conference on Modeling Decisions for Ar
 tificial Intelligence 
URL:http://www.wikicfp.com/cfp/servlet/event.showcfp?eventid=20990&copyow
 nerid=31972
UID:cfp261430-E@wikicfp.com
END:VEVENT
BEGIN:VEVENT
DTSTAMP:20260419T221655Z
DTSTART;VALUE=DATE:20120525
SUMMARY:MDAI 2012 Deadline
DESCRIPTION:The 9th International Conference on Modeling Decisions for Ar
 tificial Intelligence 
URL:http://www.wikicfp.com/cfp/servlet/event.showcfp?eventid=20990&copyow
 nerid=31972
UID:cfp261430-D@wikicfp.com
END:VEVENT
BEGIN:VEVENT
DTSTAMP:20260419T221655Z
DTSTART;VALUE=DATE:20120710
SUMMARY:MDAI 2012 Notification Due
DESCRIPTION:The 9th International Conference on Modeling Decisions for Ar
 tificial Intelligence 
URL:http://www.wikicfp.com/cfp/servlet/event.showcfp?eventid=20990&copyow
 nerid=31972
UID:cfp261430-N@wikicfp.com
END:VEVENT
BEGIN:VEVENT
DTSTAMP:20260419T221655Z
DTSTART;VALUE=DATE:20120731
SUMMARY:MDAI 2012 Final Version Due
DESCRIPTION:The 9th International Conference on Modeling Decisions for Ar
 tificial Intelligence 
URL:http://www.wikicfp.com/cfp/servlet/event.showcfp?eventid=20990&copyow
 nerid=31972
UID:cfp261430-N@wikicfp.com
END:VEVENT
BEGIN:VEVENT
DTSTAMP:20260419T221655Z
DTSTART;VALUE=DATE:20121128
DTEND;VALUE=DATE:20121201
SUMMARY:ICCCI 2012
DESCRIPTION:4th International Conference on Computational Collective Inte
 lligence - Technologies and Applications
URL:http://www.wikicfp.com/cfp/servlet/event.showcfp?eventid=18859&copyow
 nerid=31972
UID:cfp223478-E@wikicfp.com
END:VEVENT
BEGIN:VEVENT
DTSTAMP:20260419T221655Z
DTSTART;VALUE=DATE:20120531
SUMMARY:ICCCI 2012 Deadline
DESCRIPTION:4th International Conference on Computational Collective Inte
 lligence - Technologies and Applications
URL:http://www.wikicfp.com/cfp/servlet/event.showcfp?eventid=18859&copyow
 nerid=31972
UID:cfp223478-D@wikicfp.com
END:VEVENT
BEGIN:VEVENT
DTSTAMP:20260419T221655Z
DTSTART;VALUE=DATE:20120720
SUMMARY:ICCCI 2012 Notification Due
DESCRIPTION:4th International Conference on Computational Collective Inte
 lligence - Technologies and Applications
URL:http://www.wikicfp.com/cfp/servlet/event.showcfp?eventid=18859&copyow
 nerid=31972
UID:cfp223478-N@wikicfp.com
END:VEVENT
BEGIN:VEVENT
DTSTAMP:20260419T221655Z
DTSTART;VALUE=DATE:20120820
SUMMARY:ICCCI 2012 Final Version Due
DESCRIPTION:4th International Conference on Computational Collective Inte
 lligence - Technologies and Applications
URL:http://www.wikicfp.com/cfp/servlet/event.showcfp?eventid=18859&copyow
 nerid=31972
UID:cfp223478-N@wikicfp.com
END:VEVENT
BEGIN:VEVENT
DTSTAMP:20260419T221655Z
DTSTART;VALUE=DATE:20121203
DTEND;VALUE=DATE:20121207
SUMMARY:NIPS 2012
DESCRIPTION:Neural Information Processing Systems Conference
URL:http://www.wikicfp.com/cfp/servlet/event.showcfp?eventid=14639&copyow
 nerid=31972
UID:cfp267579-E@wikicfp.com
END:VEVENT
BEGIN:VEVENT
DTSTAMP:20260419T221655Z
DTSTART;VALUE=DATE:20120601
SUMMARY:NIPS 2012 Deadline
DESCRIPTION:Neural Information Processing Systems Conference
URL:http://www.wikicfp.com/cfp/servlet/event.showcfp?eventid=14639&copyow
 nerid=31972
UID:cfp267579-D@wikicfp.com
END:VEVENT
BEGIN:VEVENT
DTSTAMP:20260419T221655Z
DTSTART;VALUE=DATE:20120903
SUMMARY:NIPS 2012 Notification Due
DESCRIPTION:Neural Information Processing Systems Conference
URL:http://www.wikicfp.com/cfp/servlet/event.showcfp?eventid=14639&copyow
 nerid=31972
UID:cfp267579-N@wikicfp.com
END:VEVENT
BEGIN:VEVENT
DTSTAMP:20260419T221655Z
DTSTART;VALUE=DATE:20121204
DTEND;VALUE=DATE:20121208
SUMMARY:WIC 2012
DESCRIPTION:The 2012 World Intelligence Congress (WIC 2012)
URL:http://www.wikicfp.com/cfp/servlet/event.showcfp?eventid=21091&copyow
 nerid=31972
UID:cfp240663-E@wikicfp.com
END:VEVENT
BEGIN:VEVENT
DTSTAMP:20260419T221655Z
DTSTART;VALUE=DATE:20120611
SUMMARY:WIC 2012 Deadline
DESCRIPTION:The 2012 World Intelligence Congress (WIC 2012)
URL:http://www.wikicfp.com/cfp/servlet/event.showcfp?eventid=21091&copyow
 nerid=31972
UID:cfp240663-D@wikicfp.com
END:VEVENT
BEGIN:VEVENT
DTSTAMP:20260419T221655Z
DTSTART;VALUE=DATE:20120801
SUMMARY:WIC 2012 Notification Due
DESCRIPTION:The 2012 World Intelligence Congress (WIC 2012)
URL:http://www.wikicfp.com/cfp/servlet/event.showcfp?eventid=21091&copyow
 nerid=31972
UID:cfp240663-N@wikicfp.com
END:VEVENT
BEGIN:VEVENT
DTSTAMP:20260419T221655Z
DTSTART;VALUE=DATE:20120831
SUMMARY:WIC 2012 Final Version Due
DESCRIPTION:The 2012 World Intelligence Congress (WIC 2012)
URL:http://www.wikicfp.com/cfp/servlet/event.showcfp?eventid=21091&copyow
 nerid=31972
UID:cfp240663-N@wikicfp.com
END:VEVENT
BEGIN:VEVENT
DTSTAMP:20260419T221655Z
DTSTART;VALUE=DATE:20121204
DTEND;VALUE=DATE:20121208
SUMMARY:AUS-AI 2012
DESCRIPTION:The 25th Australasian Joint Conference on Artificial Intellig
 ence
URL:http://www.wikicfp.com/cfp/servlet/event.showcfp?eventid=21860&copyow
 nerid=31972
UID:cfp261428-E@wikicfp.com
END:VEVENT
BEGIN:VEVENT
DTSTAMP:20260419T221655Z
DTSTART;VALUE=DATE:20120713
SUMMARY:AUS-AI 2012 Deadline
DESCRIPTION:The 25th Australasian Joint Conference on Artificial Intellig
 ence
URL:http://www.wikicfp.com/cfp/servlet/event.showcfp?eventid=21860&copyow
 nerid=31972
UID:cfp261428-D@wikicfp.com
END:VEVENT
BEGIN:VEVENT
DTSTAMP:20260419T221655Z
DTSTART;VALUE=DATE:20120815
SUMMARY:AUS-AI 2012 Notification Due
DESCRIPTION:The 25th Australasian Joint Conference on Artificial Intellig
 ence
URL:http://www.wikicfp.com/cfp/servlet/event.showcfp?eventid=21860&copyow
 nerid=31972
UID:cfp261428-N@wikicfp.com
END:VEVENT
BEGIN:VEVENT
DTSTAMP:20260419T221655Z
DTSTART;VALUE=DATE:20120914
SUMMARY:AUS-AI 2012 Final Version Due
DESCRIPTION:The 25th Australasian Joint Conference on Artificial Intellig
 ence
URL:http://www.wikicfp.com/cfp/servlet/event.showcfp?eventid=21860&copyow
 nerid=31972
UID:cfp261428-N@wikicfp.com
END:VEVENT
BEGIN:VEVENT
DTSTAMP:20260419T221655Z
DTSTART;VALUE=DATE:20121104
DTEND;VALUE=DATE:20121107
SUMMARY:ACML 2012
DESCRIPTION:Asian Conference on Machine Learning 
URL:http://www.wikicfp.com/cfp/servlet/event.showcfp?eventid=20350&copyow
 nerid=31972
UID:cfp268788-E@wikicfp.com
END:VEVENT
BEGIN:VEVENT
DTSTAMP:20260419T221655Z
DTSTART;VALUE=DATE:20120806
SUMMARY:ACML 2012 Deadline
DESCRIPTION:Asian Conference on Machine Learning 
URL:http://www.wikicfp.com/cfp/servlet/event.showcfp?eventid=20350&copyow
 nerid=31972
UID:cfp268788-D@wikicfp.com
END:VEVENT
BEGIN:VEVENT
DTSTAMP:20260419T221655Z
DTSTART;VALUE=DATE:20120908
SUMMARY:ACML 2012 Notification Due
DESCRIPTION:Asian Conference on Machine Learning 
URL:http://www.wikicfp.com/cfp/servlet/event.showcfp?eventid=20350&copyow
 nerid=31972
UID:cfp268788-N@wikicfp.com
END:VEVENT
BEGIN:VEVENT
DTSTAMP:20260419T221655Z
DTSTART;VALUE=DATE:20120924
SUMMARY:ACML 2012 Final Version Due
DESCRIPTION:Asian Conference on Machine Learning 
URL:http://www.wikicfp.com/cfp/servlet/event.showcfp?eventid=20350&copyow
 nerid=31972
UID:cfp268788-N@wikicfp.com
END:VEVENT
BEGIN:VEVENT
DTSTAMP:20260419T221655Z
DTSTART;VALUE=DATE:20130506
DTEND;VALUE=DATE:20130511
SUMMARY:ICRA 2013
DESCRIPTION:The 2013 IEEE International Conference on Robotics and Automa
 tion 
URL:http://www.wikicfp.com/cfp/servlet/event.showcfp?eventid=18929&copyow
 nerid=31972
UID:cfp261429-E@wikicfp.com
END:VEVENT
BEGIN:VEVENT
DTSTAMP:20260419T221655Z
DTSTART;VALUE=DATE:20120917
SUMMARY:ICRA 2013 Deadline
DESCRIPTION:The 2013 IEEE International Conference on Robotics and Automa
 tion 
URL:http://www.wikicfp.com/cfp/servlet/event.showcfp?eventid=18929&copyow
 nerid=31972
UID:cfp261429-D@wikicfp.com
END:VEVENT
BEGIN:VEVENT
DTSTAMP:20260419T221655Z
DTSTART;VALUE=DATE:20130107
SUMMARY:ICRA 2013 Notification Due
DESCRIPTION:The 2013 IEEE International Conference on Robotics and Automa
 tion 
URL:http://www.wikicfp.com/cfp/servlet/event.showcfp?eventid=18929&copyow
 nerid=31972
UID:cfp261429-N@wikicfp.com
END:VEVENT
BEGIN:VEVENT
DTSTAMP:20260419T221655Z
DTSTART;VALUE=DATE:20130211
SUMMARY:ICRA 2013 Final Version Due
DESCRIPTION:The 2013 IEEE International Conference on Robotics and Automa
 tion 
URL:http://www.wikicfp.com/cfp/servlet/event.showcfp?eventid=18929&copyow
 nerid=31972
UID:cfp261429-N@wikicfp.com
END:VEVENT
BEGIN:VEVENT
DTSTAMP:20260419T221655Z
DTSTART;VALUE=DATE:20130101
DTEND;VALUE=DATE:20140101
SUMMARY:IJMS 2013
DESCRIPTION:International Journal of Modelling and Simulation
URL:http://www.wikicfp.com/cfp/servlet/event.showcfp?eventid=14556&copyow
 nerid=31972
UID:cfp227082-E@wikicfp.com
END:VEVENT
BEGIN:VEVENT
DTSTAMP:20260419T221655Z
DTSTART;VALUE=DATE:20131231
SUMMARY:IJMS 2013 Deadline
DESCRIPTION:International Journal of Modelling and Simulation
URL:http://www.wikicfp.com/cfp/servlet/event.showcfp?eventid=14556&copyow
 nerid=31972
UID:cfp227082-D@wikicfp.com
END:VEVENT
END:VCALENDAR
