BEGIN:VCALENDAR
PRODID:-//WikiCFP//CARLOSPLAZAMORILLO 1.0//EN
VERSION:2.0
CALSCALE:GREGORIAN
BEGIN:VEVENT
DTSTAMP:20260423T081913Z
DTSTART;VALUE=DATE:20120628
DTEND;VALUE=DATE:20120701
SUMMARY:NAS 2012
DESCRIPTION:7th IEEE International Conference on Networking\, Architectur
 e\, and Storage
URL:http://www.wikicfp.com/cfp/servlet/event.showcfp?eventid=17859&copyow
 nerid=31476
UID:cfp216925-E@wikicfp.com
END:VEVENT
BEGIN:VEVENT
DTSTAMP:20260423T081913Z
DTSTART;VALUE=DATE:20120316
SUMMARY:NAS 2012 Deadline
DESCRIPTION:7th IEEE International Conference on Networking\, Architectur
 e\, and Storage
URL:http://www.wikicfp.com/cfp/servlet/event.showcfp?eventid=17859&copyow
 nerid=31476
UID:cfp216925-D@wikicfp.com
END:VEVENT
BEGIN:VEVENT
DTSTAMP:20260423T081913Z
DTSTART;VALUE=DATE:20120415
SUMMARY:NAS 2012 Notification Due
DESCRIPTION:7th IEEE International Conference on Networking\, Architectur
 e\, and Storage
URL:http://www.wikicfp.com/cfp/servlet/event.showcfp?eventid=17859&copyow
 nerid=31476
UID:cfp216925-N@wikicfp.com
END:VEVENT
BEGIN:VEVENT
DTSTAMP:20260423T081913Z
DTSTART;VALUE=DATE:20120505
SUMMARY:NAS 2012 Final Version Due
DESCRIPTION:7th IEEE International Conference on Networking\, Architectur
 e\, and Storage
URL:http://www.wikicfp.com/cfp/servlet/event.showcfp?eventid=17859&copyow
 nerid=31476
UID:cfp216925-N@wikicfp.com
END:VEVENT
END:VCALENDAR
