BEGIN:VCALENDAR
PRODID:-//WikiCFP//pbt78 1.0//EN
VERSION:2.0
CALSCALE:GREGORIAN
BEGIN:VEVENT
DTSTAMP:20260423T044338Z
DTSTART;VALUE=DATE:20080824
DTEND;VALUE=DATE:20080828
SUMMARY:WebKDD 2008
DESCRIPTION:SIGKDD Workshop on Web Mining and Web Usage Analysis
URL:http://www.wikicfp.com/cfp/servlet/event.showcfp?eventid=4570&copyown
 erid=3142
UID:cfp26039-E@wikicfp.com
END:VEVENT
BEGIN:VEVENT
DTSTAMP:20260423T044338Z
DTSTART;VALUE=DATE:20080602
SUMMARY:WebKDD 2008 Deadline
DESCRIPTION:SIGKDD Workshop on Web Mining and Web Usage Analysis
URL:http://www.wikicfp.com/cfp/servlet/event.showcfp?eventid=4570&copyown
 erid=3142
UID:cfp26039-D@wikicfp.com
END:VEVENT
BEGIN:VEVENT
DTSTAMP:20260423T044338Z
DTSTART;VALUE=DATE:20080630
SUMMARY:WebKDD 2008 Notification Due
DESCRIPTION:SIGKDD Workshop on Web Mining and Web Usage Analysis
URL:http://www.wikicfp.com/cfp/servlet/event.showcfp?eventid=4570&copyown
 erid=3142
UID:cfp26039-N@wikicfp.com
END:VEVENT
BEGIN:VEVENT
DTSTAMP:20260423T044338Z
DTSTART;VALUE=DATE:20080720
SUMMARY:WebKDD 2008 Final Version Due
DESCRIPTION:SIGKDD Workshop on Web Mining and Web Usage Analysis
URL:http://www.wikicfp.com/cfp/servlet/event.showcfp?eventid=4570&copyown
 erid=3142
UID:cfp26039-N@wikicfp.com
END:VEVENT
BEGIN:VEVENT
DTSTAMP:20260423T044338Z
DTSTART;VALUE=DATE:20090711
DTEND;VALUE=DATE:20090718
SUMMARY:IJCAI 2009
DESCRIPTION:TWENTY FIRST INTERNATIONAL JOINT CONFERENCE ON ARTIFICIAL INT
 ELLIGENCE
URL:http://www.wikicfp.com/cfp/servlet/event.showcfp?eventid=3554&copyown
 erid=3142
UID:cfp26044-E@wikicfp.com
END:VEVENT
BEGIN:VEVENT
DTSTAMP:20260423T044338Z
DTSTART;VALUE=DATE:20090107
SUMMARY:IJCAI 2009 Abstract Due
DESCRIPTION:TWENTY FIRST INTERNATIONAL JOINT CONFERENCE ON ARTIFICIAL INT
 ELLIGENCE
URL:http://www.wikicfp.com/cfp/servlet/event.showcfp?eventid=3554&copyown
 erid=3142
UID:cfp26044-A@wikicfp.com
END:VEVENT
BEGIN:VEVENT
DTSTAMP:20260423T044338Z
DTSTART;VALUE=DATE:20090112
SUMMARY:IJCAI 2009 Deadline
DESCRIPTION:TWENTY FIRST INTERNATIONAL JOINT CONFERENCE ON ARTIFICIAL INT
 ELLIGENCE
URL:http://www.wikicfp.com/cfp/servlet/event.showcfp?eventid=3554&copyown
 erid=3142
UID:cfp26044-D@wikicfp.com
END:VEVENT
BEGIN:VEVENT
DTSTAMP:20260423T044338Z
DTSTART;VALUE=DATE:20090317
SUMMARY:IJCAI 2009 Notification Due
DESCRIPTION:TWENTY FIRST INTERNATIONAL JOINT CONFERENCE ON ARTIFICIAL INT
 ELLIGENCE
URL:http://www.wikicfp.com/cfp/servlet/event.showcfp?eventid=3554&copyown
 erid=3142
UID:cfp26044-N@wikicfp.com
END:VEVENT
BEGIN:VEVENT
DTSTAMP:20260423T044338Z
DTSTART;VALUE=DATE:20090414
SUMMARY:IJCAI 2009 Final Version Due
DESCRIPTION:TWENTY FIRST INTERNATIONAL JOINT CONFERENCE ON ARTIFICIAL INT
 ELLIGENCE
URL:http://www.wikicfp.com/cfp/servlet/event.showcfp?eventid=3554&copyown
 erid=3142
UID:cfp26044-N@wikicfp.com
END:VEVENT
BEGIN:VEVENT
DTSTAMP:20260423T044338Z
DTSTART;VALUE=DATE:20090720
DTEND;VALUE=DATE:20090723
SUMMARY:ICDM 2009
DESCRIPTION:9th Industrial Conference on Data Mining
URL:http://www.wikicfp.com/cfp/servlet/event.showcfp?eventid=3701&copyown
 erid=3142
UID:cfp26045-E@wikicfp.com
END:VEVENT
BEGIN:VEVENT
DTSTAMP:20260423T044338Z
DTSTART;VALUE=DATE:20090112
SUMMARY:ICDM 2009 Deadline
DESCRIPTION:9th Industrial Conference on Data Mining
URL:http://www.wikicfp.com/cfp/servlet/event.showcfp?eventid=3701&copyown
 erid=3142
UID:cfp26045-D@wikicfp.com
END:VEVENT
BEGIN:VEVENT
DTSTAMP:20260423T044338Z
DTSTART;VALUE=DATE:20090324
SUMMARY:ICDM 2009 Notification Due
DESCRIPTION:9th Industrial Conference on Data Mining
URL:http://www.wikicfp.com/cfp/servlet/event.showcfp?eventid=3701&copyown
 erid=3142
UID:cfp26045-N@wikicfp.com
END:VEVENT
BEGIN:VEVENT
DTSTAMP:20260423T044338Z
DTSTART;VALUE=DATE:20090505
SUMMARY:ICDM 2009 Final Version Due
DESCRIPTION:9th Industrial Conference on Data Mining
URL:http://www.wikicfp.com/cfp/servlet/event.showcfp?eventid=3701&copyown
 erid=3142
UID:cfp26045-N@wikicfp.com
END:VEVENT
BEGIN:VEVENT
DTSTAMP:20260423T044338Z
DTSTART;VALUE=DATE:20090719
DTEND;VALUE=DATE:20090724
SUMMARY:SIGIR 2009
DESCRIPTION:Thirty second annual international ACM SIGIR conference on re
 search and development in Information Retrieval
URL:http://www.wikicfp.com/cfp/servlet/event.showcfp?eventid=1314&copyown
 erid=3142
UID:cfp26046-E@wikicfp.com
END:VEVENT
BEGIN:VEVENT
DTSTAMP:20260423T044338Z
DTSTART;VALUE=DATE:20090119
SUMMARY:SIGIR 2009 Abstract Due
DESCRIPTION:Thirty second annual international ACM SIGIR conference on re
 search and development in Information Retrieval
URL:http://www.wikicfp.com/cfp/servlet/event.showcfp?eventid=1314&copyown
 erid=3142
UID:cfp26046-A@wikicfp.com
END:VEVENT
BEGIN:VEVENT
DTSTAMP:20260423T044338Z
DTSTART;VALUE=DATE:20090126
SUMMARY:SIGIR 2009 Deadline
DESCRIPTION:Thirty second annual international ACM SIGIR conference on re
 search and development in Information Retrieval
URL:http://www.wikicfp.com/cfp/servlet/event.showcfp?eventid=1314&copyown
 erid=3142
UID:cfp26046-D@wikicfp.com
END:VEVENT
BEGIN:VEVENT
DTSTAMP:20260423T044338Z
DTSTART;VALUE=DATE:20090309
SUMMARY:SIGIR 2009 Notification Due
DESCRIPTION:Thirty second annual international ACM SIGIR conference on re
 search and development in Information Retrieval
URL:http://www.wikicfp.com/cfp/servlet/event.showcfp?eventid=1314&copyown
 erid=3142
UID:cfp26046-N@wikicfp.com
END:VEVENT
BEGIN:VEVENT
DTSTAMP:20260423T044338Z
DTSTART;VALUE=DATE:20090411
SUMMARY:SIGIR 2009 Final Version Due
DESCRIPTION:Thirty second annual international ACM SIGIR conference on re
 search and development in Information Retrieval
URL:http://www.wikicfp.com/cfp/servlet/event.showcfp?eventid=1314&copyown
 erid=3142
UID:cfp26046-N@wikicfp.com
END:VEVENT
BEGIN:VEVENT
DTSTAMP:20260423T044338Z
DTSTART;VALUE=DATE:20090628
DTEND;VALUE=DATE:20090702
SUMMARY:KDD 2009
DESCRIPTION:The 15th ACM SIGKDD International Conference on Knowledge Dis
 covery and Data Mining
URL:http://www.wikicfp.com/cfp/servlet/event.showcfp?eventid=3495&copyown
 erid=3142
UID:cfp26042-E@wikicfp.com
END:VEVENT
BEGIN:VEVENT
DTSTAMP:20260423T044338Z
DTSTART;VALUE=DATE:20090202
SUMMARY:KDD 2009 Abstract Due
DESCRIPTION:The 15th ACM SIGKDD International Conference on Knowledge Dis
 covery and Data Mining
URL:http://www.wikicfp.com/cfp/servlet/event.showcfp?eventid=3495&copyown
 erid=3142
UID:cfp26042-A@wikicfp.com
END:VEVENT
BEGIN:VEVENT
DTSTAMP:20260423T044338Z
DTSTART;VALUE=DATE:20090206
SUMMARY:KDD 2009 Deadline
DESCRIPTION:The 15th ACM SIGKDD International Conference on Knowledge Dis
 covery and Data Mining
URL:http://www.wikicfp.com/cfp/servlet/event.showcfp?eventid=3495&copyown
 erid=3142
UID:cfp26042-D@wikicfp.com
END:VEVENT
BEGIN:VEVENT
DTSTAMP:20260423T044338Z
DTSTART;VALUE=DATE:20090824
DTEND;VALUE=DATE:20090829
SUMMARY:VLDB 2009
DESCRIPTION:35th International Conference on Veay Large Data Bases
URL:http://www.wikicfp.com/cfp/servlet/event.showcfp?eventid=3737&copyown
 erid=3142
UID:cfp26041-E@wikicfp.com
END:VEVENT
BEGIN:VEVENT
DTSTAMP:20260423T044338Z
DTSTART;VALUE=DATE:20090313
SUMMARY:VLDB 2009 Abstract Due
DESCRIPTION:35th International Conference on Veay Large Data Bases
URL:http://www.wikicfp.com/cfp/servlet/event.showcfp?eventid=3737&copyown
 erid=3142
UID:cfp26041-A@wikicfp.com
END:VEVENT
BEGIN:VEVENT
DTSTAMP:20260423T044338Z
DTSTART;VALUE=DATE:20090320
SUMMARY:VLDB 2009 Deadline
DESCRIPTION:35th International Conference on Veay Large Data Bases
URL:http://www.wikicfp.com/cfp/servlet/event.showcfp?eventid=3737&copyown
 erid=3142
UID:cfp26041-D@wikicfp.com
END:VEVENT
BEGIN:VEVENT
DTSTAMP:20260423T044338Z
DTSTART;VALUE=DATE:20090529
SUMMARY:VLDB 2009 Notification Due
DESCRIPTION:35th International Conference on Veay Large Data Bases
URL:http://www.wikicfp.com/cfp/servlet/event.showcfp?eventid=3737&copyown
 erid=3142
UID:cfp26041-N@wikicfp.com
END:VEVENT
BEGIN:VEVENT
DTSTAMP:20260423T044338Z
DTSTART;VALUE=DATE:20090620
SUMMARY:VLDB 2009 Final Version Due
DESCRIPTION:35th International Conference on Veay Large Data Bases
URL:http://www.wikicfp.com/cfp/servlet/event.showcfp?eventid=3737&copyown
 erid=3142
UID:cfp26041-N@wikicfp.com
END:VEVENT
BEGIN:VEVENT
DTSTAMP:20260423T044338Z
DTSTART;VALUE=DATE:20091223
DTEND;VALUE=DATE:20091227
SUMMARY:IDEAL 2009
DESCRIPTION:10TH INTERNATIONAL CONFERENCE ON INTELLIGENT DATA ENGINEERING
  AND AUTOMATED LEARNING
URL:http://www.wikicfp.com/cfp/servlet/event.showcfp?eventid=4578&copyown
 erid=3142
UID:cfp26040-E@wikicfp.com
END:VEVENT
BEGIN:VEVENT
DTSTAMP:20260423T044338Z
DTSTART;VALUE=DATE:20090526
SUMMARY:IDEAL 2009 Deadline
DESCRIPTION:10TH INTERNATIONAL CONFERENCE ON INTELLIGENT DATA ENGINEERING
  AND AUTOMATED LEARNING
URL:http://www.wikicfp.com/cfp/servlet/event.showcfp?eventid=4578&copyown
 erid=3142
UID:cfp26040-D@wikicfp.com
END:VEVENT
BEGIN:VEVENT
DTSTAMP:20260423T044338Z
DTSTART;VALUE=DATE:20090623
SUMMARY:IDEAL 2009 Notification Due
DESCRIPTION:10TH INTERNATIONAL CONFERENCE ON INTELLIGENT DATA ENGINEERING
  AND AUTOMATED LEARNING
URL:http://www.wikicfp.com/cfp/servlet/event.showcfp?eventid=4578&copyown
 erid=3142
UID:cfp26040-N@wikicfp.com
END:VEVENT
BEGIN:VEVENT
DTSTAMP:20260423T044338Z
DTSTART;VALUE=DATE:20090701
SUMMARY:IDEAL 2009 Final Version Due
DESCRIPTION:10TH INTERNATIONAL CONFERENCE ON INTELLIGENT DATA ENGINEERING
  AND AUTOMATED LEARNING
URL:http://www.wikicfp.com/cfp/servlet/event.showcfp?eventid=4578&copyown
 erid=3142
UID:cfp26040-N@wikicfp.com
END:VEVENT
BEGIN:VEVENT
DTSTAMP:20260423T044338Z
DTSTART;VALUE=DATE:20091028
DTEND;VALUE=DATE:20091031
SUMMARY:ICDM 2009
DESCRIPTION:International Conference on Data Mining
URL:http://www.wikicfp.com/cfp/servlet/event.showcfp?eventid=3900&copyown
 erid=3142
UID:cfp26043-E@wikicfp.com
END:VEVENT
BEGIN:VEVENT
DTSTAMP:20260423T044338Z
DTSTART;VALUE=DATE:20090630
SUMMARY:ICDM 2009 Deadline
DESCRIPTION:International Conference on Data Mining
URL:http://www.wikicfp.com/cfp/servlet/event.showcfp?eventid=3900&copyown
 erid=3142
UID:cfp26043-D@wikicfp.com
END:VEVENT
BEGIN:VEVENT
DTSTAMP:20260423T044338Z
DTSTART;VALUE=DATE:20090731
SUMMARY:ICDM 2009 Notification Due
DESCRIPTION:International Conference on Data Mining
URL:http://www.wikicfp.com/cfp/servlet/event.showcfp?eventid=3900&copyown
 erid=3142
UID:cfp26043-N@wikicfp.com
END:VEVENT
BEGIN:VEVENT
DTSTAMP:20260423T044338Z
DTSTART;VALUE=DATE:20090831
SUMMARY:ICDM 2009 Final Version Due
DESCRIPTION:International Conference on Data Mining
URL:http://www.wikicfp.com/cfp/servlet/event.showcfp?eventid=3900&copyown
 erid=3142
UID:cfp26043-N@wikicfp.com
END:VEVENT
END:VCALENDAR
