BEGIN:VCALENDAR
PRODID:-//WikiCFP//bilalouvitch 1.0//EN
VERSION:2.0
CALSCALE:GREGORIAN
BEGIN:VEVENT
DTSTAMP:20260421T025936Z
DTSTART;VALUE=DATE:20120401
DTEND;VALUE=DATE:20120406
SUMMARY:ICDE 2012
DESCRIPTION:International Conference on Data Engineering
URL:http://www.wikicfp.com/cfp/servlet/event.showcfp?eventid=16366&copyow
 nerid=31361
UID:cfp216504-E@wikicfp.com
END:VEVENT
BEGIN:VEVENT
DTSTAMP:20260421T025936Z
DTSTART;VALUE=DATE:20110712
SUMMARY:ICDE 2012 Abstract Due
DESCRIPTION:International Conference on Data Engineering
URL:http://www.wikicfp.com/cfp/servlet/event.showcfp?eventid=16366&copyow
 nerid=31361
UID:cfp216504-A@wikicfp.com
END:VEVENT
BEGIN:VEVENT
DTSTAMP:20260421T025936Z
DTSTART;VALUE=DATE:20110719
SUMMARY:ICDE 2012 Deadline
DESCRIPTION:International Conference on Data Engineering
URL:http://www.wikicfp.com/cfp/servlet/event.showcfp?eventid=16366&copyow
 nerid=31361
UID:cfp216504-D@wikicfp.com
END:VEVENT
BEGIN:VEVENT
DTSTAMP:20260421T025936Z
DTSTART;VALUE=DATE:20110927
SUMMARY:ICDE 2012 Notification Due
DESCRIPTION:International Conference on Data Engineering
URL:http://www.wikicfp.com/cfp/servlet/event.showcfp?eventid=16366&copyow
 nerid=31361
UID:cfp216504-N@wikicfp.com
END:VEVENT
BEGIN:VEVENT
DTSTAMP:20260421T025936Z
DTSTART;VALUE=DATE:20111108
SUMMARY:ICDE 2012 Final Version Due
DESCRIPTION:International Conference on Data Engineering
URL:http://www.wikicfp.com/cfp/servlet/event.showcfp?eventid=16366&copyow
 nerid=31361
UID:cfp216504-N@wikicfp.com
END:VEVENT
BEGIN:VEVENT
DTSTAMP:20260421T025936Z
DTSTART;VALUE=DATE:20120529
DTEND;VALUE=DATE:20120602
SUMMARY:PAKDD 2012
DESCRIPTION:The 16th Pacific-Asia Conference on Knowledge Discovery and D
 ata Mining (PAKDD)
URL:http://www.wikicfp.com/cfp/servlet/event.showcfp?eventid=17003&copyow
 nerid=31361
UID:cfp216501-E@wikicfp.com
END:VEVENT
BEGIN:VEVENT
DTSTAMP:20260421T025936Z
DTSTART;VALUE=DATE:20110925
SUMMARY:PAKDD 2012 Abstract Due
DESCRIPTION:The 16th Pacific-Asia Conference on Knowledge Discovery and D
 ata Mining (PAKDD)
URL:http://www.wikicfp.com/cfp/servlet/event.showcfp?eventid=17003&copyow
 nerid=31361
UID:cfp216501-A@wikicfp.com
END:VEVENT
BEGIN:VEVENT
DTSTAMP:20260421T025936Z
DTSTART;VALUE=DATE:20111002
SUMMARY:PAKDD 2012 Deadline
DESCRIPTION:The 16th Pacific-Asia Conference on Knowledge Discovery and D
 ata Mining (PAKDD)
URL:http://www.wikicfp.com/cfp/servlet/event.showcfp?eventid=17003&copyow
 nerid=31361
UID:cfp216501-D@wikicfp.com
END:VEVENT
BEGIN:VEVENT
DTSTAMP:20260421T025936Z
DTSTART;VALUE=DATE:20111230
SUMMARY:PAKDD 2012 Notification Due
DESCRIPTION:The 16th Pacific-Asia Conference on Knowledge Discovery and D
 ata Mining (PAKDD)
URL:http://www.wikicfp.com/cfp/servlet/event.showcfp?eventid=17003&copyow
 nerid=31361
UID:cfp216501-N@wikicfp.com
END:VEVENT
BEGIN:VEVENT
DTSTAMP:20260421T025936Z
DTSTART;VALUE=DATE:20120122
SUMMARY:PAKDD 2012 Final Version Due
DESCRIPTION:The 16th Pacific-Asia Conference on Knowledge Discovery and D
 ata Mining (PAKDD)
URL:http://www.wikicfp.com/cfp/servlet/event.showcfp?eventid=17003&copyow
 nerid=31361
UID:cfp216501-N@wikicfp.com
END:VEVENT
BEGIN:VEVENT
DTSTAMP:20260421T025936Z
DTSTART;VALUE=DATE:20120229
DTEND;VALUE=DATE:20120306
SUMMARY:DBKDA 2012
DESCRIPTION:The Fourth International Conference on Advances in Databases\
 , Knowledge\, and Data Applications
URL:http://www.wikicfp.com/cfp/servlet/event.showcfp?eventid=17023&copyow
 nerid=31361
UID:cfp216503-E@wikicfp.com
END:VEVENT
BEGIN:VEVENT
DTSTAMP:20260421T025936Z
DTSTART;VALUE=DATE:20111005
SUMMARY:DBKDA 2012 Deadline
DESCRIPTION:The Fourth International Conference on Advances in Databases\
 , Knowledge\, and Data Applications
URL:http://www.wikicfp.com/cfp/servlet/event.showcfp?eventid=17023&copyow
 nerid=31361
UID:cfp216503-D@wikicfp.com
END:VEVENT
BEGIN:VEVENT
DTSTAMP:20260421T025936Z
DTSTART;VALUE=DATE:20111123
SUMMARY:DBKDA 2012 Notification Due
DESCRIPTION:The Fourth International Conference on Advances in Databases\
 , Knowledge\, and Data Applications
URL:http://www.wikicfp.com/cfp/servlet/event.showcfp?eventid=17023&copyow
 nerid=31361
UID:cfp216503-N@wikicfp.com
END:VEVENT
BEGIN:VEVENT
DTSTAMP:20260421T025936Z
DTSTART;VALUE=DATE:20111207
SUMMARY:DBKDA 2012 Final Version Due
DESCRIPTION:The Fourth International Conference on Advances in Databases\
 , Knowledge\, and Data Applications
URL:http://www.wikicfp.com/cfp/servlet/event.showcfp?eventid=17023&copyow
 nerid=31361
UID:cfp216503-N@wikicfp.com
END:VEVENT
BEGIN:VEVENT
DTSTAMP:20260421T025936Z
DTSTART;VALUE=DATE:20120131
DTEND;VALUE=DATE:20120204
SUMMARY:EGC 2012
DESCRIPTION:The 12th Francophone International Conference on Knowledge Di
 scovery and Management
URL:http://www.wikicfp.com/cfp/servlet/event.showcfp?eventid=17334&copyow
 nerid=31361
UID:cfp216263-E@wikicfp.com
END:VEVENT
BEGIN:VEVENT
DTSTAMP:20260421T025936Z
DTSTART;VALUE=DATE:20111007
SUMMARY:EGC 2012 Abstract Due
DESCRIPTION:The 12th Francophone International Conference on Knowledge Di
 scovery and Management
URL:http://www.wikicfp.com/cfp/servlet/event.showcfp?eventid=17334&copyow
 nerid=31361
UID:cfp216263-A@wikicfp.com
END:VEVENT
BEGIN:VEVENT
DTSTAMP:20260421T025936Z
DTSTART;VALUE=DATE:20111014
SUMMARY:EGC 2012 Deadline
DESCRIPTION:The 12th Francophone International Conference on Knowledge Di
 scovery and Management
URL:http://www.wikicfp.com/cfp/servlet/event.showcfp?eventid=17334&copyow
 nerid=31361
UID:cfp216263-D@wikicfp.com
END:VEVENT
BEGIN:VEVENT
DTSTAMP:20260421T025936Z
DTSTART;VALUE=DATE:20120520
DTEND;VALUE=DATE:20120526
SUMMARY:SIGMOD 2012
DESCRIPTION:2012 ACM SIGMOD International Conference on Management of Dat
 a
URL:http://www.wikicfp.com/cfp/servlet/event.showcfp?eventid=17246&copyow
 nerid=31361
UID:cfp216482-E@wikicfp.com
END:VEVENT
BEGIN:VEVENT
DTSTAMP:20260421T025936Z
DTSTART;VALUE=DATE:20111025
SUMMARY:SIGMOD 2012 Abstract Due
DESCRIPTION:2012 ACM SIGMOD International Conference on Management of Dat
 a
URL:http://www.wikicfp.com/cfp/servlet/event.showcfp?eventid=17246&copyow
 nerid=31361
UID:cfp216482-A@wikicfp.com
END:VEVENT
BEGIN:VEVENT
DTSTAMP:20260421T025936Z
DTSTART;VALUE=DATE:20111101
SUMMARY:SIGMOD 2012 Deadline
DESCRIPTION:2012 ACM SIGMOD International Conference on Management of Dat
 a
URL:http://www.wikicfp.com/cfp/servlet/event.showcfp?eventid=17246&copyow
 nerid=31361
UID:cfp216482-D@wikicfp.com
END:VEVENT
BEGIN:VEVENT
DTSTAMP:20260421T025936Z
DTSTART;VALUE=DATE:20120214
SUMMARY:SIGMOD 2012 Notification Due
DESCRIPTION:2012 ACM SIGMOD International Conference on Management of Dat
 a
URL:http://www.wikicfp.com/cfp/servlet/event.showcfp?eventid=17246&copyow
 nerid=31361
UID:cfp216482-N@wikicfp.com
END:VEVENT
BEGIN:VEVENT
DTSTAMP:20260421T025936Z
DTSTART;VALUE=DATE:20120415
DTEND;VALUE=DATE:20120416
SUMMARY:ITEMS 2012
DESCRIPTION:Information Technologies for the Maritime Sector
URL:http://www.wikicfp.com/cfp/servlet/event.showcfp?eventid=18860&copyow
 nerid=31361
UID:cfp216507-E@wikicfp.com
END:VEVENT
BEGIN:VEVENT
DTSTAMP:20260421T025936Z
DTSTART;VALUE=DATE:20111209
SUMMARY:ITEMS 2012 Deadline
DESCRIPTION:Information Technologies for the Maritime Sector
URL:http://www.wikicfp.com/cfp/servlet/event.showcfp?eventid=18860&copyow
 nerid=31361
UID:cfp216507-D@wikicfp.com
END:VEVENT
BEGIN:VEVENT
DTSTAMP:20260421T025936Z
DTSTART;VALUE=DATE:20120109
SUMMARY:ITEMS 2012 Notification Due
DESCRIPTION:Information Technologies for the Maritime Sector
URL:http://www.wikicfp.com/cfp/servlet/event.showcfp?eventid=18860&copyow
 nerid=31361
UID:cfp216507-N@wikicfp.com
END:VEVENT
BEGIN:VEVENT
DTSTAMP:20260421T025936Z
DTSTART;VALUE=DATE:20120115
SUMMARY:ITEMS 2012 Final Version Due
DESCRIPTION:Information Technologies for the Maritime Sector
URL:http://www.wikicfp.com/cfp/servlet/event.showcfp?eventid=18860&copyow
 nerid=31361
UID:cfp216507-N@wikicfp.com
END:VEVENT
BEGIN:VEVENT
DTSTAMP:20260421T025936Z
DTSTART;VALUE=DATE:20120625
DTEND;VALUE=DATE:20120628
SUMMARY:SSDBM 2012
DESCRIPTION:24th International Conference on SCIENTIFIC and Statistical D
 atabase Management
URL:http://www.wikicfp.com/cfp/servlet/event.showcfp?eventid=18636&copyow
 nerid=31361
UID:cfp216505-E@wikicfp.com
END:VEVENT
BEGIN:VEVENT
DTSTAMP:20260421T025936Z
DTSTART;VALUE=DATE:20120113
SUMMARY:SSDBM 2012 Abstract Due
DESCRIPTION:24th International Conference on SCIENTIFIC and Statistical D
 atabase Management
URL:http://www.wikicfp.com/cfp/servlet/event.showcfp?eventid=18636&copyow
 nerid=31361
UID:cfp216505-A@wikicfp.com
END:VEVENT
BEGIN:VEVENT
DTSTAMP:20260421T025936Z
DTSTART;VALUE=DATE:20120120
SUMMARY:SSDBM 2012 Deadline
DESCRIPTION:24th International Conference on SCIENTIFIC and Statistical D
 atabase Management
URL:http://www.wikicfp.com/cfp/servlet/event.showcfp?eventid=18636&copyow
 nerid=31361
UID:cfp216505-D@wikicfp.com
END:VEVENT
BEGIN:VEVENT
DTSTAMP:20260421T025936Z
DTSTART;VALUE=DATE:20120722
DTEND;VALUE=DATE:20120727
SUMMARY:AAAI 2012
DESCRIPTION:AAAI - Association of the Advancement of Artificial Intellige
 nce
URL:http://www.wikicfp.com/cfp/servlet/event.showcfp?eventid=18353&copyow
 nerid=31361
UID:cfp216511-E@wikicfp.com
END:VEVENT
BEGIN:VEVENT
DTSTAMP:20260421T025936Z
DTSTART;VALUE=DATE:20120124
SUMMARY:AAAI 2012 Deadline
DESCRIPTION:AAAI - Association of the Advancement of Artificial Intellige
 nce
URL:http://www.wikicfp.com/cfp/servlet/event.showcfp?eventid=18353&copyow
 nerid=31361
UID:cfp216511-D@wikicfp.com
END:VEVENT
BEGIN:VEVENT
DTSTAMP:20260421T025936Z
DTSTART;VALUE=DATE:20120328
SUMMARY:AAAI 2012 Notification Due
DESCRIPTION:AAAI - Association of the Advancement of Artificial Intellige
 nce
URL:http://www.wikicfp.com/cfp/servlet/event.showcfp?eventid=18353&copyow
 nerid=31361
UID:cfp216511-N@wikicfp.com
END:VEVENT
BEGIN:VEVENT
DTSTAMP:20260421T025936Z
DTSTART;VALUE=DATE:20120417
SUMMARY:AAAI 2012 Final Version Due
DESCRIPTION:AAAI - Association of the Advancement of Artificial Intellige
 nce
URL:http://www.wikicfp.com/cfp/servlet/event.showcfp?eventid=18353&copyow
 nerid=31361
UID:cfp216511-N@wikicfp.com
END:VEVENT
BEGIN:VEVENT
DTSTAMP:20260421T025936Z
DTSTART;VALUE=DATE:20120812
DTEND;VALUE=DATE:20120817
SUMMARY:KDD 2012
DESCRIPTION:18th ACM SIGKDD Knowledge Discovery and Data Mining 
URL:http://www.wikicfp.com/cfp/servlet/event.showcfp?eventid=18347&copyow
 nerid=31361
UID:cfp216480-E@wikicfp.com
END:VEVENT
BEGIN:VEVENT
DTSTAMP:20260421T025936Z
DTSTART;VALUE=DATE:20120210
SUMMARY:KDD 2012 Deadline
DESCRIPTION:18th ACM SIGKDD Knowledge Discovery and Data Mining 
URL:http://www.wikicfp.com/cfp/servlet/event.showcfp?eventid=18347&copyow
 nerid=31361
UID:cfp216480-D@wikicfp.com
END:VEVENT
BEGIN:VEVENT
DTSTAMP:20260421T025936Z
DTSTART;VALUE=DATE:20120504
SUMMARY:KDD 2012 Notification Due
DESCRIPTION:18th ACM SIGKDD Knowledge Discovery and Data Mining 
URL:http://www.wikicfp.com/cfp/servlet/event.showcfp?eventid=18347&copyow
 nerid=31361
UID:cfp216480-N@wikicfp.com
END:VEVENT
BEGIN:VEVENT
DTSTAMP:20260421T025936Z
DTSTART;VALUE=DATE:20120906
DTEND;VALUE=DATE:20120909
SUMMARY:IEEE IS 2012
DESCRIPTION:6th IEEE International Conference Intelligent Systems
URL:http://www.wikicfp.com/cfp/servlet/event.showcfp?eventid=17684&copyow
 nerid=31361
UID:cfp216502-E@wikicfp.com
END:VEVENT
BEGIN:VEVENT
DTSTAMP:20260421T025936Z
DTSTART;VALUE=DATE:20120219
SUMMARY:IEEE IS 2012 Deadline
DESCRIPTION:6th IEEE International Conference Intelligent Systems
URL:http://www.wikicfp.com/cfp/servlet/event.showcfp?eventid=17684&copyow
 nerid=31361
UID:cfp216502-D@wikicfp.com
END:VEVENT
BEGIN:VEVENT
DTSTAMP:20260421T025936Z
DTSTART;VALUE=DATE:20120315
SUMMARY:IEEE IS 2012 Notification Due
DESCRIPTION:6th IEEE International Conference Intelligent Systems
URL:http://www.wikicfp.com/cfp/servlet/event.showcfp?eventid=17684&copyow
 nerid=31361
UID:cfp216502-N@wikicfp.com
END:VEVENT
BEGIN:VEVENT
DTSTAMP:20260421T025936Z
DTSTART;VALUE=DATE:20120415
SUMMARY:IEEE IS 2012 Final Version Due
DESCRIPTION:6th IEEE International Conference Intelligent Systems
URL:http://www.wikicfp.com/cfp/servlet/event.showcfp?eventid=17684&copyow
 nerid=31361
UID:cfp216502-N@wikicfp.com
END:VEVENT
BEGIN:VEVENT
DTSTAMP:20260421T025936Z
DTSTART;VALUE=DATE:20120627
DTEND;VALUE=DATE:20120630
SUMMARY:ICML 2012
DESCRIPTION:29th International Conference on Machine Learning
URL:http://www.wikicfp.com/cfp/servlet/event.showcfp?eventid=16247&copyow
 nerid=31361
UID:cfp216524-E@wikicfp.com
END:VEVENT
BEGIN:VEVENT
DTSTAMP:20260421T025936Z
DTSTART;VALUE=DATE:20120224
SUMMARY:ICML 2012 Deadline
DESCRIPTION:29th International Conference on Machine Learning
URL:http://www.wikicfp.com/cfp/servlet/event.showcfp?eventid=16247&copyow
 nerid=31361
UID:cfp216524-D@wikicfp.com
END:VEVENT
BEGIN:VEVENT
DTSTAMP:20260421T025936Z
DTSTART;VALUE=DATE:20120430
SUMMARY:ICML 2012 Notification Due
DESCRIPTION:29th International Conference on Machine Learning
URL:http://www.wikicfp.com/cfp/servlet/event.showcfp?eventid=16247&copyow
 nerid=31361
UID:cfp216524-N@wikicfp.com
END:VEVENT
BEGIN:VEVENT
DTSTAMP:20260421T025936Z
DTSTART;VALUE=DATE:20121210
DTEND;VALUE=DATE:20121214
SUMMARY:ICDM 2012
DESCRIPTION:IEEE International Conference on Data Mining
URL:http://www.wikicfp.com/cfp/servlet/event.showcfp?eventid=18103&copyow
 nerid=31361
UID:cfp216481-E@wikicfp.com
END:VEVENT
BEGIN:VEVENT
DTSTAMP:20260421T025936Z
DTSTART;VALUE=DATE:20120618
SUMMARY:ICDM 2012 Deadline
DESCRIPTION:IEEE International Conference on Data Mining
URL:http://www.wikicfp.com/cfp/servlet/event.showcfp?eventid=18103&copyow
 nerid=31361
UID:cfp216481-D@wikicfp.com
END:VEVENT
BEGIN:VEVENT
DTSTAMP:20260421T025936Z
DTSTART;VALUE=DATE:20120918
SUMMARY:ICDM 2012 Notification Due
DESCRIPTION:IEEE International Conference on Data Mining
URL:http://www.wikicfp.com/cfp/servlet/event.showcfp?eventid=18103&copyow
 nerid=31361
UID:cfp216481-N@wikicfp.com
END:VEVENT
BEGIN:VEVENT
DTSTAMP:20260421T025936Z
DTSTART;VALUE=DATE:20121015
SUMMARY:ICDM 2012 Final Version Due
DESCRIPTION:IEEE International Conference on Data Mining
URL:http://www.wikicfp.com/cfp/servlet/event.showcfp?eventid=18103&copyow
 nerid=31361
UID:cfp216481-N@wikicfp.com
END:VEVENT
END:VCALENDAR
