BEGIN:VCALENDAR
PRODID:-//WikiCFP//tg4love 1.0//EN
VERSION:2.0
CALSCALE:GREGORIAN
BEGIN:VEVENT
DTSTAMP:20260419T153152Z
DTSTART;VALUE=DATE:20111110
SUMMARY:IJCSIT 2011 Deadline
DESCRIPTION:International Journal of Computer Science & Information Techn
 ology (IJCSIT)
URL:http://www.wikicfp.com/cfp/servlet/event.showcfp?eventid=18703&copyow
 nerid=31129
UID:cfp213748-D@wikicfp.com
END:VEVENT
BEGIN:VEVENT
DTSTAMP:20260419T153152Z
DTSTART;VALUE=DATE:20111118
SUMMARY:IJCSIT 2011 Notification Due
DESCRIPTION:International Journal of Computer Science & Information Techn
 ology (IJCSIT)
URL:http://www.wikicfp.com/cfp/servlet/event.showcfp?eventid=18703&copyow
 nerid=31129
UID:cfp213748-N@wikicfp.com
END:VEVENT
BEGIN:VEVENT
DTSTAMP:20260419T153152Z
DTSTART;VALUE=DATE:20111123
SUMMARY:IJCSIT 2011 Final Version Due
DESCRIPTION:International Journal of Computer Science & Information Techn
 ology (IJCSIT)
URL:http://www.wikicfp.com/cfp/servlet/event.showcfp?eventid=18703&copyow
 nerid=31129
UID:cfp213748-N@wikicfp.com
END:VEVENT
BEGIN:VEVENT
DTSTAMP:20260419T153152Z
DTSTART;VALUE=DATE:20120514
DTEND;VALUE=DATE:20120518
SUMMARY:GSDI  2012
DESCRIPTION:Global Geospatial Conference 2012
URL:http://www.wikicfp.com/cfp/servlet/event.showcfp?eventid=18910&copyow
 nerid=31129
UID:cfp213753-E@wikicfp.com
END:VEVENT
BEGIN:VEVENT
DTSTAMP:20260419T153152Z
DTSTART;VALUE=DATE:20111115
SUMMARY:GSDI  2012 Deadline
DESCRIPTION:Global Geospatial Conference 2012
URL:http://www.wikicfp.com/cfp/servlet/event.showcfp?eventid=18910&copyow
 nerid=31129
UID:cfp213753-D@wikicfp.com
END:VEVENT
BEGIN:VEVENT
DTSTAMP:20260419T153152Z
DTSTART;VALUE=DATE:20120110
SUMMARY:GSDI  2012 Notification Due
DESCRIPTION:Global Geospatial Conference 2012
URL:http://www.wikicfp.com/cfp/servlet/event.showcfp?eventid=18910&copyow
 nerid=31129
UID:cfp213753-N@wikicfp.com
END:VEVENT
BEGIN:VEVENT
DTSTAMP:20260419T153152Z
DTSTART;VALUE=DATE:20120208
SUMMARY:GSDI  2012 Final Version Due
DESCRIPTION:Global Geospatial Conference 2012
URL:http://www.wikicfp.com/cfp/servlet/event.showcfp?eventid=18910&copyow
 nerid=31129
UID:cfp213753-N@wikicfp.com
END:VEVENT
BEGIN:VEVENT
DTSTAMP:20260419T153152Z
DTSTART;VALUE=DATE:20120212
DTEND;VALUE=DATE:20120213
SUMMARY:WSCD 2012
DESCRIPTION:Second Workshop on Web Search Click Data
URL:http://www.wikicfp.com/cfp/servlet/event.showcfp?eventid=18912&copyow
 nerid=31129
UID:cfp213755-E@wikicfp.com
END:VEVENT
BEGIN:VEVENT
DTSTAMP:20260419T153152Z
DTSTART;VALUE=DATE:20111205
SUMMARY:WSCD 2012 Deadline
DESCRIPTION:Second Workshop on Web Search Click Data
URL:http://www.wikicfp.com/cfp/servlet/event.showcfp?eventid=18912&copyow
 nerid=31129
UID:cfp213755-D@wikicfp.com
END:VEVENT
BEGIN:VEVENT
DTSTAMP:20260419T153152Z
DTSTART;VALUE=DATE:20120330
DTEND;VALUE=DATE:20120331
SUMMARY:LWDM 2012
DESCRIPTION:SECOND INTERNATIONAL WORKSHOP ON LINKED WEB DATA MANAGEMENT (
 LWDM 2012)
URL:http://www.wikicfp.com/cfp/servlet/event.showcfp?eventid=18922&copyow
 nerid=31129
UID:cfp213760-E@wikicfp.com
END:VEVENT
BEGIN:VEVENT
DTSTAMP:20260419T153152Z
DTSTART;VALUE=DATE:20111214
SUMMARY:LWDM 2012 Deadline
DESCRIPTION:SECOND INTERNATIONAL WORKSHOP ON LINKED WEB DATA MANAGEMENT (
 LWDM 2012)
URL:http://www.wikicfp.com/cfp/servlet/event.showcfp?eventid=18922&copyow
 nerid=31129
UID:cfp213760-D@wikicfp.com
END:VEVENT
BEGIN:VEVENT
DTSTAMP:20260419T153152Z
DTSTART;VALUE=DATE:20120123
SUMMARY:LWDM 2012 Notification Due
DESCRIPTION:SECOND INTERNATIONAL WORKSHOP ON LINKED WEB DATA MANAGEMENT (
 LWDM 2012)
URL:http://www.wikicfp.com/cfp/servlet/event.showcfp?eventid=18922&copyow
 nerid=31129
UID:cfp213760-N@wikicfp.com
END:VEVENT
BEGIN:VEVENT
DTSTAMP:20260419T153152Z
DTSTART;VALUE=DATE:20120202
SUMMARY:LWDM 2012 Final Version Due
DESCRIPTION:SECOND INTERNATIONAL WORKSHOP ON LINKED WEB DATA MANAGEMENT (
 LWDM 2012)
URL:http://www.wikicfp.com/cfp/servlet/event.showcfp?eventid=18922&copyow
 nerid=31129
UID:cfp213760-N@wikicfp.com
END:VEVENT
BEGIN:VEVENT
DTSTAMP:20260419T153152Z
DTSTART;VALUE=DATE:20120304
DTEND;VALUE=DATE:20120307
SUMMARY:NVMW 2012
DESCRIPTION:The 3rd Annual Non-Volatile Memories Workshop
URL:http://www.wikicfp.com/cfp/servlet/event.showcfp?eventid=18902&copyow
 nerid=31129
UID:cfp213751-E@wikicfp.com
END:VEVENT
BEGIN:VEVENT
DTSTAMP:20260419T153152Z
DTSTART;VALUE=DATE:20111216
SUMMARY:NVMW 2012 Deadline
DESCRIPTION:The 3rd Annual Non-Volatile Memories Workshop
URL:http://www.wikicfp.com/cfp/servlet/event.showcfp?eventid=18902&copyow
 nerid=31129
UID:cfp213751-D@wikicfp.com
END:VEVENT
BEGIN:VEVENT
DTSTAMP:20260419T153152Z
DTSTART;VALUE=DATE:20120521
DTEND;VALUE=DATE:20120526
SUMMARY:HIPS 2012
DESCRIPTION:17th International Workshop on High-Level Parallel Programmin
 g Models and Supportive Environments
URL:http://www.wikicfp.com/cfp/servlet/event.showcfp?eventid=18921&copyow
 nerid=31129
UID:cfp213759-E@wikicfp.com
END:VEVENT
BEGIN:VEVENT
DTSTAMP:20260419T153152Z
DTSTART;VALUE=DATE:20111223
SUMMARY:HIPS 2012 Deadline
DESCRIPTION:17th International Workshop on High-Level Parallel Programmin
 g Models and Supportive Environments
URL:http://www.wikicfp.com/cfp/servlet/event.showcfp?eventid=18921&copyow
 nerid=31129
UID:cfp213759-D@wikicfp.com
END:VEVENT
BEGIN:VEVENT
DTSTAMP:20260419T153152Z
DTSTART;VALUE=DATE:20120130
SUMMARY:HIPS 2012 Notification Due
DESCRIPTION:17th International Workshop on High-Level Parallel Programmin
 g Models and Supportive Environments
URL:http://www.wikicfp.com/cfp/servlet/event.showcfp?eventid=18921&copyow
 nerid=31129
UID:cfp213759-N@wikicfp.com
END:VEVENT
BEGIN:VEVENT
DTSTAMP:20260419T153152Z
DTSTART;VALUE=DATE:20120221
SUMMARY:HIPS 2012 Final Version Due
DESCRIPTION:17th International Workshop on High-Level Parallel Programmin
 g Models and Supportive Environments
URL:http://www.wikicfp.com/cfp/servlet/event.showcfp?eventid=18921&copyow
 nerid=31129
UID:cfp213759-N@wikicfp.com
END:VEVENT
BEGIN:VEVENT
DTSTAMP:20260419T153152Z
DTSTART;VALUE=DATE:20120326
DTEND;VALUE=DATE:20120330
SUMMARY:HPC 2012
DESCRIPTION:20th High Performance Computing Symposium
URL:http://www.wikicfp.com/cfp/servlet/event.showcfp?eventid=18915&copyow
 nerid=31129
UID:cfp213756-E@wikicfp.com
END:VEVENT
BEGIN:VEVENT
DTSTAMP:20260419T153152Z
DTSTART;VALUE=DATE:20120107
SUMMARY:HPC 2012 Deadline
DESCRIPTION:20th High Performance Computing Symposium
URL:http://www.wikicfp.com/cfp/servlet/event.showcfp?eventid=18915&copyow
 nerid=31129
UID:cfp213756-D@wikicfp.com
END:VEVENT
BEGIN:VEVENT
DTSTAMP:20260419T153152Z
DTSTART;VALUE=DATE:20120127
SUMMARY:HPC 2012 Notification Due
DESCRIPTION:20th High Performance Computing Symposium
URL:http://www.wikicfp.com/cfp/servlet/event.showcfp?eventid=18915&copyow
 nerid=31129
UID:cfp213756-N@wikicfp.com
END:VEVENT
BEGIN:VEVENT
DTSTAMP:20260419T153152Z
DTSTART;VALUE=DATE:20120210
SUMMARY:HPC 2012 Final Version Due
DESCRIPTION:20th High Performance Computing Symposium
URL:http://www.wikicfp.com/cfp/servlet/event.showcfp?eventid=18915&copyow
 nerid=31129
UID:cfp213756-N@wikicfp.com
END:VEVENT
BEGIN:VEVENT
DTSTAMP:20260419T153152Z
DTSTART;VALUE=DATE:20120604
DTEND;VALUE=DATE:20120607
SUMMARY:COMS 2012
DESCRIPTION:The Third Workshop on Computational Optimization\, Modelling 
 and Simulation (COMS 2012)
URL:http://www.wikicfp.com/cfp/servlet/event.showcfp?eventid=18916&copyow
 nerid=31129
UID:cfp213757-E@wikicfp.com
END:VEVENT
BEGIN:VEVENT
DTSTAMP:20260419T153152Z
DTSTART;VALUE=DATE:20120109
SUMMARY:COMS 2012 Deadline
DESCRIPTION:The Third Workshop on Computational Optimization\, Modelling 
 and Simulation (COMS 2012)
URL:http://www.wikicfp.com/cfp/servlet/event.showcfp?eventid=18916&copyow
 nerid=31129
UID:cfp213757-D@wikicfp.com
END:VEVENT
BEGIN:VEVENT
DTSTAMP:20260419T153152Z
DTSTART;VALUE=DATE:20120209
SUMMARY:COMS 2012 Notification Due
DESCRIPTION:The Third Workshop on Computational Optimization\, Modelling 
 and Simulation (COMS 2012)
URL:http://www.wikicfp.com/cfp/servlet/event.showcfp?eventid=18916&copyow
 nerid=31129
UID:cfp213757-N@wikicfp.com
END:VEVENT
BEGIN:VEVENT
DTSTAMP:20260419T153152Z
DTSTART;VALUE=DATE:20120301
SUMMARY:COMS 2012 Final Version Due
DESCRIPTION:The Third Workshop on Computational Optimization\, Modelling 
 and Simulation (COMS 2012)
URL:http://www.wikicfp.com/cfp/servlet/event.showcfp?eventid=18916&copyow
 nerid=31129
UID:cfp213757-N@wikicfp.com
END:VEVENT
BEGIN:VEVENT
DTSTAMP:20260419T153152Z
DTSTART;VALUE=DATE:20120323
DTEND;VALUE=DATE:20120324
SUMMARY:AR 2012
DESCRIPTION:The Global Economic Crisis and Canada: Perception Versus Real
 ity  
URL:http://www.wikicfp.com/cfp/servlet/event.showcfp?eventid=18900&copyow
 nerid=31129
UID:cfp213750-E@wikicfp.com
END:VEVENT
BEGIN:VEVENT
DTSTAMP:20260419T153152Z
DTSTART;VALUE=DATE:20120115
SUMMARY:AR 2012 Deadline
DESCRIPTION:The Global Economic Crisis and Canada: Perception Versus Real
 ity  
URL:http://www.wikicfp.com/cfp/servlet/event.showcfp?eventid=18900&copyow
 nerid=31129
UID:cfp213750-D@wikicfp.com
END:VEVENT
BEGIN:VEVENT
DTSTAMP:20260419T153152Z
DTSTART;VALUE=DATE:20120529
DTEND;VALUE=DATE:20120601
SUMMARY:FSG & Rotorcraft 2012
DESCRIPTION:Rotary Wing Mission Training Rehearsal & The Role of Flight S
 imulation
URL:http://www.wikicfp.com/cfp/servlet/event.showcfp?eventid=18899&copyow
 nerid=31129
UID:cfp213749-E@wikicfp.com
END:VEVENT
BEGIN:VEVENT
DTSTAMP:20260419T153152Z
DTSTART;VALUE=DATE:20120116
SUMMARY:FSG & Rotorcraft 2012 Deadline
DESCRIPTION:Rotary Wing Mission Training Rehearsal & The Role of Flight S
 imulation
URL:http://www.wikicfp.com/cfp/servlet/event.showcfp?eventid=18899&copyow
 nerid=31129
UID:cfp213749-D@wikicfp.com
END:VEVENT
BEGIN:VEVENT
DTSTAMP:20260419T153152Z
DTSTART;VALUE=DATE:20120130
SUMMARY:FSG & Rotorcraft 2012 Notification Due
DESCRIPTION:Rotary Wing Mission Training Rehearsal & The Role of Flight S
 imulation
URL:http://www.wikicfp.com/cfp/servlet/event.showcfp?eventid=18899&copyow
 nerid=31129
UID:cfp213749-N@wikicfp.com
END:VEVENT
BEGIN:VEVENT
DTSTAMP:20260419T153152Z
DTSTART;VALUE=DATE:20120401
SUMMARY:FSG & Rotorcraft 2012 Final Version Due
DESCRIPTION:Rotary Wing Mission Training Rehearsal & The Role of Flight S
 imulation
URL:http://www.wikicfp.com/cfp/servlet/event.showcfp?eventid=18899&copyow
 nerid=31129
UID:cfp213749-N@wikicfp.com
END:VEVENT
BEGIN:VEVENT
DTSTAMP:20260419T153152Z
DTSTART;VALUE=DATE:20120806
DTEND;VALUE=DATE:20120809
SUMMARY:NAFIPS 2012
DESCRIPTION:North American Fuzzy Information Processing society
URL:http://www.wikicfp.com/cfp/servlet/event.showcfp?eventid=18917&copyow
 nerid=31129
UID:cfp213758-E@wikicfp.com
END:VEVENT
BEGIN:VEVENT
DTSTAMP:20260419T153152Z
DTSTART;VALUE=DATE:20120226
SUMMARY:NAFIPS 2012 Deadline
DESCRIPTION:North American Fuzzy Information Processing society
URL:http://www.wikicfp.com/cfp/servlet/event.showcfp?eventid=18917&copyow
 nerid=31129
UID:cfp213758-D@wikicfp.com
END:VEVENT
BEGIN:VEVENT
DTSTAMP:20260419T153152Z
DTSTART;VALUE=DATE:20120411
SUMMARY:NAFIPS 2012 Notification Due
DESCRIPTION:North American Fuzzy Information Processing society
URL:http://www.wikicfp.com/cfp/servlet/event.showcfp?eventid=18917&copyow
 nerid=31129
UID:cfp213758-N@wikicfp.com
END:VEVENT
BEGIN:VEVENT
DTSTAMP:20260419T153152Z
DTSTART;VALUE=DATE:20120515
SUMMARY:NAFIPS 2012 Final Version Due
DESCRIPTION:North American Fuzzy Information Processing society
URL:http://www.wikicfp.com/cfp/servlet/event.showcfp?eventid=18917&copyow
 nerid=31129
UID:cfp213758-N@wikicfp.com
END:VEVENT
BEGIN:VEVENT
DTSTAMP:20260419T153152Z
DTSTART;VALUE=DATE:20120710
DTEND;VALUE=DATE:20120713
SUMMARY:INC 2012
DESCRIPTION:International Network Conference 2012
URL:http://www.wikicfp.com/cfp/servlet/event.showcfp?eventid=18909&copyow
 nerid=31129
UID:cfp213752-E@wikicfp.com
END:VEVENT
BEGIN:VEVENT
DTSTAMP:20260419T153152Z
DTSTART;VALUE=DATE:20120227
SUMMARY:INC 2012 Deadline
DESCRIPTION:International Network Conference 2012
URL:http://www.wikicfp.com/cfp/servlet/event.showcfp?eventid=18909&copyow
 nerid=31129
UID:cfp213752-D@wikicfp.com
END:VEVENT
BEGIN:VEVENT
DTSTAMP:20260419T153152Z
DTSTART;VALUE=DATE:20120302
SUMMARY:INC 2012 Notification Due
DESCRIPTION:International Network Conference 2012
URL:http://www.wikicfp.com/cfp/servlet/event.showcfp?eventid=18909&copyow
 nerid=31129
UID:cfp213752-N@wikicfp.com
END:VEVENT
BEGIN:VEVENT
DTSTAMP:20260419T153152Z
DTSTART;VALUE=DATE:20120330
SUMMARY:INC 2012 Final Version Due
DESCRIPTION:International Network Conference 2012
URL:http://www.wikicfp.com/cfp/servlet/event.showcfp?eventid=18909&copyow
 nerid=31129
UID:cfp213752-N@wikicfp.com
END:VEVENT
BEGIN:VEVENT
DTSTAMP:20260419T153152Z
DTSTART;VALUE=DATE:20120821
DTEND;VALUE=DATE:20120825
SUMMARY:IIiX 2012
DESCRIPTION:Fourth Information Interaction in Context Symposium
URL:http://www.wikicfp.com/cfp/servlet/event.showcfp?eventid=18911&copyow
 nerid=31129
UID:cfp213754-E@wikicfp.com
END:VEVENT
BEGIN:VEVENT
DTSTAMP:20260419T153152Z
DTSTART;VALUE=DATE:20120402
SUMMARY:IIiX 2012 Deadline
DESCRIPTION:Fourth Information Interaction in Context Symposium
URL:http://www.wikicfp.com/cfp/servlet/event.showcfp?eventid=18911&copyow
 nerid=31129
UID:cfp213754-D@wikicfp.com
END:VEVENT
END:VCALENDAR
