BEGIN:VCALENDAR
PRODID:-//WikiCFP//zasamak 1.0//EN
VERSION:2.0
CALSCALE:GREGORIAN
BEGIN:VEVENT
DTSTAMP:20260425T022453Z
DTSTART;VALUE=DATE:20111003
DTEND;VALUE=DATE:20111006
SUMMARY:IICE 2011
DESCRIPTION:Ireland International Conference on Education
URL:http://www.wikicfp.com/cfp/servlet/event.showcfp?eventid=12588&copyow
 nerid=30798
UID:cfp211716-E@wikicfp.com
END:VEVENT
BEGIN:VEVENT
DTSTAMP:20260425T022453Z
DTSTART;VALUE=DATE:20110615
SUMMARY:IICE 2011 Abstract Due
DESCRIPTION:Ireland International Conference on Education
URL:http://www.wikicfp.com/cfp/servlet/event.showcfp?eventid=12588&copyow
 nerid=30798
UID:cfp211716-A@wikicfp.com
END:VEVENT
BEGIN:VEVENT
DTSTAMP:20260425T022453Z
DTSTART;VALUE=DATE:20110630
SUMMARY:IICE 2011 Deadline
DESCRIPTION:Ireland International Conference on Education
URL:http://www.wikicfp.com/cfp/servlet/event.showcfp?eventid=12588&copyow
 nerid=30798
UID:cfp211716-D@wikicfp.com
END:VEVENT
BEGIN:VEVENT
DTSTAMP:20260425T022453Z
DTSTART;VALUE=DATE:20110625
SUMMARY:IICE 2011 Notification Due
DESCRIPTION:Ireland International Conference on Education
URL:http://www.wikicfp.com/cfp/servlet/event.showcfp?eventid=12588&copyow
 nerid=30798
UID:cfp211716-N@wikicfp.com
END:VEVENT
BEGIN:VEVENT
DTSTAMP:20260425T022453Z
DTSTART;VALUE=DATE:20110710
SUMMARY:IICE 2011 Final Version Due
DESCRIPTION:Ireland International Conference on Education
URL:http://www.wikicfp.com/cfp/servlet/event.showcfp?eventid=12588&copyow
 nerid=30798
UID:cfp211716-N@wikicfp.com
END:VEVENT
BEGIN:VEVENT
DTSTAMP:20260425T022453Z
DTSTART;VALUE=DATE:20110325
DTEND;VALUE=DATE:20110801
SUMMARY:RUSC - MATHEMATICAL LEARNING 2011
DESCRIPTION:RUSC - CALL FOR PAPERS: MONOGRAPH ISSUE ON MATHEMATICAL E-LEA
 RNING
URL:http://www.wikicfp.com/cfp/servlet/event.showcfp?eventid=15668&copyow
 nerid=30798
UID:cfp211717-E@wikicfp.com
END:VEVENT
BEGIN:VEVENT
DTSTAMP:20260425T022453Z
DTSTART;VALUE=DATE:20110731
SUMMARY:RUSC - MATHEMATICAL LEARNING 2011 Deadline
DESCRIPTION:RUSC - CALL FOR PAPERS: MONOGRAPH ISSUE ON MATHEMATICAL E-LEA
 RNING
URL:http://www.wikicfp.com/cfp/servlet/event.showcfp?eventid=15668&copyow
 nerid=30798
UID:cfp211717-D@wikicfp.com
END:VEVENT
BEGIN:VEVENT
DTSTAMP:20260425T022453Z
DTSTART;VALUE=DATE:20110731
SUMMARY:RUSC - MATHEMATICAL LEARNING 2011 Notification Due
DESCRIPTION:RUSC - CALL FOR PAPERS: MONOGRAPH ISSUE ON MATHEMATICAL E-LEA
 RNING
URL:http://www.wikicfp.com/cfp/servlet/event.showcfp?eventid=15668&copyow
 nerid=30798
UID:cfp211717-N@wikicfp.com
END:VEVENT
BEGIN:VEVENT
DTSTAMP:20260425T022453Z
DTSTART;VALUE=DATE:20110731
SUMMARY:RUSC - MATHEMATICAL LEARNING 2011 Final Version Due
DESCRIPTION:RUSC - CALL FOR PAPERS: MONOGRAPH ISSUE ON MATHEMATICAL E-LEA
 RNING
URL:http://www.wikicfp.com/cfp/servlet/event.showcfp?eventid=15668&copyow
 nerid=30798
UID:cfp211717-N@wikicfp.com
END:VEVENT
BEGIN:VEVENT
DTSTAMP:20260425T022453Z
DTSTART;VALUE=DATE:20120417
DTEND;VALUE=DATE:20120421
SUMMARY:EDUCON 2012
DESCRIPTION:IEEE Global Engineering Education Conference
URL:http://www.wikicfp.com/cfp/servlet/event.showcfp?eventid=18484&copyow
 nerid=30798
UID:cfp211714-E@wikicfp.com
END:VEVENT
BEGIN:VEVENT
DTSTAMP:20260425T022453Z
DTSTART;VALUE=DATE:20110930
SUMMARY:EDUCON 2012 Deadline
DESCRIPTION:IEEE Global Engineering Education Conference
URL:http://www.wikicfp.com/cfp/servlet/event.showcfp?eventid=18484&copyow
 nerid=30798
UID:cfp211714-D@wikicfp.com
END:VEVENT
BEGIN:VEVENT
DTSTAMP:20260425T022453Z
DTSTART;VALUE=DATE:20111019
SUMMARY:EDUCON 2012 Notification Due
DESCRIPTION:IEEE Global Engineering Education Conference
URL:http://www.wikicfp.com/cfp/servlet/event.showcfp?eventid=18484&copyow
 nerid=30798
UID:cfp211714-N@wikicfp.com
END:VEVENT
BEGIN:VEVENT
DTSTAMP:20260425T022453Z
DTSTART;VALUE=DATE:20111121
SUMMARY:EDUCON 2012 Final Version Due
DESCRIPTION:IEEE Global Engineering Education Conference
URL:http://www.wikicfp.com/cfp/servlet/event.showcfp?eventid=18484&copyow
 nerid=30798
UID:cfp211714-N@wikicfp.com
END:VEVENT
BEGIN:VEVENT
DTSTAMP:20260425T022453Z
DTSTART;VALUE=DATE:20120404
DTEND;VALUE=DATE:20120406
SUMMARY:IACQA 2012
DESCRIPTION:The International Arab Conference on Quality  Assurance in Hi
 gher Education 
URL:http://www.wikicfp.com/cfp/servlet/event.showcfp?eventid=18694&copyow
 nerid=30798
UID:cfp211715-E@wikicfp.com
END:VEVENT
BEGIN:VEVENT
DTSTAMP:20260425T022453Z
DTSTART;VALUE=DATE:20111229
SUMMARY:IACQA 2012 Deadline
DESCRIPTION:The International Arab Conference on Quality  Assurance in Hi
 gher Education 
URL:http://www.wikicfp.com/cfp/servlet/event.showcfp?eventid=18694&copyow
 nerid=30798
UID:cfp211715-D@wikicfp.com
END:VEVENT
BEGIN:VEVENT
DTSTAMP:20260425T022453Z
DTSTART;VALUE=DATE:20120131
SUMMARY:IACQA 2012 Notification Due
DESCRIPTION:The International Arab Conference on Quality  Assurance in Hi
 gher Education 
URL:http://www.wikicfp.com/cfp/servlet/event.showcfp?eventid=18694&copyow
 nerid=30798
UID:cfp211715-N@wikicfp.com
END:VEVENT
BEGIN:VEVENT
DTSTAMP:20260425T022453Z
DTSTART;VALUE=DATE:20120228
SUMMARY:IACQA 2012 Final Version Due
DESCRIPTION:The International Arab Conference on Quality  Assurance in Hi
 gher Education 
URL:http://www.wikicfp.com/cfp/servlet/event.showcfp?eventid=18694&copyow
 nerid=30798
UID:cfp211715-N@wikicfp.com
END:VEVENT
BEGIN:VEVENT
DTSTAMP:20260425T022453Z
DTSTART;VALUE=DATE:20120531
DTEND;VALUE=DATE:20120603
SUMMARY:METU ELT 2012
DESCRIPTION:11th METU International ELT Convention
URL:http://www.wikicfp.com/cfp/servlet/event.showcfp?eventid=18577&copyow
 nerid=30798
UID:cfp211713-E@wikicfp.com
END:VEVENT
BEGIN:VEVENT
DTSTAMP:20260425T022453Z
DTSTART;VALUE=DATE:20120213
SUMMARY:METU ELT 2012 Deadline
DESCRIPTION:11th METU International ELT Convention
URL:http://www.wikicfp.com/cfp/servlet/event.showcfp?eventid=18577&copyow
 nerid=30798
UID:cfp211713-D@wikicfp.com
END:VEVENT
BEGIN:VEVENT
DTSTAMP:20260425T022453Z
DTSTART;VALUE=DATE:20120330
SUMMARY:METU ELT 2012 Notification Due
DESCRIPTION:11th METU International ELT Convention
URL:http://www.wikicfp.com/cfp/servlet/event.showcfp?eventid=18577&copyow
 nerid=30798
UID:cfp211713-N@wikicfp.com
END:VEVENT
BEGIN:VEVENT
DTSTAMP:20260425T022453Z
DTSTART;VALUE=DATE:20120213
SUMMARY:METU ELT 2012 Final Version Due
DESCRIPTION:11th METU International ELT Convention
URL:http://www.wikicfp.com/cfp/servlet/event.showcfp?eventid=18577&copyow
 nerid=30798
UID:cfp211713-N@wikicfp.com
END:VEVENT
END:VCALENDAR
