BEGIN:VCALENDAR
PRODID:-//WikiCFP//yajin 1.0//EN
VERSION:2.0
CALSCALE:GREGORIAN
BEGIN:VEVENT
DTSTAMP:20260419T181041Z
DTSTART;VALUE=DATE:20120205
DTEND;VALUE=DATE:20120209
SUMMARY:NDSS 2012
DESCRIPTION:19th Network & Distributed System Security Symposium
URL:http://www.wikicfp.com/cfp/servlet/event.showcfp?eventid=16646&copyow
 nerid=30762
UID:cfp211542-E@wikicfp.com
END:VEVENT
BEGIN:VEVENT
DTSTAMP:20260419T181041Z
DTSTART;VALUE=DATE:20110816
SUMMARY:NDSS 2012 Abstract Due
DESCRIPTION:19th Network & Distributed System Security Symposium
URL:http://www.wikicfp.com/cfp/servlet/event.showcfp?eventid=16646&copyow
 nerid=30762
UID:cfp211542-A@wikicfp.com
END:VEVENT
BEGIN:VEVENT
DTSTAMP:20260419T181041Z
DTSTART;VALUE=DATE:20110823
SUMMARY:NDSS 2012 Deadline
DESCRIPTION:19th Network & Distributed System Security Symposium
URL:http://www.wikicfp.com/cfp/servlet/event.showcfp?eventid=16646&copyow
 nerid=30762
UID:cfp211542-D@wikicfp.com
END:VEVENT
BEGIN:VEVENT
DTSTAMP:20260419T181041Z
DTSTART;VALUE=DATE:20111023
SUMMARY:NDSS 2012 Notification Due
DESCRIPTION:19th Network & Distributed System Security Symposium
URL:http://www.wikicfp.com/cfp/servlet/event.showcfp?eventid=16646&copyow
 nerid=30762
UID:cfp211542-N@wikicfp.com
END:VEVENT
BEGIN:VEVENT
DTSTAMP:20260419T181041Z
DTSTART;VALUE=DATE:20111202
SUMMARY:NDSS 2012 Final Version Due
DESCRIPTION:19th Network & Distributed System Security Symposium
URL:http://www.wikicfp.com/cfp/servlet/event.showcfp?eventid=16646&copyow
 nerid=30762
UID:cfp211542-N@wikicfp.com
END:VEVENT
BEGIN:VEVENT
DTSTAMP:20260419T181041Z
DTSTART;VALUE=DATE:20120228
DTEND;VALUE=DATE:20120301
SUMMARY:HotMobile 2012
DESCRIPTION:Workshop on Mobile Computing Systems and Applications 
URL:http://www.wikicfp.com/cfp/servlet/event.showcfp?eventid=17642&copyow
 nerid=30762
UID:cfp211537-E@wikicfp.com
END:VEVENT
BEGIN:VEVENT
DTSTAMP:20260419T181041Z
DTSTART;VALUE=DATE:20111014
SUMMARY:HotMobile 2012 Deadline
DESCRIPTION:Workshop on Mobile Computing Systems and Applications 
URL:http://www.wikicfp.com/cfp/servlet/event.showcfp?eventid=17642&copyow
 nerid=30762
UID:cfp211537-D@wikicfp.com
END:VEVENT
BEGIN:VEVENT
DTSTAMP:20260419T181041Z
DTSTART;VALUE=DATE:20111207
SUMMARY:HotMobile 2012 Notification Due
DESCRIPTION:Workshop on Mobile Computing Systems and Applications 
URL:http://www.wikicfp.com/cfp/servlet/event.showcfp?eventid=17642&copyow
 nerid=30762
UID:cfp211537-N@wikicfp.com
END:VEVENT
BEGIN:VEVENT
DTSTAMP:20260419T181041Z
DTSTART;VALUE=DATE:20120520
DTEND;VALUE=DATE:20120524
SUMMARY:S&P 2012
DESCRIPTION:IEEE Symposium on Security and Privacy
URL:http://www.wikicfp.com/cfp/servlet/event.showcfp?eventid=18162&copyow
 nerid=30762
UID:cfp211539-E@wikicfp.com
END:VEVENT
BEGIN:VEVENT
DTSTAMP:20260419T181041Z
DTSTART;VALUE=DATE:20111116
SUMMARY:S&P 2012 Deadline
DESCRIPTION:IEEE Symposium on Security and Privacy
URL:http://www.wikicfp.com/cfp/servlet/event.showcfp?eventid=18162&copyow
 nerid=30762
UID:cfp211539-D@wikicfp.com
END:VEVENT
BEGIN:VEVENT
DTSTAMP:20260419T181041Z
DTSTART;VALUE=DATE:20120201
SUMMARY:S&P 2012 Notification Due
DESCRIPTION:IEEE Symposium on Security and Privacy
URL:http://www.wikicfp.com/cfp/servlet/event.showcfp?eventid=18162&copyow
 nerid=30762
UID:cfp211539-N@wikicfp.com
END:VEVENT
BEGIN:VEVENT
DTSTAMP:20260419T181041Z
DTSTART;VALUE=DATE:20120305
SUMMARY:S&P 2012 Final Version Due
DESCRIPTION:IEEE Symposium on Security and Privacy
URL:http://www.wikicfp.com/cfp/servlet/event.showcfp?eventid=18162&copyow
 nerid=30762
UID:cfp211539-N@wikicfp.com
END:VEVENT
BEGIN:VEVENT
DTSTAMP:20260419T181041Z
DTSTART;VALUE=DATE:20120502
DTEND;VALUE=DATE:20120505
SUMMARY:ASIACCS 2012
DESCRIPTION:ACM Symposium on InformAtion\, Computer and Communications Se
 curity 
URL:http://www.wikicfp.com/cfp/servlet/event.showcfp?eventid=17741&copyow
 nerid=30762
UID:cfp211540-E@wikicfp.com
END:VEVENT
BEGIN:VEVENT
DTSTAMP:20260419T181041Z
DTSTART;VALUE=DATE:20111208
SUMMARY:ASIACCS 2012 Deadline
DESCRIPTION:ACM Symposium on InformAtion\, Computer and Communications Se
 curity 
URL:http://www.wikicfp.com/cfp/servlet/event.showcfp?eventid=17741&copyow
 nerid=30762
UID:cfp211540-D@wikicfp.com
END:VEVENT
BEGIN:VEVENT
DTSTAMP:20260419T181041Z
DTSTART;VALUE=DATE:20120223
SUMMARY:ASIACCS 2012 Notification Due
DESCRIPTION:ACM Symposium on InformAtion\, Computer and Communications Se
 curity 
URL:http://www.wikicfp.com/cfp/servlet/event.showcfp?eventid=17741&copyow
 nerid=30762
UID:cfp211540-N@wikicfp.com
END:VEVENT
BEGIN:VEVENT
DTSTAMP:20260419T181041Z
DTSTART;VALUE=DATE:20120325
SUMMARY:ASIACCS 2012 Final Version Due
DESCRIPTION:ACM Symposium on InformAtion\, Computer and Communications Se
 curity 
URL:http://www.wikicfp.com/cfp/servlet/event.showcfp?eventid=17741&copyow
 nerid=30762
UID:cfp211540-N@wikicfp.com
END:VEVENT
BEGIN:VEVENT
DTSTAMP:20260419T181041Z
DTSTART;VALUE=DATE:20120613
DTEND;VALUE=DATE:20120616
SUMMARY:USENIX ATC 2012
DESCRIPTION:2012 USENIX Annual Technical Conference
URL:http://www.wikicfp.com/cfp/servlet/event.showcfp?eventid=18440&copyow
 nerid=30762
UID:cfp211538-E@wikicfp.com
END:VEVENT
BEGIN:VEVENT
DTSTAMP:20260419T181041Z
DTSTART;VALUE=DATE:20120110
SUMMARY:USENIX ATC 2012 Abstract Due
DESCRIPTION:2012 USENIX Annual Technical Conference
URL:http://www.wikicfp.com/cfp/servlet/event.showcfp?eventid=18440&copyow
 nerid=30762
UID:cfp211538-A@wikicfp.com
END:VEVENT
BEGIN:VEVENT
DTSTAMP:20260419T181041Z
DTSTART;VALUE=DATE:20120117
SUMMARY:USENIX ATC 2012 Deadline
DESCRIPTION:2012 USENIX Annual Technical Conference
URL:http://www.wikicfp.com/cfp/servlet/event.showcfp?eventid=18440&copyow
 nerid=30762
UID:cfp211538-D@wikicfp.com
END:VEVENT
BEGIN:VEVENT
DTSTAMP:20260419T181041Z
DTSTART;VALUE=DATE:20120326
SUMMARY:USENIX ATC 2012 Notification Due
DESCRIPTION:2012 USENIX Annual Technical Conference
URL:http://www.wikicfp.com/cfp/servlet/event.showcfp?eventid=18440&copyow
 nerid=30762
UID:cfp211538-N@wikicfp.com
END:VEVENT
BEGIN:VEVENT
DTSTAMP:20260419T181041Z
DTSTART;VALUE=DATE:20120502
SUMMARY:USENIX ATC 2012 Final Version Due
DESCRIPTION:2012 USENIX Annual Technical Conference
URL:http://www.wikicfp.com/cfp/servlet/event.showcfp?eventid=18440&copyow
 nerid=30762
UID:cfp211538-N@wikicfp.com
END:VEVENT
BEGIN:VEVENT
DTSTAMP:20260419T181041Z
DTSTART;VALUE=DATE:20120819
DTEND;VALUE=DATE:20120825
SUMMARY:SECURWARE 2012
DESCRIPTION:The Sixth International Conference on Emerging Security Infor
 mation\, Systems and Technologies
URL:http://www.wikicfp.com/cfp/servlet/event.showcfp?eventid=18760&copyow
 nerid=30762
UID:cfp211541-E@wikicfp.com
END:VEVENT
BEGIN:VEVENT
DTSTAMP:20260419T181041Z
DTSTART;VALUE=DATE:20120405
SUMMARY:SECURWARE 2012 Deadline
DESCRIPTION:The Sixth International Conference on Emerging Security Infor
 mation\, Systems and Technologies
URL:http://www.wikicfp.com/cfp/servlet/event.showcfp?eventid=18760&copyow
 nerid=30762
UID:cfp211541-D@wikicfp.com
END:VEVENT
BEGIN:VEVENT
DTSTAMP:20260419T181041Z
DTSTART;VALUE=DATE:20120523
SUMMARY:SECURWARE 2012 Notification Due
DESCRIPTION:The Sixth International Conference on Emerging Security Infor
 mation\, Systems and Technologies
URL:http://www.wikicfp.com/cfp/servlet/event.showcfp?eventid=18760&copyow
 nerid=30762
UID:cfp211541-N@wikicfp.com
END:VEVENT
BEGIN:VEVENT
DTSTAMP:20260419T181041Z
DTSTART;VALUE=DATE:20120607
SUMMARY:SECURWARE 2012 Final Version Due
DESCRIPTION:The Sixth International Conference on Emerging Security Infor
 mation\, Systems and Technologies
URL:http://www.wikicfp.com/cfp/servlet/event.showcfp?eventid=18760&copyow
 nerid=30762
UID:cfp211541-N@wikicfp.com
END:VEVENT
END:VCALENDAR
