BEGIN:VCALENDAR
PRODID:-//WikiCFP//ivan_berlocher 1.0//EN
VERSION:2.0
CALSCALE:GREGORIAN
BEGIN:VEVENT
DTSTAMP:20260422T021733Z
DTSTART;VALUE=DATE:20120401
DTEND;VALUE=DATE:20120406
SUMMARY:ECIR 2012
DESCRIPTION:European Conference on Information Retrieval
URL:http://www.wikicfp.com/cfp/servlet/event.showcfp?eventid=17037&copyow
 nerid=30363
UID:cfp209335-E@wikicfp.com
END:VEVENT
BEGIN:VEVENT
DTSTAMP:20260422T021733Z
DTSTART;VALUE=DATE:20111002
SUMMARY:ECIR 2012 Deadline
DESCRIPTION:European Conference on Information Retrieval
URL:http://www.wikicfp.com/cfp/servlet/event.showcfp?eventid=17037&copyow
 nerid=30363
UID:cfp209335-D@wikicfp.com
END:VEVENT
BEGIN:VEVENT
DTSTAMP:20260422T021733Z
DTSTART;VALUE=DATE:20120416
DTEND;VALUE=DATE:20120418
SUMMARY:II-SDV 2012
DESCRIPTION:International Information Conference on Search\, Data Mining 
 and Visualization
URL:http://www.wikicfp.com/cfp/servlet/event.showcfp?eventid=18277&copyow
 nerid=30363
UID:cfp209334-E@wikicfp.com
END:VEVENT
BEGIN:VEVENT
DTSTAMP:20260422T021733Z
DTSTART;VALUE=DATE:20111030
SUMMARY:II-SDV 2012 Deadline
DESCRIPTION:International Information Conference on Search\, Data Mining 
 and Visualization
URL:http://www.wikicfp.com/cfp/servlet/event.showcfp?eventid=18277&copyow
 nerid=30363
UID:cfp209334-D@wikicfp.com
END:VEVENT
BEGIN:VEVENT
DTSTAMP:20260422T021733Z
DTSTART;VALUE=DATE:20120525
DTEND;VALUE=DATE:20120526
SUMMARY:ParLearning 2012
DESCRIPTION:Workshop on Parallel and Distributed Computing for Machine Le
 arning and Inference Problems
URL:http://www.wikicfp.com/cfp/servlet/event.showcfp?eventid=18575&copyow
 nerid=30363
UID:cfp209332-E@wikicfp.com
END:VEVENT
BEGIN:VEVENT
DTSTAMP:20260422T021733Z
DTSTART;VALUE=DATE:20120118
SUMMARY:ParLearning 2012 Deadline
DESCRIPTION:Workshop on Parallel and Distributed Computing for Machine Le
 arning and Inference Problems
URL:http://www.wikicfp.com/cfp/servlet/event.showcfp?eventid=18575&copyow
 nerid=30363
UID:cfp209332-D@wikicfp.com
END:VEVENT
BEGIN:VEVENT
DTSTAMP:20260422T021733Z
DTSTART;VALUE=DATE:20120201
SUMMARY:ParLearning 2012 Notification Due
DESCRIPTION:Workshop on Parallel and Distributed Computing for Machine Le
 arning and Inference Problems
URL:http://www.wikicfp.com/cfp/servlet/event.showcfp?eventid=18575&copyow
 nerid=30363
UID:cfp209332-N@wikicfp.com
END:VEVENT
BEGIN:VEVENT
DTSTAMP:20260422T021733Z
DTSTART;VALUE=DATE:20120221
SUMMARY:ParLearning 2012 Final Version Due
DESCRIPTION:Workshop on Parallel and Distributed Computing for Machine Le
 arning and Inference Problems
URL:http://www.wikicfp.com/cfp/servlet/event.showcfp?eventid=18575&copyow
 nerid=30363
UID:cfp209332-N@wikicfp.com
END:VEVENT
END:VCALENDAR
