BEGIN:VCALENDAR
PRODID:-//WikiCFP//prasun 1.0//EN
VERSION:2.0
CALSCALE:GREGORIAN
BEGIN:VEVENT
DTSTAMP:20260422T050824Z
DTSTART;VALUE=DATE:20110319
DTEND;VALUE=DATE:20110502
SUMMARY:Book Chapter on Game Design 2011
DESCRIPTION:Call for book chapters for Algorithmic and Architectural Gami
 ng Design: Implementation and Development
URL:http://www.wikicfp.com/cfp/servlet/event.showcfp?eventid=15570&copyow
 nerid=29856
UID:cfp218181-E@wikicfp.com
END:VEVENT
BEGIN:VEVENT
DTSTAMP:20260422T050824Z
DTSTART;VALUE=DATE:20110530
SUMMARY:Book Chapter on Game Design 2011 Deadline
DESCRIPTION:Call for book chapters for Algorithmic and Architectural Gami
 ng Design: Implementation and Development
URL:http://www.wikicfp.com/cfp/servlet/event.showcfp?eventid=15570&copyow
 nerid=29856
UID:cfp218181-D@wikicfp.com
END:VEVENT
BEGIN:VEVENT
DTSTAMP:20260422T050824Z
DTSTART;VALUE=DATE:20111211
DTEND;VALUE=DATE:20111215
SUMMARY:WICT-SS on VLSI and Embedded 2011
DESCRIPTION:Special session on: âOn-Chip Communications in VLSI and Emb
 edded Systemsâ
URL:http://www.wikicfp.com/cfp/servlet/event.showcfp?eventid=17738&copyow
 nerid=29856
UID:cfp206285-E@wikicfp.com
END:VEVENT
BEGIN:VEVENT
DTSTAMP:20260422T050824Z
DTSTART;VALUE=DATE:20110920
SUMMARY:WICT-SS on VLSI and Embedded 2011 Deadline
DESCRIPTION:Special session on: âOn-Chip Communications in VLSI and Emb
 edded Systemsâ
URL:http://www.wikicfp.com/cfp/servlet/event.showcfp?eventid=17738&copyow
 nerid=29856
UID:cfp206285-D@wikicfp.com
END:VEVENT
BEGIN:VEVENT
DTSTAMP:20260422T050824Z
DTSTART;VALUE=DATE:20111015
SUMMARY:WICT-SS on VLSI and Embedded 2011 Notification Due
DESCRIPTION:Special session on: âOn-Chip Communications in VLSI and Emb
 edded Systemsâ
URL:http://www.wikicfp.com/cfp/servlet/event.showcfp?eventid=17738&copyow
 nerid=29856
UID:cfp206285-N@wikicfp.com
END:VEVENT
BEGIN:VEVENT
DTSTAMP:20260422T050824Z
DTSTART;VALUE=DATE:20111031
SUMMARY:WICT-SS on VLSI and Embedded 2011 Final Version Due
DESCRIPTION:Special session on: âOn-Chip Communications in VLSI and Emb
 edded Systemsâ
URL:http://www.wikicfp.com/cfp/servlet/event.showcfp?eventid=17738&copyow
 nerid=29856
UID:cfp206285-N@wikicfp.com
END:VEVENT
BEGIN:VEVENT
DTSTAMP:20260422T050824Z
DTSTART;VALUE=DATE:20111031
SUMMARY:VLSICS 2011 Deadline
DESCRIPTION:International journal of VLSI design & Communication Systems 
 
URL:http://www.wikicfp.com/cfp/servlet/event.showcfp?eventid=18031&copyow
 nerid=29856
UID:cfp206280-D@wikicfp.com
END:VEVENT
BEGIN:VEVENT
DTSTAMP:20260422T050824Z
DTSTART;VALUE=DATE:20111125
SUMMARY:VLSICS 2011 Notification Due
DESCRIPTION:International journal of VLSI design & Communication Systems 
 
URL:http://www.wikicfp.com/cfp/servlet/event.showcfp?eventid=18031&copyow
 nerid=29856
UID:cfp206280-N@wikicfp.com
END:VEVENT
BEGIN:VEVENT
DTSTAMP:20260422T050824Z
DTSTART;VALUE=DATE:20111130
SUMMARY:VLSICS 2011 Final Version Due
DESCRIPTION:International journal of VLSI design & Communication Systems 
 
URL:http://www.wikicfp.com/cfp/servlet/event.showcfp?eventid=18031&copyow
 nerid=29856
UID:cfp206280-N@wikicfp.com
END:VEVENT
BEGIN:VEVENT
DTSTAMP:20260422T050824Z
DTSTART;VALUE=DATE:20111125
SUMMARY:WSN:CSFT 2012 Deadline
DESCRIPTION:Call for Book Chapters - Wireless Sensor Networks: Current St
 atus and Future Trends
URL:http://www.wikicfp.com/cfp/servlet/event.showcfp?eventid=18456&copyow
 nerid=29856
UID:cfp206284-D@wikicfp.com
END:VEVENT
BEGIN:VEVENT
DTSTAMP:20260422T050824Z
DTSTART;VALUE=DATE:20120125
SUMMARY:WSN:CSFT 2012 Notification Due
DESCRIPTION:Call for Book Chapters - Wireless Sensor Networks: Current St
 atus and Future Trends
URL:http://www.wikicfp.com/cfp/servlet/event.showcfp?eventid=18456&copyow
 nerid=29856
UID:cfp206284-N@wikicfp.com
END:VEVENT
BEGIN:VEVENT
DTSTAMP:20260422T050824Z
DTSTART;VALUE=DATE:20120225
SUMMARY:WSN:CSFT 2012 Final Version Due
DESCRIPTION:Call for Book Chapters - Wireless Sensor Networks: Current St
 atus and Future Trends
URL:http://www.wikicfp.com/cfp/servlet/event.showcfp?eventid=18456&copyow
 nerid=29856
UID:cfp206284-N@wikicfp.com
END:VEVENT
BEGIN:VEVENT
DTSTAMP:20260422T050824Z
DTSTART;VALUE=DATE:20120425
DTEND;VALUE=DATE:20120428
SUMMARY:RACSS 2012
DESCRIPTION:International Conference on Recent Advances in Computing and 
 Software Systems
URL:http://www.wikicfp.com/cfp/servlet/event.showcfp?eventid=18486&copyow
 nerid=29856
UID:cfp206281-E@wikicfp.com
END:VEVENT
BEGIN:VEVENT
DTSTAMP:20260422T050824Z
DTSTART;VALUE=DATE:20111209
SUMMARY:RACSS 2012 Deadline
DESCRIPTION:International Conference on Recent Advances in Computing and 
 Software Systems
URL:http://www.wikicfp.com/cfp/servlet/event.showcfp?eventid=18486&copyow
 nerid=29856
UID:cfp206281-D@wikicfp.com
END:VEVENT
BEGIN:VEVENT
DTSTAMP:20260422T050824Z
DTSTART;VALUE=DATE:20120123
SUMMARY:RACSS 2012 Notification Due
DESCRIPTION:International Conference on Recent Advances in Computing and 
 Software Systems
URL:http://www.wikicfp.com/cfp/servlet/event.showcfp?eventid=18486&copyow
 nerid=29856
UID:cfp206281-N@wikicfp.com
END:VEVENT
BEGIN:VEVENT
DTSTAMP:20260422T050824Z
DTSTART;VALUE=DATE:20120210
SUMMARY:RACSS 2012 Final Version Due
DESCRIPTION:International Conference on Recent Advances in Computing and 
 Software Systems
URL:http://www.wikicfp.com/cfp/servlet/event.showcfp?eventid=18486&copyow
 nerid=29856
UID:cfp206281-N@wikicfp.com
END:VEVENT
BEGIN:VEVENT
DTSTAMP:20260422T050824Z
DTSTART;VALUE=DATE:20110720
DTEND;VALUE=DATE:20110731
SUMMARY:Book Chapters: Multicore Tech. CRC Press 2011
DESCRIPTION:Call for Book Chapters: Multicore Technology:Architecture\, R
 econfiguration\, and Modeling (CRC Press) 
URL:http://www.wikicfp.com/cfp/servlet/event.showcfp?eventid=17259&copyow
 nerid=29856
UID:cfp218179-E@wikicfp.com
END:VEVENT
BEGIN:VEVENT
DTSTAMP:20260422T050824Z
DTSTART;VALUE=DATE:20110825
SUMMARY:Book Chapters: Multicore Tech. CRC Press 2011 Abstract Due
DESCRIPTION:Call for Book Chapters: Multicore Technology:Architecture\, R
 econfiguration\, and Modeling (CRC Press) 
URL:http://www.wikicfp.com/cfp/servlet/event.showcfp?eventid=17259&copyow
 nerid=29856
UID:cfp218179-A@wikicfp.com
END:VEVENT
BEGIN:VEVENT
DTSTAMP:20260422T050824Z
DTSTART;VALUE=DATE:20111230
SUMMARY:Book Chapters: Multicore Tech. CRC Press 2011 Deadline
DESCRIPTION:Call for Book Chapters: Multicore Technology:Architecture\, R
 econfiguration\, and Modeling (CRC Press) 
URL:http://www.wikicfp.com/cfp/servlet/event.showcfp?eventid=17259&copyow
 nerid=29856
UID:cfp218179-D@wikicfp.com
END:VEVENT
BEGIN:VEVENT
DTSTAMP:20260422T050824Z
DTSTART;VALUE=DATE:20120130
SUMMARY:Book Chapters: Multicore Tech. CRC Press 2011 Notification Due
DESCRIPTION:Call for Book Chapters: Multicore Technology:Architecture\, R
 econfiguration\, and Modeling (CRC Press) 
URL:http://www.wikicfp.com/cfp/servlet/event.showcfp?eventid=17259&copyow
 nerid=29856
UID:cfp218179-N@wikicfp.com
END:VEVENT
BEGIN:VEVENT
DTSTAMP:20260422T050824Z
DTSTART;VALUE=DATE:20120330
SUMMARY:Book Chapters: Multicore Tech. CRC Press 2011 Final Version Due
DESCRIPTION:Call for Book Chapters: Multicore Technology:Architecture\, R
 econfiguration\, and Modeling (CRC Press) 
URL:http://www.wikicfp.com/cfp/servlet/event.showcfp?eventid=17259&copyow
 nerid=29856
UID:cfp218179-N@wikicfp.com
END:VEVENT
BEGIN:VEVENT
DTSTAMP:20260422T050824Z
DTSTART;VALUE=DATE:20111130
SUMMARY:Artificial Intelligence: Turing 2012 2012 Abstract Due
DESCRIPTION:Call for Book Chapters:  Artificial Intelligence\, Evolutiona
 ry Computation and Metaheuristics (AIECM) --In the footsteps of Alan Tur
 ing (Turing 2012)
URL:http://www.wikicfp.com/cfp/servlet/event.showcfp?eventid=16324&copyow
 nerid=29856
UID:cfp218178-A@wikicfp.com
END:VEVENT
BEGIN:VEVENT
DTSTAMP:20260422T050824Z
DTSTART;VALUE=DATE:20120125
SUMMARY:Artificial Intelligence: Turing 2012 2012 Deadline
DESCRIPTION:Call for Book Chapters:  Artificial Intelligence\, Evolutiona
 ry Computation and Metaheuristics (AIECM) --In the footsteps of Alan Tur
 ing (Turing 2012)
URL:http://www.wikicfp.com/cfp/servlet/event.showcfp?eventid=16324&copyow
 nerid=29856
UID:cfp218178-D@wikicfp.com
END:VEVENT
BEGIN:VEVENT
DTSTAMP:20260422T050824Z
DTSTART;VALUE=DATE:20120220
SUMMARY:Artificial Intelligence: Turing 2012 2012 Notification Due
DESCRIPTION:Call for Book Chapters:  Artificial Intelligence\, Evolutiona
 ry Computation and Metaheuristics (AIECM) --In the footsteps of Alan Tur
 ing (Turing 2012)
URL:http://www.wikicfp.com/cfp/servlet/event.showcfp?eventid=16324&copyow
 nerid=29856
UID:cfp218178-N@wikicfp.com
END:VEVENT
BEGIN:VEVENT
DTSTAMP:20260422T050824Z
DTSTART;VALUE=DATE:20120228
SUMMARY:Artificial Intelligence: Turing 2012 2012 Final Version Due
DESCRIPTION:Call for Book Chapters:  Artificial Intelligence\, Evolutiona
 ry Computation and Metaheuristics (AIECM) --In the footsteps of Alan Tur
 ing (Turing 2012)
URL:http://www.wikicfp.com/cfp/servlet/event.showcfp?eventid=16324&copyow
 nerid=29856
UID:cfp218178-N@wikicfp.com
END:VEVENT
BEGIN:VEVENT
DTSTAMP:20260422T050824Z
DTSTART;VALUE=DATE:20121219
DTEND;VALUE=DATE:20121223
SUMMARY:ISED 2012
DESCRIPTION:International Symposium on Electronic System Design
URL:http://www.wikicfp.com/cfp/servlet/event.showcfp?eventid=24044&copyow
 nerid=29856
UID:cfp278385-E@wikicfp.com
END:VEVENT
BEGIN:VEVENT
DTSTAMP:20260422T050824Z
DTSTART;VALUE=DATE:20120730
SUMMARY:ISED 2012 Deadline
DESCRIPTION:International Symposium on Electronic System Design
URL:http://www.wikicfp.com/cfp/servlet/event.showcfp?eventid=24044&copyow
 nerid=29856
UID:cfp278385-D@wikicfp.com
END:VEVENT
BEGIN:VEVENT
DTSTAMP:20260422T050824Z
DTSTART;VALUE=DATE:20120819
SUMMARY:ISED 2012 Notification Due
DESCRIPTION:International Symposium on Electronic System Design
URL:http://www.wikicfp.com/cfp/servlet/event.showcfp?eventid=24044&copyow
 nerid=29856
UID:cfp278385-N@wikicfp.com
END:VEVENT
BEGIN:VEVENT
DTSTAMP:20260422T050824Z
DTSTART;VALUE=DATE:20120910
SUMMARY:ISED 2012 Final Version Due
DESCRIPTION:International Symposium on Electronic System Design
URL:http://www.wikicfp.com/cfp/servlet/event.showcfp?eventid=24044&copyow
 nerid=29856
UID:cfp278385-N@wikicfp.com
END:VEVENT
BEGIN:VEVENT
DTSTAMP:20260422T050824Z
DTSTART;VALUE=DATE:20131231
SUMMARY:IJCA 2013 Deadline
DESCRIPTION:International Journal of Computers and Applications
URL:http://www.wikicfp.com/cfp/servlet/event.showcfp?eventid=14554&copyow
 nerid=29856
UID:cfp206283-D@wikicfp.com
END:VEVENT
BEGIN:VEVENT
DTSTAMP:20260422T050824Z
DTSTART;VALUE=DATE:20130101
DTEND;VALUE=DATE:20140101
SUMMARY:IJMS 2013
DESCRIPTION:International Journal of Modelling and Simulation
URL:http://www.wikicfp.com/cfp/servlet/event.showcfp?eventid=14556&copyow
 nerid=29856
UID:cfp206282-E@wikicfp.com
END:VEVENT
BEGIN:VEVENT
DTSTAMP:20260422T050824Z
DTSTART;VALUE=DATE:20131231
SUMMARY:IJMS 2013 Deadline
DESCRIPTION:International Journal of Modelling and Simulation
URL:http://www.wikicfp.com/cfp/servlet/event.showcfp?eventid=14556&copyow
 nerid=29856
UID:cfp206282-D@wikicfp.com
END:VEVENT
BEGIN:VEVENT
DTSTAMP:20260422T050824Z
DTSTART;VALUE=DATE:20141222
DTEND;VALUE=DATE:20141225
SUMMARY:ICIT 2014
DESCRIPTION:13th  International Conference on Information Technology
URL:http://www.wikicfp.com/cfp/servlet/event.showcfp?eventid=37761&copyow
 nerid=29856
UID:cfp444977-E@wikicfp.com
END:VEVENT
BEGIN:VEVENT
DTSTAMP:20260422T050824Z
DTSTART;VALUE=DATE:20140625
SUMMARY:ICIT 2014 Deadline
DESCRIPTION:13th  International Conference on Information Technology
URL:http://www.wikicfp.com/cfp/servlet/event.showcfp?eventid=37761&copyow
 nerid=29856
UID:cfp444977-D@wikicfp.com
END:VEVENT
BEGIN:VEVENT
DTSTAMP:20260422T050824Z
DTSTART;VALUE=DATE:20140825
SUMMARY:ICIT 2014 Notification Due
DESCRIPTION:13th  International Conference on Information Technology
URL:http://www.wikicfp.com/cfp/servlet/event.showcfp?eventid=37761&copyow
 nerid=29856
UID:cfp444977-N@wikicfp.com
END:VEVENT
BEGIN:VEVENT
DTSTAMP:20260422T050824Z
DTSTART;VALUE=DATE:20140908
SUMMARY:ICIT 2014 Final Version Due
DESCRIPTION:13th  International Conference on Information Technology
URL:http://www.wikicfp.com/cfp/servlet/event.showcfp?eventid=37761&copyow
 nerid=29856
UID:cfp444977-N@wikicfp.com
END:VEVENT
BEGIN:VEVENT
DTSTAMP:20260422T050824Z
DTSTART;VALUE=DATE:20150708
DTEND;VALUE=DATE:20150711
SUMMARY:ISVLSI 2015
DESCRIPTION:IEEE Computer Society Annual Symposium on VLSI
URL:http://www.wikicfp.com/cfp/servlet/event.showcfp?eventid=40183&copyow
 nerid=29856
UID:cfp490837-E@wikicfp.com
END:VEVENT
BEGIN:VEVENT
DTSTAMP:20260422T050824Z
DTSTART;VALUE=DATE:20150225
SUMMARY:ISVLSI 2015 Deadline
DESCRIPTION:IEEE Computer Society Annual Symposium on VLSI
URL:http://www.wikicfp.com/cfp/servlet/event.showcfp?eventid=40183&copyow
 nerid=29856
UID:cfp490837-D@wikicfp.com
END:VEVENT
BEGIN:VEVENT
DTSTAMP:20260422T050824Z
DTSTART;VALUE=DATE:20150420
SUMMARY:ISVLSI 2015 Notification Due
DESCRIPTION:IEEE Computer Society Annual Symposium on VLSI
URL:http://www.wikicfp.com/cfp/servlet/event.showcfp?eventid=40183&copyow
 nerid=29856
UID:cfp490837-N@wikicfp.com
END:VEVENT
BEGIN:VEVENT
DTSTAMP:20260422T050824Z
DTSTART;VALUE=DATE:20150513
SUMMARY:ISVLSI 2015 Final Version Due
DESCRIPTION:IEEE Computer Society Annual Symposium on VLSI
URL:http://www.wikicfp.com/cfp/servlet/event.showcfp?eventid=40183&copyow
 nerid=29856
UID:cfp490837-N@wikicfp.com
END:VEVENT
BEGIN:VEVENT
DTSTAMP:20260422T050824Z
DTSTART;VALUE=DATE:20151221
DTEND;VALUE=DATE:20151224
SUMMARY:iNIS 2015
DESCRIPTION:1ST IEEE INTERNATIONAL SYMPOSIUM ON NANOELECTRONIC AND INFORM
 ATION SYSTEMS
URL:http://www.wikicfp.com/cfp/servlet/event.showcfp?eventid=45768&copyow
 nerid=29856
UID:cfp534815-E@wikicfp.com
END:VEVENT
BEGIN:VEVENT
DTSTAMP:20260422T050824Z
DTSTART;VALUE=DATE:20150720
SUMMARY:iNIS 2015 Deadline
DESCRIPTION:1ST IEEE INTERNATIONAL SYMPOSIUM ON NANOELECTRONIC AND INFORM
 ATION SYSTEMS
URL:http://www.wikicfp.com/cfp/servlet/event.showcfp?eventid=45768&copyow
 nerid=29856
UID:cfp534815-D@wikicfp.com
END:VEVENT
BEGIN:VEVENT
DTSTAMP:20260422T050824Z
DTSTART;VALUE=DATE:20150914
SUMMARY:iNIS 2015 Notification Due
DESCRIPTION:1ST IEEE INTERNATIONAL SYMPOSIUM ON NANOELECTRONIC AND INFORM
 ATION SYSTEMS
URL:http://www.wikicfp.com/cfp/servlet/event.showcfp?eventid=45768&copyow
 nerid=29856
UID:cfp534815-N@wikicfp.com
END:VEVENT
BEGIN:VEVENT
DTSTAMP:20260422T050824Z
DTSTART;VALUE=DATE:20151012
SUMMARY:iNIS 2015 Final Version Due
DESCRIPTION:1ST IEEE INTERNATIONAL SYMPOSIUM ON NANOELECTRONIC AND INFORM
 ATION SYSTEMS
URL:http://www.wikicfp.com/cfp/servlet/event.showcfp?eventid=45768&copyow
 nerid=29856
UID:cfp534815-N@wikicfp.com
END:VEVENT
BEGIN:VEVENT
DTSTAMP:20260422T050824Z
DTSTART;VALUE=DATE:20161219
DTEND;VALUE=DATE:20161222
SUMMARY:IEEE iNIS 2016
DESCRIPTION:2nd IEEE International Symposium on Nanoelectronic and Inform
 ation Systems
URL:http://www.wikicfp.com/cfp/servlet/event.showcfp?eventid=56916&copyow
 nerid=29856
UID:cfp615870-E@wikicfp.com
END:VEVENT
BEGIN:VEVENT
DTSTAMP:20260422T050824Z
DTSTART;VALUE=DATE:20160822
SUMMARY:IEEE iNIS 2016 Deadline
DESCRIPTION:2nd IEEE International Symposium on Nanoelectronic and Inform
 ation Systems
URL:http://www.wikicfp.com/cfp/servlet/event.showcfp?eventid=56916&copyow
 nerid=29856
UID:cfp615870-D@wikicfp.com
END:VEVENT
BEGIN:VEVENT
DTSTAMP:20260422T050824Z
DTSTART;VALUE=DATE:20160923
SUMMARY:IEEE iNIS 2016 Notification Due
DESCRIPTION:2nd IEEE International Symposium on Nanoelectronic and Inform
 ation Systems
URL:http://www.wikicfp.com/cfp/servlet/event.showcfp?eventid=56916&copyow
 nerid=29856
UID:cfp615870-N@wikicfp.com
END:VEVENT
BEGIN:VEVENT
DTSTAMP:20260422T050824Z
DTSTART;VALUE=DATE:20161010
SUMMARY:IEEE iNIS 2016 Final Version Due
DESCRIPTION:2nd IEEE International Symposium on Nanoelectronic and Inform
 ation Systems
URL:http://www.wikicfp.com/cfp/servlet/event.showcfp?eventid=56916&copyow
 nerid=29856
UID:cfp615870-N@wikicfp.com
END:VEVENT
BEGIN:VEVENT
DTSTAMP:20260422T050824Z
DTSTART;VALUE=DATE:20210228
SUMMARY:WCN 2022 Deadline
DESCRIPTION:Wireless Communications and Networking: Theory and Practice
URL:http://www.wikicfp.com/cfp/servlet/event.showcfp?eventid=15777&copyow
 nerid=29856
UID:cfp218180-D@wikicfp.com
END:VEVENT
BEGIN:VEVENT
DTSTAMP:20260422T050824Z
DTSTART;VALUE=DATE:20210328
SUMMARY:WCN 2022 Notification Due
DESCRIPTION:Wireless Communications and Networking: Theory and Practice
URL:http://www.wikicfp.com/cfp/servlet/event.showcfp?eventid=15777&copyow
 nerid=29856
UID:cfp218180-N@wikicfp.com
END:VEVENT
END:VCALENDAR
