BEGIN:VCALENDAR
PRODID:-//WikiCFP//charrouz 1.0//EN
VERSION:2.0
CALSCALE:GREGORIAN
BEGIN:VEVENT
DTSTAMP:20260422T234457Z
DTSTART;VALUE=DATE:20120415
DTEND;VALUE=DATE:20120419
SUMMARY:DASFAA 2012
DESCRIPTION:The 17th International Conference on Database Systems for Adv
 anced Applications 
URL:http://www.wikicfp.com/cfp/servlet/event.showcfp?eventid=17140&copyow
 nerid=29737
UID:cfp205554-E@wikicfp.com
END:VEVENT
BEGIN:VEVENT
DTSTAMP:20260422T234457Z
DTSTART;VALUE=DATE:20110910
SUMMARY:DASFAA 2012 Abstract Due
DESCRIPTION:The 17th International Conference on Database Systems for Adv
 anced Applications 
URL:http://www.wikicfp.com/cfp/servlet/event.showcfp?eventid=17140&copyow
 nerid=29737
UID:cfp205554-A@wikicfp.com
END:VEVENT
BEGIN:VEVENT
DTSTAMP:20260422T234457Z
DTSTART;VALUE=DATE:20110930
SUMMARY:DASFAA 2012 Deadline
DESCRIPTION:The 17th International Conference on Database Systems for Adv
 anced Applications 
URL:http://www.wikicfp.com/cfp/servlet/event.showcfp?eventid=17140&copyow
 nerid=29737
UID:cfp205554-D@wikicfp.com
END:VEVENT
BEGIN:VEVENT
DTSTAMP:20260422T234457Z
DTSTART;VALUE=DATE:20111130
SUMMARY:DASFAA 2012 Notification Due
DESCRIPTION:The 17th International Conference on Database Systems for Adv
 anced Applications 
URL:http://www.wikicfp.com/cfp/servlet/event.showcfp?eventid=17140&copyow
 nerid=29737
UID:cfp205554-N@wikicfp.com
END:VEVENT
BEGIN:VEVENT
DTSTAMP:20260422T234457Z
DTSTART;VALUE=DATE:20120105
SUMMARY:DASFAA 2012 Final Version Due
DESCRIPTION:The 17th International Conference on Database Systems for Adv
 anced Applications 
URL:http://www.wikicfp.com/cfp/servlet/event.showcfp?eventid=17140&copyow
 nerid=29737
UID:cfp205554-N@wikicfp.com
END:VEVENT
BEGIN:VEVENT
DTSTAMP:20260422T234457Z
DTSTART;VALUE=DATE:20130504
DTEND;VALUE=DATE:20130506
SUMMARY:CIIA  2013
DESCRIPTION:4th International Conference on Computer Science and its Appl
 ications
URL:http://www.wikicfp.com/cfp/servlet/event.showcfp?eventid=27384&copyow
 nerid=29737
UID:cfp334085-E@wikicfp.com
END:VEVENT
BEGIN:VEVENT
DTSTAMP:20260422T234457Z
DTSTART;VALUE=DATE:20130215
SUMMARY:CIIA  2013 Deadline
DESCRIPTION:4th International Conference on Computer Science and its Appl
 ications
URL:http://www.wikicfp.com/cfp/servlet/event.showcfp?eventid=27384&copyow
 nerid=29737
UID:cfp334085-D@wikicfp.com
END:VEVENT
BEGIN:VEVENT
DTSTAMP:20260422T234457Z
DTSTART;VALUE=DATE:20130401
SUMMARY:CIIA  2013 Notification Due
DESCRIPTION:4th International Conference on Computer Science and its Appl
 ications
URL:http://www.wikicfp.com/cfp/servlet/event.showcfp?eventid=27384&copyow
 nerid=29737
UID:cfp334085-N@wikicfp.com
END:VEVENT
BEGIN:VEVENT
DTSTAMP:20260422T234457Z
DTSTART;VALUE=DATE:20130415
SUMMARY:CIIA  2013 Final Version Due
DESCRIPTION:4th International Conference on Computer Science and its Appl
 ications
URL:http://www.wikicfp.com/cfp/servlet/event.showcfp?eventid=27384&copyow
 nerid=29737
UID:cfp334085-N@wikicfp.com
END:VEVENT
BEGIN:VEVENT
DTSTAMP:20260422T234457Z
DTSTART;VALUE=DATE:20131125
DTEND;VALUE=DATE:20131127
SUMMARY:ICCASA 2013
DESCRIPTION:The 2nd International Conference on Context-Aware Systems and
  Applications
URL:http://www.wikicfp.com/cfp/servlet/event.showcfp?eventid=28991&copyow
 nerid=29737
UID:cfp371120-E@wikicfp.com
END:VEVENT
BEGIN:VEVENT
DTSTAMP:20260422T234457Z
DTSTART;VALUE=DATE:20130731
SUMMARY:ICCASA 2013 Deadline
DESCRIPTION:The 2nd International Conference on Context-Aware Systems and
  Applications
URL:http://www.wikicfp.com/cfp/servlet/event.showcfp?eventid=28991&copyow
 nerid=29737
UID:cfp371120-D@wikicfp.com
END:VEVENT
BEGIN:VEVENT
DTSTAMP:20260422T234457Z
DTSTART;VALUE=DATE:20130831
SUMMARY:ICCASA 2013 Notification Due
DESCRIPTION:The 2nd International Conference on Context-Aware Systems and
  Applications
URL:http://www.wikicfp.com/cfp/servlet/event.showcfp?eventid=28991&copyow
 nerid=29737
UID:cfp371120-N@wikicfp.com
END:VEVENT
BEGIN:VEVENT
DTSTAMP:20260422T234457Z
DTSTART;VALUE=DATE:20131001
SUMMARY:ICCASA 2013 Final Version Due
DESCRIPTION:The 2nd International Conference on Context-Aware Systems and
  Applications
URL:http://www.wikicfp.com/cfp/servlet/event.showcfp?eventid=28991&copyow
 nerid=29737
UID:cfp371120-N@wikicfp.com
END:VEVENT
BEGIN:VEVENT
DTSTAMP:20260422T234457Z
DTSTART;VALUE=DATE:20131125
DTEND;VALUE=DATE:20131127
SUMMARY:CAPCOM 2013
DESCRIPTION:Context Awareness\, Pervasive COmputing\, and Mobility
URL:http://www.wikicfp.com/cfp/servlet/event.showcfp?eventid=30096&copyow
 nerid=29737
UID:cfp371121-E@wikicfp.com
END:VEVENT
BEGIN:VEVENT
DTSTAMP:20260422T234457Z
DTSTART;VALUE=DATE:20130731
SUMMARY:CAPCOM 2013 Deadline
DESCRIPTION:Context Awareness\, Pervasive COmputing\, and Mobility
URL:http://www.wikicfp.com/cfp/servlet/event.showcfp?eventid=30096&copyow
 nerid=29737
UID:cfp371121-D@wikicfp.com
END:VEVENT
BEGIN:VEVENT
DTSTAMP:20260422T234457Z
DTSTART;VALUE=DATE:20130831
SUMMARY:CAPCOM 2013 Notification Due
DESCRIPTION:Context Awareness\, Pervasive COmputing\, and Mobility
URL:http://www.wikicfp.com/cfp/servlet/event.showcfp?eventid=30096&copyow
 nerid=29737
UID:cfp371121-N@wikicfp.com
END:VEVENT
BEGIN:VEVENT
DTSTAMP:20260422T234457Z
DTSTART;VALUE=DATE:20131001
SUMMARY:CAPCOM 2013 Final Version Due
DESCRIPTION:Context Awareness\, Pervasive COmputing\, and Mobility
URL:http://www.wikicfp.com/cfp/servlet/event.showcfp?eventid=30096&copyow
 nerid=29737
UID:cfp371121-N@wikicfp.com
END:VEVENT
BEGIN:VEVENT
DTSTAMP:20260422T234457Z
DTSTART;VALUE=DATE:20140421
DTEND;VALUE=DATE:20140425
SUMMARY:DASFAA 2014
DESCRIPTION:19th International Conference on Database Systems for Advance
 d Applications
URL:http://www.wikicfp.com/cfp/servlet/event.showcfp?eventid=31286&copyow
 nerid=29737
UID:cfp371122-E@wikicfp.com
END:VEVENT
BEGIN:VEVENT
DTSTAMP:20260422T234457Z
DTSTART;VALUE=DATE:20131101
SUMMARY:DASFAA 2014 Abstract Due
DESCRIPTION:19th International Conference on Database Systems for Advance
 d Applications
URL:http://www.wikicfp.com/cfp/servlet/event.showcfp?eventid=31286&copyow
 nerid=29737
UID:cfp371122-A@wikicfp.com
END:VEVENT
BEGIN:VEVENT
DTSTAMP:20260422T234457Z
DTSTART;VALUE=DATE:20131111
SUMMARY:DASFAA 2014 Deadline
DESCRIPTION:19th International Conference on Database Systems for Advance
 d Applications
URL:http://www.wikicfp.com/cfp/servlet/event.showcfp?eventid=31286&copyow
 nerid=29737
UID:cfp371122-D@wikicfp.com
END:VEVENT
BEGIN:VEVENT
DTSTAMP:20260422T234457Z
DTSTART;VALUE=DATE:20140113
SUMMARY:DASFAA 2014 Notification Due
DESCRIPTION:19th International Conference on Database Systems for Advance
 d Applications
URL:http://www.wikicfp.com/cfp/servlet/event.showcfp?eventid=31286&copyow
 nerid=29737
UID:cfp371122-N@wikicfp.com
END:VEVENT
BEGIN:VEVENT
DTSTAMP:20260422T234457Z
DTSTART;VALUE=DATE:20140131
SUMMARY:DASFAA 2014 Final Version Due
DESCRIPTION:19th International Conference on Database Systems for Advance
 d Applications
URL:http://www.wikicfp.com/cfp/servlet/event.showcfp?eventid=31286&copyow
 nerid=29737
UID:cfp371122-N@wikicfp.com
END:VEVENT
END:VCALENDAR
