BEGIN:VCALENDAR
PRODID:-//WikiCFP//asapronova 1.0//EN
VERSION:2.0
CALSCALE:GREGORIAN
BEGIN:VEVENT
DTSTAMP:20260420T171436Z
DTSTART;VALUE=DATE:20120421
DTEND;VALUE=DATE:20120424
SUMMARY:AISTATS 2012
DESCRIPTION:Fifteenth International Conference on  Artificial Intelligenc
 e and Statistics 2012
URL:http://www.wikicfp.com/cfp/servlet/event.showcfp?eventid=17992&copyow
 nerid=28857
UID:cfp200209-E@wikicfp.com
END:VEVENT
BEGIN:VEVENT
DTSTAMP:20260420T171436Z
DTSTART;VALUE=DATE:20111014
SUMMARY:AISTATS 2012 Deadline
DESCRIPTION:Fifteenth International Conference on  Artificial Intelligenc
 e and Statistics 2012
URL:http://www.wikicfp.com/cfp/servlet/event.showcfp?eventid=17992&copyow
 nerid=28857
UID:cfp200209-D@wikicfp.com
END:VEVENT
BEGIN:VEVENT
DTSTAMP:20260420T171436Z
DTSTART;VALUE=DATE:20111212
SUMMARY:AISTATS 2012 Notification Due
DESCRIPTION:Fifteenth International Conference on  Artificial Intelligenc
 e and Statistics 2012
URL:http://www.wikicfp.com/cfp/servlet/event.showcfp?eventid=17992&copyow
 nerid=28857
UID:cfp200209-N@wikicfp.com
END:VEVENT
BEGIN:VEVENT
DTSTAMP:20260420T171436Z
DTSTART;VALUE=DATE:20120317
SUMMARY:AISTATS 2012 Final Version Due
DESCRIPTION:Fifteenth International Conference on  Artificial Intelligenc
 e and Statistics 2012
URL:http://www.wikicfp.com/cfp/servlet/event.showcfp?eventid=17992&copyow
 nerid=28857
UID:cfp200209-N@wikicfp.com
END:VEVENT
BEGIN:VEVENT
DTSTAMP:20260420T171436Z
DTSTART;VALUE=DATE:20120709
DTEND;VALUE=DATE:20120714
SUMMARY:IPMU 2012
DESCRIPTION:14th International Conference on Information Processing and M
 anagement of Uncertainty in Knowledge-Based Systems
URL:http://www.wikicfp.com/cfp/servlet/event.showcfp?eventid=15611&copyow
 nerid=28857
UID:cfp200208-E@wikicfp.com
END:VEVENT
BEGIN:VEVENT
DTSTAMP:20260420T171436Z
DTSTART;VALUE=DATE:20120115
SUMMARY:IPMU 2012 Deadline
DESCRIPTION:14th International Conference on Information Processing and M
 anagement of Uncertainty in Knowledge-Based Systems
URL:http://www.wikicfp.com/cfp/servlet/event.showcfp?eventid=15611&copyow
 nerid=28857
UID:cfp200208-D@wikicfp.com
END:VEVENT
BEGIN:VEVENT
DTSTAMP:20260420T171436Z
DTSTART;VALUE=DATE:20120225
SUMMARY:IPMU 2012 Notification Due
DESCRIPTION:14th International Conference on Information Processing and M
 anagement of Uncertainty in Knowledge-Based Systems
URL:http://www.wikicfp.com/cfp/servlet/event.showcfp?eventid=15611&copyow
 nerid=28857
UID:cfp200208-N@wikicfp.com
END:VEVENT
BEGIN:VEVENT
DTSTAMP:20260420T171436Z
DTSTART;VALUE=DATE:20120331
SUMMARY:IPMU 2012 Final Version Due
DESCRIPTION:14th International Conference on Information Processing and M
 anagement of Uncertainty in Knowledge-Based Systems
URL:http://www.wikicfp.com/cfp/servlet/event.showcfp?eventid=15611&copyow
 nerid=28857
UID:cfp200208-N@wikicfp.com
END:VEVENT
BEGIN:VEVENT
DTSTAMP:20260420T171436Z
DTSTART;VALUE=DATE:20120827
DTEND;VALUE=DATE:20120901
SUMMARY:ECAI 2012
DESCRIPTION: 20th European Conference on Artificial Intelligence
URL:http://www.wikicfp.com/cfp/servlet/event.showcfp?eventid=11756&copyow
 nerid=28857
UID:cfp200206-E@wikicfp.com
END:VEVENT
BEGIN:VEVENT
DTSTAMP:20260420T171436Z
DTSTART;VALUE=DATE:20120306
SUMMARY:ECAI 2012 Deadline
DESCRIPTION: 20th European Conference on Artificial Intelligence
URL:http://www.wikicfp.com/cfp/servlet/event.showcfp?eventid=11756&copyow
 nerid=28857
UID:cfp200206-D@wikicfp.com
END:VEVENT
BEGIN:VEVENT
DTSTAMP:20260420T171436Z
DTSTART;VALUE=DATE:20120521
SUMMARY:ECAI 2012 Notification Due
DESCRIPTION: 20th European Conference on Artificial Intelligence
URL:http://www.wikicfp.com/cfp/servlet/event.showcfp?eventid=11756&copyow
 nerid=28857
UID:cfp200206-N@wikicfp.com
END:VEVENT
BEGIN:VEVENT
DTSTAMP:20260420T171436Z
DTSTART;VALUE=DATE:20120603
SUMMARY:ECAI 2012 Final Version Due
DESCRIPTION: 20th European Conference on Artificial Intelligence
URL:http://www.wikicfp.com/cfp/servlet/event.showcfp?eventid=11756&copyow
 nerid=28857
UID:cfp200206-N@wikicfp.com
END:VEVENT
BEGIN:VEVENT
DTSTAMP:20260420T171436Z
DTSTART;VALUE=DATE:20130101
DTEND;VALUE=DATE:20140101
SUMMARY:IJPES 2013
DESCRIPTION:International Journal of Power and Energy Systems
URL:http://www.wikicfp.com/cfp/servlet/event.showcfp?eventid=14555&copyow
 nerid=28857
UID:cfp200210-E@wikicfp.com
END:VEVENT
BEGIN:VEVENT
DTSTAMP:20260420T171436Z
DTSTART;VALUE=DATE:20131231
SUMMARY:IJPES 2013 Deadline
DESCRIPTION:International Journal of Power and Energy Systems
URL:http://www.wikicfp.com/cfp/servlet/event.showcfp?eventid=14555&copyow
 nerid=28857
UID:cfp200210-D@wikicfp.com
END:VEVENT
BEGIN:VEVENT
DTSTAMP:20260420T171436Z
DTSTART;VALUE=DATE:20130101
DTEND;VALUE=DATE:20140101
SUMMARY:IJRA 2013
DESCRIPTION:International Journal of Robotics and Automation
URL:http://www.wikicfp.com/cfp/servlet/event.showcfp?eventid=14557&copyow
 nerid=28857
UID:cfp200207-E@wikicfp.com
END:VEVENT
BEGIN:VEVENT
DTSTAMP:20260420T171436Z
DTSTART;VALUE=DATE:20131231
SUMMARY:IJRA 2013 Deadline
DESCRIPTION:International Journal of Robotics and Automation
URL:http://www.wikicfp.com/cfp/servlet/event.showcfp?eventid=14557&copyow
 nerid=28857
UID:cfp200207-D@wikicfp.com
END:VEVENT
END:VCALENDAR
