BEGIN:VCALENDAR
PRODID:-//WikiCFP//ahs85 1.0//EN
VERSION:2.0
CALSCALE:GREGORIAN
BEGIN:VEVENT
DTSTAMP:20260424T000342Z
DTSTART;VALUE=DATE:20130610
DTEND;VALUE=DATE:20130615
SUMMARY:UMAP 2013
DESCRIPTION:21st International Conference on User Modeling\, Adaptation\,
  and Personalization
URL:http://www.wikicfp.com/cfp/servlet/event.showcfp?eventid=25914&copyow
 nerid=28742
UID:cfp312904-E@wikicfp.com
END:VEVENT
BEGIN:VEVENT
DTSTAMP:20260424T000342Z
DTSTART;VALUE=DATE:20130107
SUMMARY:UMAP 2013 Abstract Due
DESCRIPTION:21st International Conference on User Modeling\, Adaptation\,
  and Personalization
URL:http://www.wikicfp.com/cfp/servlet/event.showcfp?eventid=25914&copyow
 nerid=28742
UID:cfp312904-A@wikicfp.com
END:VEVENT
BEGIN:VEVENT
DTSTAMP:20260424T000342Z
DTSTART;VALUE=DATE:20130114
SUMMARY:UMAP 2013 Deadline
DESCRIPTION:21st International Conference on User Modeling\, Adaptation\,
  and Personalization
URL:http://www.wikicfp.com/cfp/servlet/event.showcfp?eventid=25914&copyow
 nerid=28742
UID:cfp312904-D@wikicfp.com
END:VEVENT
BEGIN:VEVENT
DTSTAMP:20260424T000342Z
DTSTART;VALUE=DATE:20130301
SUMMARY:UMAP 2013 Notification Due
DESCRIPTION:21st International Conference on User Modeling\, Adaptation\,
  and Personalization
URL:http://www.wikicfp.com/cfp/servlet/event.showcfp?eventid=25914&copyow
 nerid=28742
UID:cfp312904-N@wikicfp.com
END:VEVENT
BEGIN:VEVENT
DTSTAMP:20260424T000342Z
DTSTART;VALUE=DATE:20130415
SUMMARY:UMAP 2013 Final Version Due
DESCRIPTION:21st International Conference on User Modeling\, Adaptation\,
  and Personalization
URL:http://www.wikicfp.com/cfp/servlet/event.showcfp?eventid=25914&copyow
 nerid=28742
UID:cfp312904-N@wikicfp.com
END:VEVENT
BEGIN:VEVENT
DTSTAMP:20260424T000342Z
DTSTART;VALUE=DATE:20140407
DTEND;VALUE=DATE:20140412
SUMMARY:WWW 2014
DESCRIPTION:International World Wide Web Conference
URL:http://www.wikicfp.com/cfp/servlet/event.showcfp?eventid=30213&copyow
 nerid=28742
UID:cfp406169-E@wikicfp.com
END:VEVENT
BEGIN:VEVENT
DTSTAMP:20260424T000342Z
DTSTART;VALUE=DATE:20131001
SUMMARY:WWW 2014 Abstract Due
DESCRIPTION:International World Wide Web Conference
URL:http://www.wikicfp.com/cfp/servlet/event.showcfp?eventid=30213&copyow
 nerid=28742
UID:cfp406169-A@wikicfp.com
END:VEVENT
BEGIN:VEVENT
DTSTAMP:20260424T000342Z
DTSTART;VALUE=DATE:20131008
SUMMARY:WWW 2014 Deadline
DESCRIPTION:International World Wide Web Conference
URL:http://www.wikicfp.com/cfp/servlet/event.showcfp?eventid=30213&copyow
 nerid=28742
UID:cfp406169-D@wikicfp.com
END:VEVENT
BEGIN:VEVENT
DTSTAMP:20260424T000342Z
DTSTART;VALUE=DATE:20140104
SUMMARY:WWW 2014 Notification Due
DESCRIPTION:International World Wide Web Conference
URL:http://www.wikicfp.com/cfp/servlet/event.showcfp?eventid=30213&copyow
 nerid=28742
UID:cfp406169-N@wikicfp.com
END:VEVENT
BEGIN:VEVENT
DTSTAMP:20260424T000342Z
DTSTART;VALUE=DATE:20140126
SUMMARY:WWW 2014 Final Version Due
DESCRIPTION:International World Wide Web Conference
URL:http://www.wikicfp.com/cfp/servlet/event.showcfp?eventid=30213&copyow
 nerid=28742
UID:cfp406169-N@wikicfp.com
END:VEVENT
BEGIN:VEVENT
DTSTAMP:20260424T000342Z
DTSTART;VALUE=DATE:20140602
DTEND;VALUE=DATE:20140605
SUMMARY:WIMS 2014
DESCRIPTION:4th International Conference on Web Intelligence\, Mining and
  Semantics
URL:http://www.wikicfp.com/cfp/servlet/event.showcfp?eventid=32493&copyow
 nerid=28742
UID:cfp388844-E@wikicfp.com
END:VEVENT
BEGIN:VEVENT
DTSTAMP:20260424T000342Z
DTSTART;VALUE=DATE:20131209
SUMMARY:WIMS 2014 Deadline
DESCRIPTION:4th International Conference on Web Intelligence\, Mining and
  Semantics
URL:http://www.wikicfp.com/cfp/servlet/event.showcfp?eventid=32493&copyow
 nerid=28742
UID:cfp388844-D@wikicfp.com
END:VEVENT
BEGIN:VEVENT
DTSTAMP:20260424T000342Z
DTSTART;VALUE=DATE:20140124
SUMMARY:WIMS 2014 Notification Due
DESCRIPTION:4th International Conference on Web Intelligence\, Mining and
  Semantics
URL:http://www.wikicfp.com/cfp/servlet/event.showcfp?eventid=32493&copyow
 nerid=28742
UID:cfp388844-N@wikicfp.com
END:VEVENT
BEGIN:VEVENT
DTSTAMP:20260424T000342Z
DTSTART;VALUE=DATE:20140224
SUMMARY:WIMS 2014 Final Version Due
DESCRIPTION:4th International Conference on Web Intelligence\, Mining and
  Semantics
URL:http://www.wikicfp.com/cfp/servlet/event.showcfp?eventid=32493&copyow
 nerid=28742
UID:cfp388844-N@wikicfp.com
END:VEVENT
BEGIN:VEVENT
DTSTAMP:20260424T000342Z
DTSTART;VALUE=DATE:20140407
DTEND;VALUE=DATE:20140412
SUMMARY:WebScience 2014
DESCRIPTION:WWW2014 WebScience track
URL:http://www.wikicfp.com/cfp/servlet/event.showcfp?eventid=34233&copyow
 nerid=28742
UID:cfp406168-E@wikicfp.com
END:VEVENT
BEGIN:VEVENT
DTSTAMP:20260424T000342Z
DTSTART;VALUE=DATE:20131216
SUMMARY:WebScience 2014 Deadline
DESCRIPTION:WWW2014 WebScience track
URL:http://www.wikicfp.com/cfp/servlet/event.showcfp?eventid=34233&copyow
 nerid=28742
UID:cfp406168-D@wikicfp.com
END:VEVENT
BEGIN:VEVENT
DTSTAMP:20260424T000342Z
DTSTART;VALUE=DATE:20140127
SUMMARY:WebScience 2014 Notification Due
DESCRIPTION:WWW2014 WebScience track
URL:http://www.wikicfp.com/cfp/servlet/event.showcfp?eventid=34233&copyow
 nerid=28742
UID:cfp406168-N@wikicfp.com
END:VEVENT
BEGIN:VEVENT
DTSTAMP:20260424T000342Z
DTSTART;VALUE=DATE:20140707
DTEND;VALUE=DATE:20140712
SUMMARY:UMAP 2014
DESCRIPTION:The 22nd International Conference on User Modelling\, Adaptat
 ion\, and Personalization
URL:http://www.wikicfp.com/cfp/servlet/event.showcfp?eventid=32901&copyow
 nerid=28742
UID:cfp401111-E@wikicfp.com
END:VEVENT
BEGIN:VEVENT
DTSTAMP:20260424T000342Z
DTSTART;VALUE=DATE:20140127
SUMMARY:UMAP 2014 Abstract Due
DESCRIPTION:The 22nd International Conference on User Modelling\, Adaptat
 ion\, and Personalization
URL:http://www.wikicfp.com/cfp/servlet/event.showcfp?eventid=32901&copyow
 nerid=28742
UID:cfp401111-A@wikicfp.com
END:VEVENT
BEGIN:VEVENT
DTSTAMP:20260424T000342Z
DTSTART;VALUE=DATE:20140203
SUMMARY:UMAP 2014 Deadline
DESCRIPTION:The 22nd International Conference on User Modelling\, Adaptat
 ion\, and Personalization
URL:http://www.wikicfp.com/cfp/servlet/event.showcfp?eventid=32901&copyow
 nerid=28742
UID:cfp401111-D@wikicfp.com
END:VEVENT
BEGIN:VEVENT
DTSTAMP:20260424T000342Z
DTSTART;VALUE=DATE:20140324
SUMMARY:UMAP 2014 Notification Due
DESCRIPTION:The 22nd International Conference on User Modelling\, Adaptat
 ion\, and Personalization
URL:http://www.wikicfp.com/cfp/servlet/event.showcfp?eventid=32901&copyow
 nerid=28742
UID:cfp401111-N@wikicfp.com
END:VEVENT
BEGIN:VEVENT
DTSTAMP:20260424T000342Z
DTSTART;VALUE=DATE:20140414
SUMMARY:UMAP 2014 Final Version Due
DESCRIPTION:The 22nd International Conference on User Modelling\, Adaptat
 ion\, and Personalization
URL:http://www.wikicfp.com/cfp/servlet/event.showcfp?eventid=32901&copyow
 nerid=28742
UID:cfp401111-N@wikicfp.com
END:VEVENT
BEGIN:VEVENT
DTSTAMP:20260424T000342Z
DTSTART;VALUE=DATE:20141109
DTEND;VALUE=DATE:20141113
SUMMARY:GROUP 2014
DESCRIPTION:International ACM Conference on Supporting Groupwork
URL:http://www.wikicfp.com/cfp/servlet/event.showcfp?eventid=32969&copyow
 nerid=28742
UID:cfp388838-E@wikicfp.com
END:VEVENT
BEGIN:VEVENT
DTSTAMP:20260424T000342Z
DTSTART;VALUE=DATE:20140213
SUMMARY:GROUP 2014 Deadline
DESCRIPTION:International ACM Conference on Supporting Groupwork
URL:http://www.wikicfp.com/cfp/servlet/event.showcfp?eventid=32969&copyow
 nerid=28742
UID:cfp388838-D@wikicfp.com
END:VEVENT
BEGIN:VEVENT
DTSTAMP:20260424T000342Z
DTSTART;VALUE=DATE:20140425
SUMMARY:GROUP 2014 Notification Due
DESCRIPTION:International ACM Conference on Supporting Groupwork
URL:http://www.wikicfp.com/cfp/servlet/event.showcfp?eventid=32969&copyow
 nerid=28742
UID:cfp388838-N@wikicfp.com
END:VEVENT
BEGIN:VEVENT
DTSTAMP:20260424T000342Z
DTSTART;VALUE=DATE:20140824
DTEND;VALUE=DATE:20140828
SUMMARY:KDD 2014
DESCRIPTION:20th ACM SIGKDD Conference on Knowledge Discovery and Data Mi
 ning
URL:http://www.wikicfp.com/cfp/servlet/event.showcfp?eventid=32283&copyow
 nerid=28742
UID:cfp388842-E@wikicfp.com
END:VEVENT
BEGIN:VEVENT
DTSTAMP:20260424T000342Z
DTSTART;VALUE=DATE:20140213
SUMMARY:KDD 2014 Abstract Due
DESCRIPTION:20th ACM SIGKDD Conference on Knowledge Discovery and Data Mi
 ning
URL:http://www.wikicfp.com/cfp/servlet/event.showcfp?eventid=32283&copyow
 nerid=28742
UID:cfp388842-A@wikicfp.com
END:VEVENT
BEGIN:VEVENT
DTSTAMP:20260424T000342Z
DTSTART;VALUE=DATE:20140221
SUMMARY:KDD 2014 Deadline
DESCRIPTION:20th ACM SIGKDD Conference on Knowledge Discovery and Data Mi
 ning
URL:http://www.wikicfp.com/cfp/servlet/event.showcfp?eventid=32283&copyow
 nerid=28742
UID:cfp388842-D@wikicfp.com
END:VEVENT
BEGIN:VEVENT
DTSTAMP:20260424T000342Z
DTSTART;VALUE=DATE:20140512
SUMMARY:KDD 2014 Notification Due
DESCRIPTION:20th ACM SIGKDD Conference on Knowledge Discovery and Data Mi
 ning
URL:http://www.wikicfp.com/cfp/servlet/event.showcfp?eventid=32283&copyow
 nerid=28742
UID:cfp388842-N@wikicfp.com
END:VEVENT
BEGIN:VEVENT
DTSTAMP:20260424T000342Z
DTSTART;VALUE=DATE:20140704
DTEND;VALUE=DATE:20140708
SUMMARY:EDM 2014
DESCRIPTION:Educational Data Mining
URL:http://www.wikicfp.com/cfp/servlet/event.showcfp?eventid=33247&copyow
 nerid=28742
UID:cfp401110-E@wikicfp.com
END:VEVENT
BEGIN:VEVENT
DTSTAMP:20260424T000342Z
DTSTART;VALUE=DATE:20140217
SUMMARY:EDM 2014 Abstract Due
DESCRIPTION:Educational Data Mining
URL:http://www.wikicfp.com/cfp/servlet/event.showcfp?eventid=33247&copyow
 nerid=28742
UID:cfp401110-A@wikicfp.com
END:VEVENT
BEGIN:VEVENT
DTSTAMP:20260424T000342Z
DTSTART;VALUE=DATE:20140224
SUMMARY:EDM 2014 Deadline
DESCRIPTION:Educational Data Mining
URL:http://www.wikicfp.com/cfp/servlet/event.showcfp?eventid=33247&copyow
 nerid=28742
UID:cfp401110-D@wikicfp.com
END:VEVENT
BEGIN:VEVENT
DTSTAMP:20260424T000342Z
DTSTART;VALUE=DATE:20140404
SUMMARY:EDM 2014 Notification Due
DESCRIPTION:Educational Data Mining
URL:http://www.wikicfp.com/cfp/servlet/event.showcfp?eventid=33247&copyow
 nerid=28742
UID:cfp401110-N@wikicfp.com
END:VEVENT
BEGIN:VEVENT
DTSTAMP:20260424T000342Z
DTSTART;VALUE=DATE:20141026
DTEND;VALUE=DATE:20141031
SUMMARY:NordiCHI 2014
DESCRIPTION:8th Nordic Conference on Human-Computer Interaction
URL:http://www.wikicfp.com/cfp/servlet/event.showcfp?eventid=29167&copyow
 nerid=28742
UID:cfp388841-E@wikicfp.com
END:VEVENT
BEGIN:VEVENT
DTSTAMP:20260424T000342Z
DTSTART;VALUE=DATE:20140424
SUMMARY:NordiCHI 2014 Deadline
DESCRIPTION:8th Nordic Conference on Human-Computer Interaction
URL:http://www.wikicfp.com/cfp/servlet/event.showcfp?eventid=29167&copyow
 nerid=28742
UID:cfp388841-D@wikicfp.com
END:VEVENT
BEGIN:VEVENT
DTSTAMP:20260424T000342Z
DTSTART;VALUE=DATE:20140814
DTEND;VALUE=DATE:20140816
SUMMARY:MHCI 2014
DESCRIPTION:2nd International Conference on Multimedia and Human-Computer
  Interaction
URL:http://www.wikicfp.com/cfp/servlet/event.showcfp?eventid=32996&copyow
 nerid=28742
UID:cfp388836-E@wikicfp.com
END:VEVENT
BEGIN:VEVENT
DTSTAMP:20260424T000342Z
DTSTART;VALUE=DATE:20140501
SUMMARY:MHCI 2014 Deadline
DESCRIPTION:2nd International Conference on Multimedia and Human-Computer
  Interaction
URL:http://www.wikicfp.com/cfp/servlet/event.showcfp?eventid=32996&copyow
 nerid=28742
UID:cfp388836-D@wikicfp.com
END:VEVENT
BEGIN:VEVENT
DTSTAMP:20260424T000342Z
DTSTART;VALUE=DATE:20140515
SUMMARY:MHCI 2014 Notification Due
DESCRIPTION:2nd International Conference on Multimedia and Human-Computer
  Interaction
URL:http://www.wikicfp.com/cfp/servlet/event.showcfp?eventid=32996&copyow
 nerid=28742
UID:cfp388836-N@wikicfp.com
END:VEVENT
BEGIN:VEVENT
DTSTAMP:20260424T000342Z
DTSTART;VALUE=DATE:20140601
SUMMARY:MHCI 2014 Final Version Due
DESCRIPTION:2nd International Conference on Multimedia and Human-Computer
  Interaction
URL:http://www.wikicfp.com/cfp/servlet/event.showcfp?eventid=32996&copyow
 nerid=28742
UID:cfp388836-N@wikicfp.com
END:VEVENT
END:VCALENDAR
